BEGIN:VCALENDAR
VERSION:2.0
PRODID:-//Laramie Events - ECPv6.15.17.1//NONSGML v1.0//EN
CALSCALE:GREGORIAN
METHOD:PUBLISH
X-WR-CALNAME:Laramie Events
X-ORIGINAL-URL:https://laramieevents.com
X-WR-CALDESC:Events for Laramie Events
REFRESH-INTERVAL;VALUE=DURATION:PT1H
X-Robots-Tag:noindex
X-PUBLISHED-TTL:PT1H
BEGIN:VTIMEZONE
TZID:America/Denver
BEGIN:DAYLIGHT
TZOFFSETFROM:-0700
TZOFFSETTO:-0600
TZNAME:MDT
DTSTART:20240310T090000
END:DAYLIGHT
BEGIN:STANDARD
TZOFFSETFROM:-0600
TZOFFSETTO:-0700
TZNAME:MST
DTSTART:20241103T080000
END:STANDARD
BEGIN:DAYLIGHT
TZOFFSETFROM:-0700
TZOFFSETTO:-0600
TZNAME:MDT
DTSTART:20250309T090000
END:DAYLIGHT
BEGIN:STANDARD
TZOFFSETFROM:-0600
TZOFFSETTO:-0700
TZNAME:MST
DTSTART:20251102T080000
END:STANDARD
BEGIN:DAYLIGHT
TZOFFSETFROM:-0700
TZOFFSETTO:-0600
TZNAME:MDT
DTSTART:20260308T090000
END:DAYLIGHT
BEGIN:STANDARD
TZOFFSETFROM:-0600
TZOFFSETTO:-0700
TZNAME:MST
DTSTART:20261101T080000
END:STANDARD
END:VTIMEZONE
BEGIN:VEVENT
DTSTART;TZID=America/Denver:20250428T180000
DTEND;TZID=America/Denver:20250428T190000
DTSTAMP:20260424T085506
CREATED:20250423T222654Z
LAST-MODIFIED:20250423T222654Z
UID:10003602-1745863200-1745866800@laramieevents.com
SUMMARY:Free Film Showing: Heart Mountain Voices Connecting Communities with Digital Stories
DESCRIPTION:Experience the inspiring connection between the Apsáalooke Nation and Japanese Americans at Heart Mountain through a powerful short film. \nStick around after the film for a lively panel conversation with the storytellers! \nPizza and Drinks provided!
URL:https://laramieevents.com/event/free-film-showing-heart-mountain-voices-connecting-communities-with-digital-stories/
LOCATION:University of Wyoming Buisness Building Scarlett Auditorium\, 1499-1401 E Ivinson Ave\, Laramie\, WY\, 82070\, United States
END:VEVENT
END:VCALENDAR