BEGIN:VCALENDAR
VERSION:2.0
PRODID:-//Laramie Events - ECPv6.15.17.1//NONSGML v1.0//EN
CALSCALE:GREGORIAN
METHOD:PUBLISH
X-WR-CALNAME:Laramie Events
X-ORIGINAL-URL:https://laramieevents.com
X-WR-CALDESC:Events for Laramie Events
REFRESH-INTERVAL;VALUE=DURATION:PT1H
X-Robots-Tag:noindex
X-PUBLISHED-TTL:PT1H
BEGIN:VTIMEZONE
TZID:America/Denver
BEGIN:DAYLIGHT
TZOFFSETFROM:-0700
TZOFFSETTO:-0600
TZNAME:MDT
DTSTART:20240310T090000
END:DAYLIGHT
BEGIN:STANDARD
TZOFFSETFROM:-0600
TZOFFSETTO:-0700
TZNAME:MST
DTSTART:20241103T080000
END:STANDARD
BEGIN:DAYLIGHT
TZOFFSETFROM:-0700
TZOFFSETTO:-0600
TZNAME:MDT
DTSTART:20250309T090000
END:DAYLIGHT
BEGIN:STANDARD
TZOFFSETFROM:-0600
TZOFFSETTO:-0700
TZNAME:MST
DTSTART:20251102T080000
END:STANDARD
BEGIN:DAYLIGHT
TZOFFSETFROM:-0700
TZOFFSETTO:-0600
TZNAME:MDT
DTSTART:20260308T090000
END:DAYLIGHT
BEGIN:STANDARD
TZOFFSETFROM:-0600
TZOFFSETTO:-0700
TZNAME:MST
DTSTART:20261101T080000
END:STANDARD
END:VTIMEZONE
BEGIN:VEVENT
DTSTART;TZID=America/Denver:20250208T100000
DTEND;TZID=America/Denver:20250208T140000
DTSTAMP:20260424T003046
CREATED:20250404T155103Z
LAST-MODIFIED:20250404T155103Z
UID:10003291-1739008800-1739023200@laramieevents.com
SUMMARY:40th Annual Chocolate Fiesta
DESCRIPTION:40th Annual Chocolate Fiesta. All things chocolate for sale to enjoy – just in time for Valentine’s Day! Candy\, cupcakes\, cakes\, cookies\, muffins\, pies\, fudge and much more. Proceeds benefit the League of Women Voters of Laramie for voter services and education.
URL:https://laramieevents.com/event/40th-annual-chocolate-fiesta/
LOCATION:Unitarian Universalist Fellowship\, 1402 Gibbon St\, Laramie\, 82072\, United States
CATEGORIES:Family,Food,Fundraiser
ATTACH;FMTTYPE=image/jpeg:https://laramieevents.com/wp-content/uploads/sites/3/2025/01/Chocolate-Fiesta-2025-JPEG.jpg
ORGANIZER;CN="Unitarian Universalist Fellowship":MAILTO:uularamie@gmail.com
END:VEVENT
END:VCALENDAR