BEGIN:VCALENDAR
VERSION:2.0
PRODID:-//Laramie Events - ECPv6.15.17.1//NONSGML v1.0//EN
CALSCALE:GREGORIAN
METHOD:PUBLISH
X-WR-CALNAME:Laramie Events
X-ORIGINAL-URL:https://laramieevents.com
X-WR-CALDESC:Events for Laramie Events
REFRESH-INTERVAL;VALUE=DURATION:PT1H
X-Robots-Tag:noindex
X-PUBLISHED-TTL:PT1H
BEGIN:VTIMEZONE
TZID:America/Denver
BEGIN:DAYLIGHT
TZOFFSETFROM:-0700
TZOFFSETTO:-0600
TZNAME:MDT
DTSTART:20250309T090000
END:DAYLIGHT
BEGIN:STANDARD
TZOFFSETFROM:-0600
TZOFFSETTO:-0700
TZNAME:MST
DTSTART:20251102T080000
END:STANDARD
BEGIN:DAYLIGHT
TZOFFSETFROM:-0700
TZOFFSETTO:-0600
TZNAME:MDT
DTSTART:20260308T090000
END:DAYLIGHT
BEGIN:STANDARD
TZOFFSETFROM:-0600
TZOFFSETTO:-0700
TZNAME:MST
DTSTART:20261101T080000
END:STANDARD
BEGIN:DAYLIGHT
TZOFFSETFROM:-0700
TZOFFSETTO:-0600
TZNAME:MDT
DTSTART:20270314T090000
END:DAYLIGHT
BEGIN:STANDARD
TZOFFSETFROM:-0600
TZOFFSETTO:-0700
TZNAME:MST
DTSTART:20271107T080000
END:STANDARD
END:VTIMEZONE
BEGIN:VEVENT
DTSTART;TZID=America/Denver:20260428T200000
DTEND;TZID=America/Denver:20260428T220000
DTSTAMP:20260423T144119
CREATED:20260121T183157Z
LAST-MODIFIED:20260121T183157Z
UID:10007786-1777406400-1777413600@laramieevents.com
SUMMARY:Bryan Bielanski Live @ The Great Untamed
DESCRIPTION:Singer-songwriter Bryan Bielanski has audiences smiling all over the world with his catchy songs and relentless touring. Although Bryan Bielanski is inspired by good old rock and folk music\, he has his own unique style that sounds instantly familiar yet excitingly fresh at the same time. Bryan Bielanski has performed over 2000 shows (including 311 shows performed in 2025 alone) in Alabama\, Arizona\, Arkansas\, Austria\, Belgium\, Bulgaria\, California\, China\, Colorado\, Connecticut\, Costa Rica\, Croatia\, Czech Republic\, Delaware\, Denmark\, District of Columbia\, Finland\, Florida\, France\, Georgia\, Germany\, Greece\, Hawaii\, Hungary\, Idaho\, Illinois\, Indiana\, Iowa\, Italy\, Kansas\, Kentucky\, Latvia\, Louisiana\, Luxembourg\, Maine\, Maryland\, Massachusetts\, Mexico\, Michigan\, Minnesota\, Mississippi\, Missouri\, Montana\, Nebraska\, Netherlands\, Nevada\, New Brunswick\, New Hampshire\, New Jersey\, New Mexico\, New York\, North Carolina\, North Dakota\, Nova Scotia\, Ohio\, Oklahoma\, Ontario\, Oregon\, Pennsylvania\, Poland\, Portugal\, Prince Edward Island\, Quebec\, Rhode Island\, Russia\, Slovenia\, South Carolina\, South Dakota\, Spain\, Sweden\, Switzerland\, Tennessee\, Texas\, Thailand\, United Kingdom\, Utah\, Vermont\, Virginia\, Washington\, West Virginia\, Wisconsin and Wyoming. One listen to his music and you will see why concert-goers and music critics worldwide agree that Bryan Bielanski lives up to his album name: “Bryan’s Super Happy Fun Time”!
URL:https://laramieevents.com/event/bryan-bielanski-live-the-great-untamed/
LOCATION:The Great Untamed\, 209 S 3rd St\, Laramie\, WY\, 82070\, United States
CATEGORIES:Live Music
ATTACH;FMTTYPE=image/png:https://laramieevents.com/wp-content/uploads/sites/3/2026/01/Z-BANDSINTOWN-1.png
ORGANIZER;CN="Bryan Bielanski":MAILTO:bryanbielanskimusic@gmail.com
END:VEVENT
END:VCALENDAR