BEGIN:VCALENDAR
VERSION:2.0
PRODID:-//Laramie Events - ECPv6.15.17.1//NONSGML v1.0//EN
CALSCALE:GREGORIAN
METHOD:PUBLISH
X-WR-CALNAME:Laramie Events
X-ORIGINAL-URL:https://laramieevents.com
X-WR-CALDESC:Events for Laramie Events
REFRESH-INTERVAL;VALUE=DURATION:PT1H
X-Robots-Tag:noindex
X-PUBLISHED-TTL:PT1H
BEGIN:VTIMEZONE
TZID:America/Denver
BEGIN:DAYLIGHT
TZOFFSETFROM:-0700
TZOFFSETTO:-0600
TZNAME:MDT
DTSTART:20240310T090000
END:DAYLIGHT
BEGIN:STANDARD
TZOFFSETFROM:-0600
TZOFFSETTO:-0700
TZNAME:MST
DTSTART:20241103T080000
END:STANDARD
BEGIN:DAYLIGHT
TZOFFSETFROM:-0700
TZOFFSETTO:-0600
TZNAME:MDT
DTSTART:20250309T090000
END:DAYLIGHT
BEGIN:STANDARD
TZOFFSETFROM:-0600
TZOFFSETTO:-0700
TZNAME:MST
DTSTART:20251102T080000
END:STANDARD
BEGIN:DAYLIGHT
TZOFFSETFROM:-0700
TZOFFSETTO:-0600
TZNAME:MDT
DTSTART:20260308T090000
END:DAYLIGHT
BEGIN:STANDARD
TZOFFSETFROM:-0600
TZOFFSETTO:-0700
TZNAME:MST
DTSTART:20261101T080000
END:STANDARD
END:VTIMEZONE
BEGIN:VEVENT
DTSTART;TZID=America/Denver:20251004T200000
DTEND;TZID=America/Denver:20251004T230000
DTSTAMP:20260423T163517
CREATED:20250815T155624Z
LAST-MODIFIED:20250815T155624Z
UID:10004030-1759608000-1759618800@laramieevents.com
SUMMARY:Ethan J Perry Skeleton Crew Tour 2025
DESCRIPTION:Boulder-based artist Ethan J. Perry performs solo acoustic shows featuring introspective and genre-blending music that promises an intimate\, heartfelt experience.
URL:https://laramieevents.com/event/ethan-j-perry-skeleton-crew-tour-2025/
LOCATION:The Great Untamed\, 209 S 3rd St\, Laramie\, WY\, 82070\, United States
CATEGORIES:Live Music
ATTACH;FMTTYPE=image/jpeg:https://laramieevents.com/wp-content/uploads/sites/3/2025/08/image_6487327-2.jpg
END:VEVENT
BEGIN:VEVENT
DTSTART;TZID=America/Denver:20250215T193000
DTEND;TZID=America/Denver:20250215T210000
DTSTAMP:20260423T163517
CREATED:20250404T155103Z
LAST-MODIFIED:20250404T155103Z
UID:10003293-1739647800-1739653200@laramieevents.com
SUMMARY:Stand-Up Comedy - Waiting for the Thaw
DESCRIPTION:WAITING FOR THE THAW – A STAND-UP COMEDY SHOWCASE\nIt’s Comedy Night at The Great Untamed! Featuring some of Wyoming & Montana’s finest laughmakers\, Kyle Kulseth\, Charlie “of Doom\,” Clark Harkin\, Zane Bible & Aaron King!\n21+\nKYLE KULSETH (Bozeman\, MT)A self-described “low-rent cryptid\,” Kyle Kulseth makes a habit of traversing the U.S. and Canada\, effortlessly blending oddball observation with self-deprecating storytelling\, delivering wit and energy the whole time. He has worked with such comedy names as Matt Braunger\, Erica Rhodes and Sean Patton\, and he has appeared on the annual Altercation Comedy Festival in Austin\, TX.\nCHARLIE “OF DOOM” (Bozeman\, MT)Charlie “of Doom” has been peddling his particular brand of raw\, raunchy\, energetic humor all across The Treasure State for several years\, expounding uniquely on such diverse topics as depression\, professional wrestling and what viking raiders really would have sounded like. He has worked with Derek Sheen and Ben Roy.\nCLARK HARKIN (Laramie\, WY)\nLocal favorite\, Clark Harkin\, is a nonbinary comic out of Laramie\, WY. Their comedy mixes empathy\, absurdism\, and a little rage. They started the comedy open mic at their local dive bar\, The Ruffed Up Duck\, and have performed throughout Wyoming\, Colorado\, and New Mexico. Clark has shared the stage with comics such as Brandt Tobler and Kyle Kinane.\nAARON KING (Laramie\, WY)\nAaron King is America’s hot new heartthrob comic proven by all his friends he shares the stage with. Aaron has opened for Brandt Tobler and Clark Harkin and he’s shared the stage with many others at his home\, The Ruffed Up Duck in Laramie Wyoming\, where he pays no rent to sleep on the floor when it’s closed\, and behind the bar when it’s open.\nZANE BIBLE (Laramie\, WY)Zane Bible is a Wyoming based comedian who splits his stage time between Laramie\, WY. and Fort Collins\, CO. developing his unique style of irreverent observational humor at open mics and showcases. He is a regular co-host of Laramie’s local open mic and has appeared alongside comedians Aaron Benjamin and Evan Joe.
URL:https://laramieevents.com/event/stand-up-comedy-waiting-for-the-thaw/
LOCATION:The Great Untamed\, 209 S 3rd St\, Laramie\, WY\, 82070\, United States
ATTACH;FMTTYPE=image/jpeg:https://laramieevents.com/wp-content/uploads/sites/3/2025/01/3.-WFtT_Laramie_Feb_15.jpg
END:VEVENT
END:VCALENDAR