BEGIN:VCALENDAR
VERSION:2.0
PRODID:-//Laramie Events - ECPv6.15.17.1//NONSGML v1.0//EN
CALSCALE:GREGORIAN
METHOD:PUBLISH
X-WR-CALNAME:Laramie Events
X-ORIGINAL-URL:https://laramieevents.com
X-WR-CALDESC:Events for Laramie Events
REFRESH-INTERVAL;VALUE=DURATION:PT1H
X-Robots-Tag:noindex
X-PUBLISHED-TTL:PT1H
BEGIN:VTIMEZONE
TZID:America/Denver
BEGIN:DAYLIGHT
TZOFFSETFROM:-0700
TZOFFSETTO:-0600
TZNAME:MDT
DTSTART:20230312T090000
END:DAYLIGHT
BEGIN:STANDARD
TZOFFSETFROM:-0600
TZOFFSETTO:-0700
TZNAME:MST
DTSTART:20231105T080000
END:STANDARD
BEGIN:DAYLIGHT
TZOFFSETFROM:-0700
TZOFFSETTO:-0600
TZNAME:MDT
DTSTART:20240310T090000
END:DAYLIGHT
BEGIN:STANDARD
TZOFFSETFROM:-0600
TZOFFSETTO:-0700
TZNAME:MST
DTSTART:20241103T080000
END:STANDARD
BEGIN:DAYLIGHT
TZOFFSETFROM:-0700
TZOFFSETTO:-0600
TZNAME:MDT
DTSTART:20250309T090000
END:DAYLIGHT
BEGIN:STANDARD
TZOFFSETFROM:-0600
TZOFFSETTO:-0700
TZNAME:MST
DTSTART:20251102T080000
END:STANDARD
END:VTIMEZONE
BEGIN:VEVENT
DTSTART;TZID=America/Denver:20240427T100000
DTEND;TZID=America/Denver:20240428T120000
DTSTAMP:20260423T235611
CREATED:20240327T154824Z
LAST-MODIFIED:20240327T154824Z
UID:10000870-1714212000-1714305600@laramieevents.com
SUMMARY:Journey Within Retreat
DESCRIPTION:April 27-28\, 2024 \nThe Journey Within is an Overnight Retreat in a remote scenic setting at Curt Gowdy State Park in Wyoming. \nJoin Theresa Chavez\, Marla Petersen\, and Sarah Stepans for an introduction to energy work – including journey work\, breathwork\, vibrational sound healing and more! \nThe Journey Within will allow you to form a Deeper Connection to Self\, Rest and Restore. Connect with nature\, have an opportunity for energetic spring cleaning\, and connect with like-minded souls. \nEveryone is welcome\, come as you are!! \nInvestment: $444 (payment plans available) \n$111 – non-refundable\, but transferable due at time of registration. \nMore information and scholarship applications are found here.
URL:https://laramieevents.com/event/journey-within-retreat/
LOCATION:The Collective\, 100 S 2nd St\, Laramie\, WY\, United States
ATTACH;FMTTYPE=image/jpeg:https://laramieevents.com/wp-content/uploads/sites/3/2024/03/Within-Real-Estate-Flyer.jpg
ORGANIZER;CN="The Collective - Center for the Healing Arts":MAILTO:hello@thecollectivelaramie.com
END:VEVENT
BEGIN:VEVENT
DTSTART;TZID=America/Denver:20240415T173000
DTEND;TZID=America/Denver:20240415T193000
DTSTAMP:20260423T235611
CREATED:20240327T154612Z
LAST-MODIFIED:20240327T154612Z
UID:10000867-1713202200-1713209400@laramieevents.com
SUMMARY:Chocolate\, Chats & Chai
DESCRIPTION:Save The Date – April 15th from 5:30pm-7:30pm at The Collective in Laramie WY – 100 S 2nd Street. \nEVERYONE IS WELCOME!!\nPlease join us for an evening of community-building! Let’s find out what’s happening in the community and meet some really wonderful people. The intention of this meet-and-greet is to share\, collaborate\, and explore all possibilities of the Healing Arts in Laramie. \nThis is open to everyone! The general public\, individuals seeking providers and practitioners of the Healing Arts – ALL welcome!\nBring your appetite for Chocolate and Chai (tea)!
URL:https://laramieevents.com/event/chocolate-chats-chai/
LOCATION:The Collective\, 100 S 2nd St\, Laramie\, WY\, United States
ATTACH;FMTTYPE=image/jpeg:https://laramieevents.com/wp-content/uploads/sites/3/2024/03/Embodiment-Retreat-8.5-×-11-in-Instagram-Story-Instagram-Post-Square-2.jpg
ORGANIZER;CN="The Collective - Center for the Healing Arts":MAILTO:hello@thecollectivelaramie.com
END:VEVENT
BEGIN:VEVENT
DTSTART;TZID=America/Denver:20240406T100000
DTEND;TZID=America/Denver:20240406T140000
DTSTAMP:20260423T235611
CREATED:20240327T154805Z
LAST-MODIFIED:20240327T154805Z
UID:10000869-1712397600-1712412000@laramieevents.com
SUMMARY:Holistic Healing Sessions
DESCRIPTION:Saturday April 6th \nHolistic Healing Sessions of the Month\nInvestment: 30 minutes for $40 \nTheresa is offering this month’s Sound Healing session is the Orchid Session. This sessions aids in removing stress\, giving peace\, and relieving depression symptoms. \nSarah is here to guide you through a Breathwork & Reiki Session. Your session is always unique to what you need when she holds space for you. Sarah is offering this session either in-person or virtually. \nMarla offers energy work sessions and healings that incorporate all of her studies and interests. She also offers home clearings. Healing sessions and home clearings are available in person and remotely. \nYou can save when you book a session of the month with two or more practitioners by typing in “magic” during checkout.
URL:https://laramieevents.com/event/holistic-healing-sessions/
LOCATION:The Collective\, 100 S 2nd St\, Laramie\, WY\, United States
ATTACH;FMTTYPE=image/jpeg:https://laramieevents.com/wp-content/uploads/sites/3/2024/03/Collaboration-Ideas-5.jpg
ORGANIZER;CN="Flowering Journey Wellness":MAILTO:floweringjourney@yahoo.com
END:VEVENT
BEGIN:VEVENT
DTSTART;TZID=America/Denver:20240331T190000
DTEND;TZID=America/Denver:20240331T200000
DTSTAMP:20260423T235611
CREATED:20240327T154741Z
LAST-MODIFIED:20240327T154741Z
UID:10000868-1711911600-1711915200@laramieevents.com
SUMMARY:Yoga NidraSound Healing
DESCRIPTION:Join us for a yoga nidra meditation followed by a vibrational sound healing session. You will be invited to create an intention for our time together.
URL:https://laramieevents.com/event/yoga-nidrasound-healing/
LOCATION:The Collective\, 100 S 2nd St\, Laramie\, WY\, United States
ATTACH;FMTTYPE=image/jpeg:https://laramieevents.com/wp-content/uploads/sites/3/2024/03/Moon-1200-x-1200-px-4.jpg
ORGANIZER;CN="Flowering Journey Wellness":MAILTO:floweringjourney@yahoo.com
END:VEVENT
BEGIN:VEVENT
DTSTART;TZID=America/Denver:20240210T100000
DTEND;TZID=America/Denver:20240210T160000
DTSTAMP:20260423T235611
CREATED:20240209T165033Z
LAST-MODIFIED:20240209T165033Z
UID:10000837-1707559200-1707580800@laramieevents.com
SUMMARY:Valentine’s PopUp Market
DESCRIPTION:A pop up market with uniques gifts made by local artists and makers\, just in time for Valentine’s Day.
URL:https://laramieevents.com/event/valentines-popup-market/
LOCATION:The Collective\, 100 S 2nd St\, Laramie\, WY\, United States
ATTACH;FMTTYPE=image/jpeg:https://laramieevents.com/wp-content/uploads/sites/3/2024/02/6F9F48FB-FEC6-4B01-9275-B211ED9F7226.jpeg
END:VEVENT
END:VCALENDAR