BEGIN:VCALENDAR
VERSION:2.0
PRODID:-//Laramie Events - ECPv6.15.17.1//NONSGML v1.0//EN
CALSCALE:GREGORIAN
METHOD:PUBLISH
X-ORIGINAL-URL:https://laramieevents.com
X-WR-CALDESC:Events for Laramie Events
REFRESH-INTERVAL;VALUE=DURATION:PT1H
X-Robots-Tag:noindex
X-PUBLISHED-TTL:PT1H
BEGIN:VTIMEZONE
TZID:America/Denver
BEGIN:DAYLIGHT
TZOFFSETFROM:-0700
TZOFFSETTO:-0600
TZNAME:MDT
DTSTART:20220313T090000
END:DAYLIGHT
BEGIN:STANDARD
TZOFFSETFROM:-0600
TZOFFSETTO:-0700
TZNAME:MST
DTSTART:20221106T080000
END:STANDARD
BEGIN:DAYLIGHT
TZOFFSETFROM:-0700
TZOFFSETTO:-0600
TZNAME:MDT
DTSTART:20230312T090000
END:DAYLIGHT
BEGIN:STANDARD
TZOFFSETFROM:-0600
TZOFFSETTO:-0700
TZNAME:MST
DTSTART:20231105T080000
END:STANDARD
BEGIN:DAYLIGHT
TZOFFSETFROM:-0700
TZOFFSETTO:-0600
TZNAME:MDT
DTSTART:20240310T090000
END:DAYLIGHT
BEGIN:STANDARD
TZOFFSETFROM:-0600
TZOFFSETTO:-0700
TZNAME:MST
DTSTART:20241103T080000
END:STANDARD
END:VTIMEZONE
BEGIN:VEVENT
DTSTART;TZID=America/Denver:20230909T090000
DTEND;TZID=America/Denver:20230909T110000
DTSTAMP:20260424T040732
CREATED:20230818T194631Z
LAST-MODIFIED:20230818T194631Z
UID:10000141-1694250000-1694257200@laramieevents.com
SUMMARY:Cowboy Breakfast at Ivinson
DESCRIPTION:Ivinson is proud to host the Third Annual Cowboy Breakfast! \nCowboy Breakfast at Ivinson is a community tailgate-style event before the UW Football game  on September 9\, 2023 from 9am–11am\, hosted in our west parking lot.\nJoin us for breakfast \, coffee from the Human Bean \, free UW shirts and swag\, as well as family games and activities
URL:https://laramieevents.com/event/cowboy-breakfast-at-ivinson/
LOCATION:Ivinson Memorial Hospital\, 255 N 30th Street\, Laramie\, WY\, 82070\, United States
CATEGORIES:Kid Friendly
ATTACH;FMTTYPE=image/jpeg:https://laramieevents.com/wp-content/uploads/sites/3/2023/08/366979773_707389234734821_3123759875698978572_n.jpg
END:VEVENT
END:VCALENDAR