BEGIN:VCALENDAR
VERSION:2.0
PRODID:-//Laramie Events - ECPv6.15.17.1//NONSGML v1.0//EN
CALSCALE:GREGORIAN
METHOD:PUBLISH
X-WR-CALNAME:Laramie Events
X-ORIGINAL-URL:https://laramieevents.com
X-WR-CALDESC:Events for Laramie Events
REFRESH-INTERVAL;VALUE=DURATION:PT1H
X-Robots-Tag:noindex
X-PUBLISHED-TTL:PT1H
BEGIN:VTIMEZONE
TZID:America/Denver
BEGIN:DAYLIGHT
TZOFFSETFROM:-0700
TZOFFSETTO:-0600
TZNAME:MDT
DTSTART:20240310T090000
END:DAYLIGHT
BEGIN:STANDARD
TZOFFSETFROM:-0600
TZOFFSETTO:-0700
TZNAME:MST
DTSTART:20241103T080000
END:STANDARD
BEGIN:DAYLIGHT
TZOFFSETFROM:-0700
TZOFFSETTO:-0600
TZNAME:MDT
DTSTART:20250309T090000
END:DAYLIGHT
BEGIN:STANDARD
TZOFFSETFROM:-0600
TZOFFSETTO:-0700
TZNAME:MST
DTSTART:20251102T080000
END:STANDARD
BEGIN:DAYLIGHT
TZOFFSETFROM:-0700
TZOFFSETTO:-0600
TZNAME:MDT
DTSTART:20260308T090000
END:DAYLIGHT
BEGIN:STANDARD
TZOFFSETFROM:-0600
TZOFFSETTO:-0700
TZNAME:MST
DTSTART:20261101T080000
END:STANDARD
END:VTIMEZONE
BEGIN:VEVENT
DTSTART;TZID=America/Denver:20250607T100000
DTEND;TZID=America/Denver:20250607T170000
DTSTAMP:20260423T181310
CREATED:20250404T154607Z
LAST-MODIFIED:20250404T154607Z
UID:10003575-1749290400-1749315600@laramieevents.com
SUMMARY:Taste of Laradise 2025
DESCRIPTION:This annual event highlights the vibrant community of Albany County\, provides a fun forum to explore Laramie’s downtown businesses\, and raises funds for causes that make a real difference\, with this year’s designated charity being the Laramie Youth Crisis Center. Attendees spend the day perusing downtown businesses\, enjoying cocktails and featured food at participating bars and restaurants\, while shopping retail specials and socializing with street bands\, food trucks and other frivolity in downtown. The day culminates in a raffle of high value\, exciting prizes.
URL:https://laramieevents.com/event/taste-of-laradise-2025/
LOCATION:Downtown Laramie
CATEGORIES:Family,Food,Fundraiser,Kid Friendly,Live Music
ATTACH;FMTTYPE=image/png:https://laramieevents.com/wp-content/uploads/sites/3/2025/03/2025-Banner-for-Facebook-1.png
ORGANIZER;CN="Laramie Rotary Club":MAILTO:montoya.paul@gmail.com
END:VEVENT
END:VCALENDAR