BEGIN:VCALENDAR
VERSION:2.0
PRODID:-//Laramie Events - ECPv6.15.17.1//NONSGML v1.0//EN
CALSCALE:GREGORIAN
METHOD:PUBLISH
X-ORIGINAL-URL:https://laramieevents.com
X-WR-CALDESC:Events for Laramie Events
REFRESH-INTERVAL;VALUE=DURATION:PT1H
X-Robots-Tag:noindex
X-PUBLISHED-TTL:PT1H
BEGIN:VTIMEZONE
TZID:America/Denver
BEGIN:DAYLIGHT
TZOFFSETFROM:-0700
TZOFFSETTO:-0600
TZNAME:MDT
DTSTART:20220313T090000
END:DAYLIGHT
BEGIN:STANDARD
TZOFFSETFROM:-0600
TZOFFSETTO:-0700
TZNAME:MST
DTSTART:20221106T080000
END:STANDARD
BEGIN:DAYLIGHT
TZOFFSETFROM:-0700
TZOFFSETTO:-0600
TZNAME:MDT
DTSTART:20230312T090000
END:DAYLIGHT
BEGIN:STANDARD
TZOFFSETFROM:-0600
TZOFFSETTO:-0700
TZNAME:MST
DTSTART:20231105T080000
END:STANDARD
BEGIN:DAYLIGHT
TZOFFSETFROM:-0700
TZOFFSETTO:-0600
TZNAME:MDT
DTSTART:20240310T090000
END:DAYLIGHT
BEGIN:STANDARD
TZOFFSETFROM:-0600
TZOFFSETTO:-0700
TZNAME:MST
DTSTART:20241103T080000
END:STANDARD
END:VTIMEZONE
BEGIN:VEVENT
DTSTART;TZID=America/Denver:20230929T150000
DTEND;TZID=America/Denver:20230929T190000
DTSTAMP:20260423T233507
CREATED:20230624T174223Z
LAST-MODIFIED:20230628T143908Z
UID:10000084-1695999600-1696014000@laramieevents.com
SUMMARY:Downtown Laramie Farmers Markets
DESCRIPTION:The Laramie Downtown Farmers Market runs every Friday June 30th to September 29th from 3 to 7pm in the parking lot north of Depot Park on South 1st. The farmers market will offer fresh produce\, handmade goods\, seasonal cocktails\, to go meals and local art. SNAP benefits will be accepted at the market and thanks to a grant\, are doubled!! \nIf you have any questions about the Farmers Marker\, check out this link or contact Kayle\, by phone at 223-2033 or email farmersmarket@laramiemainstreet.org
URL:https://laramieevents.com/event/downtown-laramie-farmers-markets/2023-09-29/
LOCATION:Depot Park
ATTACH;FMTTYPE=image/jpeg:https://laramieevents.com/wp-content/uploads/sites/3/2023/06/farmersmarketwebsite.jpg
END:VEVENT
BEGIN:VEVENT
DTSTART;TZID=America/Denver:20230922T150000
DTEND;TZID=America/Denver:20230922T190000
DTSTAMP:20260423T233507
CREATED:20230624T174223Z
LAST-MODIFIED:20230628T143908Z
UID:10000083-1695394800-1695409200@laramieevents.com
SUMMARY:Downtown Laramie Farmers Markets
DESCRIPTION:The Laramie Downtown Farmers Market runs every Friday June 30th to September 29th from 3 to 7pm in the parking lot north of Depot Park on South 1st. The farmers market will offer fresh produce\, handmade goods\, seasonal cocktails\, to go meals and local art. SNAP benefits will be accepted at the market and thanks to a grant\, are doubled!! \nIf you have any questions about the Farmers Marker\, check out this link or contact Kayle\, by phone at 223-2033 or email farmersmarket@laramiemainstreet.org
URL:https://laramieevents.com/event/downtown-laramie-farmers-markets/2023-09-22/
LOCATION:Depot Park
ATTACH;FMTTYPE=image/jpeg:https://laramieevents.com/wp-content/uploads/sites/3/2023/06/farmersmarketwebsite.jpg
END:VEVENT
BEGIN:VEVENT
DTSTART;TZID=America/Denver:20230915T150000
DTEND;TZID=America/Denver:20230915T190000
DTSTAMP:20260423T233507
CREATED:20230624T174223Z
LAST-MODIFIED:20230628T143908Z
UID:10000082-1694790000-1694804400@laramieevents.com
SUMMARY:Downtown Laramie Farmers Markets
DESCRIPTION:The Laramie Downtown Farmers Market runs every Friday June 30th to September 29th from 3 to 7pm in the parking lot north of Depot Park on South 1st. The farmers market will offer fresh produce\, handmade goods\, seasonal cocktails\, to go meals and local art. SNAP benefits will be accepted at the market and thanks to a grant\, are doubled!! \nIf you have any questions about the Farmers Marker\, check out this link or contact Kayle\, by phone at 223-2033 or email farmersmarket@laramiemainstreet.org
URL:https://laramieevents.com/event/downtown-laramie-farmers-markets/2023-09-15/
LOCATION:Depot Park
ATTACH;FMTTYPE=image/jpeg:https://laramieevents.com/wp-content/uploads/sites/3/2023/06/farmersmarketwebsite.jpg
END:VEVENT
BEGIN:VEVENT
DTSTART;TZID=America/Denver:20230908T150000
DTEND;TZID=America/Denver:20230908T190000
DTSTAMP:20260423T233507
CREATED:20230624T174223Z
LAST-MODIFIED:20230628T143908Z
UID:10000081-1694185200-1694199600@laramieevents.com
SUMMARY:Downtown Laramie Farmers Markets
DESCRIPTION:The Laramie Downtown Farmers Market runs every Friday June 30th to September 29th from 3 to 7pm in the parking lot north of Depot Park on South 1st. The farmers market will offer fresh produce\, handmade goods\, seasonal cocktails\, to go meals and local art. SNAP benefits will be accepted at the market and thanks to a grant\, are doubled!! \nIf you have any questions about the Farmers Marker\, check out this link or contact Kayle\, by phone at 223-2033 or email farmersmarket@laramiemainstreet.org
URL:https://laramieevents.com/event/downtown-laramie-farmers-markets/2023-09-08/
LOCATION:Depot Park
ATTACH;FMTTYPE=image/jpeg:https://laramieevents.com/wp-content/uploads/sites/3/2023/06/farmersmarketwebsite.jpg
END:VEVENT
BEGIN:VEVENT
DTSTART;TZID=America/Denver:20230901T150000
DTEND;TZID=America/Denver:20230901T190000
DTSTAMP:20260423T233507
CREATED:20230624T174223Z
LAST-MODIFIED:20230628T143908Z
UID:10000080-1693580400-1693594800@laramieevents.com
SUMMARY:Downtown Laramie Farmers Markets
DESCRIPTION:The Laramie Downtown Farmers Market runs every Friday June 30th to September 29th from 3 to 7pm in the parking lot north of Depot Park on South 1st. The farmers market will offer fresh produce\, handmade goods\, seasonal cocktails\, to go meals and local art. SNAP benefits will be accepted at the market and thanks to a grant\, are doubled!! \nIf you have any questions about the Farmers Marker\, check out this link or contact Kayle\, by phone at 223-2033 or email farmersmarket@laramiemainstreet.org
URL:https://laramieevents.com/event/downtown-laramie-farmers-markets/2023-09-01/
LOCATION:Depot Park
ATTACH;FMTTYPE=image/jpeg:https://laramieevents.com/wp-content/uploads/sites/3/2023/06/farmersmarketwebsite.jpg
END:VEVENT
BEGIN:VEVENT
DTSTART;TZID=America/Denver:20230825T150000
DTEND;TZID=America/Denver:20230825T190000
DTSTAMP:20260423T233507
CREATED:20230624T174223Z
LAST-MODIFIED:20230628T143908Z
UID:10000079-1692975600-1692990000@laramieevents.com
SUMMARY:Downtown Laramie Farmers Markets
DESCRIPTION:The Laramie Downtown Farmers Market runs every Friday June 30th to September 29th from 3 to 7pm in the parking lot north of Depot Park on South 1st. The farmers market will offer fresh produce\, handmade goods\, seasonal cocktails\, to go meals and local art. SNAP benefits will be accepted at the market and thanks to a grant\, are doubled!! \nIf you have any questions about the Farmers Marker\, check out this link or contact Kayle\, by phone at 223-2033 or email farmersmarket@laramiemainstreet.org
URL:https://laramieevents.com/event/downtown-laramie-farmers-markets/2023-08-25/
LOCATION:Depot Park
ATTACH;FMTTYPE=image/jpeg:https://laramieevents.com/wp-content/uploads/sites/3/2023/06/farmersmarketwebsite.jpg
END:VEVENT
BEGIN:VEVENT
DTSTART;TZID=America/Denver:20230818T150000
DTEND;TZID=America/Denver:20230818T190000
DTSTAMP:20260423T233507
CREATED:20230624T174223Z
LAST-MODIFIED:20230628T143908Z
UID:10000078-1692370800-1692385200@laramieevents.com
SUMMARY:Downtown Laramie Farmers Markets
DESCRIPTION:The Laramie Downtown Farmers Market runs every Friday June 30th to September 29th from 3 to 7pm in the parking lot north of Depot Park on South 1st. The farmers market will offer fresh produce\, handmade goods\, seasonal cocktails\, to go meals and local art. SNAP benefits will be accepted at the market and thanks to a grant\, are doubled!! \nIf you have any questions about the Farmers Marker\, check out this link or contact Kayle\, by phone at 223-2033 or email farmersmarket@laramiemainstreet.org
URL:https://laramieevents.com/event/downtown-laramie-farmers-markets/2023-08-18/
LOCATION:Depot Park
ATTACH;FMTTYPE=image/jpeg:https://laramieevents.com/wp-content/uploads/sites/3/2023/06/farmersmarketwebsite.jpg
END:VEVENT
BEGIN:VEVENT
DTSTART;TZID=America/Denver:20230811T150000
DTEND;TZID=America/Denver:20230811T190000
DTSTAMP:20260423T233507
CREATED:20230624T174223Z
LAST-MODIFIED:20230628T143908Z
UID:10000077-1691766000-1691780400@laramieevents.com
SUMMARY:Downtown Laramie Farmers Markets
DESCRIPTION:The Laramie Downtown Farmers Market runs every Friday June 30th to September 29th from 3 to 7pm in the parking lot north of Depot Park on South 1st. The farmers market will offer fresh produce\, handmade goods\, seasonal cocktails\, to go meals and local art. SNAP benefits will be accepted at the market and thanks to a grant\, are doubled!! \nIf you have any questions about the Farmers Marker\, check out this link or contact Kayle\, by phone at 223-2033 or email farmersmarket@laramiemainstreet.org
URL:https://laramieevents.com/event/downtown-laramie-farmers-markets/2023-08-11/
LOCATION:Depot Park
ATTACH;FMTTYPE=image/jpeg:https://laramieevents.com/wp-content/uploads/sites/3/2023/06/farmersmarketwebsite.jpg
END:VEVENT
BEGIN:VEVENT
DTSTART;TZID=America/Denver:20230804T150000
DTEND;TZID=America/Denver:20230804T190000
DTSTAMP:20260423T233507
CREATED:20230624T174223Z
LAST-MODIFIED:20230628T143908Z
UID:10000076-1691161200-1691175600@laramieevents.com
SUMMARY:Downtown Laramie Farmers Markets
DESCRIPTION:The Laramie Downtown Farmers Market runs every Friday June 30th to September 29th from 3 to 7pm in the parking lot north of Depot Park on South 1st. The farmers market will offer fresh produce\, handmade goods\, seasonal cocktails\, to go meals and local art. SNAP benefits will be accepted at the market and thanks to a grant\, are doubled!! \nIf you have any questions about the Farmers Marker\, check out this link or contact Kayle\, by phone at 223-2033 or email farmersmarket@laramiemainstreet.org
URL:https://laramieevents.com/event/downtown-laramie-farmers-markets/2023-08-04/
LOCATION:Depot Park
ATTACH;FMTTYPE=image/jpeg:https://laramieevents.com/wp-content/uploads/sites/3/2023/06/farmersmarketwebsite.jpg
END:VEVENT
BEGIN:VEVENT
DTSTART;TZID=America/Denver:20230728T150000
DTEND;TZID=America/Denver:20230728T190000
DTSTAMP:20260423T233507
CREATED:20230624T174223Z
LAST-MODIFIED:20230628T143908Z
UID:10000075-1690556400-1690570800@laramieevents.com
SUMMARY:Downtown Laramie Farmers Markets
DESCRIPTION:The Laramie Downtown Farmers Market runs every Friday June 30th to September 29th from 3 to 7pm in the parking lot north of Depot Park on South 1st. The farmers market will offer fresh produce\, handmade goods\, seasonal cocktails\, to go meals and local art. SNAP benefits will be accepted at the market and thanks to a grant\, are doubled!! \nIf you have any questions about the Farmers Marker\, check out this link or contact Kayle\, by phone at 223-2033 or email farmersmarket@laramiemainstreet.org
URL:https://laramieevents.com/event/downtown-laramie-farmers-markets/2023-07-28/
LOCATION:Depot Park
ATTACH;FMTTYPE=image/jpeg:https://laramieevents.com/wp-content/uploads/sites/3/2023/06/farmersmarketwebsite.jpg
END:VEVENT
BEGIN:VEVENT
DTSTART;TZID=America/Denver:20230721T150000
DTEND;TZID=America/Denver:20230721T190000
DTSTAMP:20260423T233507
CREATED:20230624T174223Z
LAST-MODIFIED:20230628T143908Z
UID:10000074-1689951600-1689966000@laramieevents.com
SUMMARY:Downtown Laramie Farmers Markets
DESCRIPTION:The Laramie Downtown Farmers Market runs every Friday June 30th to September 29th from 3 to 7pm in the parking lot north of Depot Park on South 1st. The farmers market will offer fresh produce\, handmade goods\, seasonal cocktails\, to go meals and local art. SNAP benefits will be accepted at the market and thanks to a grant\, are doubled!! \nIf you have any questions about the Farmers Marker\, check out this link or contact Kayle\, by phone at 223-2033 or email farmersmarket@laramiemainstreet.org
URL:https://laramieevents.com/event/downtown-laramie-farmers-markets/2023-07-21/
LOCATION:Depot Park
ATTACH;FMTTYPE=image/jpeg:https://laramieevents.com/wp-content/uploads/sites/3/2023/06/farmersmarketwebsite.jpg
END:VEVENT
BEGIN:VEVENT
DTSTART;TZID=America/Denver:20230714T150000
DTEND;TZID=America/Denver:20230714T190000
DTSTAMP:20260423T233507
CREATED:20230624T174223Z
LAST-MODIFIED:20230628T143908Z
UID:10000073-1689346800-1689361200@laramieevents.com
SUMMARY:Downtown Laramie Farmers Markets
DESCRIPTION:The Laramie Downtown Farmers Market runs every Friday June 30th to September 29th from 3 to 7pm in the parking lot north of Depot Park on South 1st. The farmers market will offer fresh produce\, handmade goods\, seasonal cocktails\, to go meals and local art. SNAP benefits will be accepted at the market and thanks to a grant\, are doubled!! \nIf you have any questions about the Farmers Marker\, check out this link or contact Kayle\, by phone at 223-2033 or email farmersmarket@laramiemainstreet.org
URL:https://laramieevents.com/event/downtown-laramie-farmers-markets/2023-07-14/
LOCATION:Depot Park
ATTACH;FMTTYPE=image/jpeg:https://laramieevents.com/wp-content/uploads/sites/3/2023/06/farmersmarketwebsite.jpg
END:VEVENT
BEGIN:VEVENT
DTSTART;TZID=America/Denver:20230630T150000
DTEND;TZID=America/Denver:20230630T190000
DTSTAMP:20260423T233507
CREATED:20230624T174223Z
LAST-MODIFIED:20230628T143908Z
UID:10000072-1688137200-1688151600@laramieevents.com
SUMMARY:Downtown Laramie Farmers Markets
DESCRIPTION:The Laramie Downtown Farmers Market runs every Friday June 30th to September 29th from 3 to 7pm in the parking lot north of Depot Park on South 1st. The farmers market will offer fresh produce\, handmade goods\, seasonal cocktails\, to go meals and local art. SNAP benefits will be accepted at the market and thanks to a grant\, are doubled!! \nIf you have any questions about the Farmers Marker\, check out this link or contact Kayle\, by phone at 223-2033 or email farmersmarket@laramiemainstreet.org
URL:https://laramieevents.com/event/downtown-laramie-farmers-markets/2023-06-30/
LOCATION:Depot Park
ATTACH;FMTTYPE=image/jpeg:https://laramieevents.com/wp-content/uploads/sites/3/2023/06/farmersmarketwebsite.jpg
END:VEVENT
END:VCALENDAR