BEGIN:VCALENDAR
VERSION:2.0
PRODID:-//Laramie Events - ECPv6.15.17.1//NONSGML v1.0//EN
CALSCALE:GREGORIAN
METHOD:PUBLISH
X-ORIGINAL-URL:https://laramieevents.com
X-WR-CALDESC:Events for Laramie Events
REFRESH-INTERVAL;VALUE=DURATION:PT1H
X-Robots-Tag:noindex
X-PUBLISHED-TTL:PT1H
BEGIN:VTIMEZONE
TZID:America/Denver
BEGIN:DAYLIGHT
TZOFFSETFROM:-0700
TZOFFSETTO:-0600
TZNAME:MDT
DTSTART:20230312T090000
END:DAYLIGHT
BEGIN:STANDARD
TZOFFSETFROM:-0600
TZOFFSETTO:-0700
TZNAME:MST
DTSTART:20231105T080000
END:STANDARD
BEGIN:DAYLIGHT
TZOFFSETFROM:-0700
TZOFFSETTO:-0600
TZNAME:MDT
DTSTART:20240310T090000
END:DAYLIGHT
BEGIN:STANDARD
TZOFFSETFROM:-0600
TZOFFSETTO:-0700
TZNAME:MST
DTSTART:20241103T080000
END:STANDARD
BEGIN:DAYLIGHT
TZOFFSETFROM:-0700
TZOFFSETTO:-0600
TZNAME:MDT
DTSTART:20250309T090000
END:DAYLIGHT
BEGIN:STANDARD
TZOFFSETFROM:-0600
TZOFFSETTO:-0700
TZNAME:MST
DTSTART:20251102T080000
END:STANDARD
BEGIN:DAYLIGHT
TZOFFSETFROM:-0700
TZOFFSETTO:-0600
TZNAME:MDT
DTSTART:20260308T090000
END:DAYLIGHT
BEGIN:STANDARD
TZOFFSETFROM:-0600
TZOFFSETTO:-0700
TZNAME:MST
DTSTART:20261101T080000
END:STANDARD
END:VTIMEZONE
BEGIN:VEVENT
DTSTART;TZID=America/Denver:20251106T170000
DTEND;TZID=America/Denver:20251106T190000
DTSTAMP:20260424T003200
CREATED:20251030T154137Z
LAST-MODIFIED:20251030T154137Z
UID:10005903-1762448400-1762455600@laramieevents.com
SUMMARY:Decay
DESCRIPTION:Join us for our next gallery opening:DecayPresented by The J. Darryl and Terry I.Cooper Center for Creative Arts\nGallery OpeningNovember 6th 5:00-7pmCash Bar and Free hors d’oeuvres1174 N 4th St. Laramie\, WYFor More Information307-742-3996 – events@arkrs.org
URL:https://laramieevents.com/event/decay/
LOCATION:Cooper Center for Creative Arts
CATEGORIES:Family
ATTACH;FMTTYPE=image/png:https://laramieevents.com/wp-content/uploads/sites/3/2025/10/Decay-Postcard.png
END:VEVENT
BEGIN:VEVENT
DTSTART;TZID=America/Denver:20250912T183000
DTEND;TZID=America/Denver:20250912T210000
DTSTAMP:20260424T003200
CREATED:20250815T155705Z
LAST-MODIFIED:20250815T155705Z
UID:10004031-1757701800-1757710800@laramieevents.com
SUMMARY:A Night of Improv Comedy
DESCRIPTION:Enjoy a showcase of improv skills by four Cooper Center comedians\n12 Sept | Doors open 6:30 pm | Show Starts 7:30 PM \nCash bar available \n1174 N 4th St. Laramie\, WY \nFree to DSPs working in Albany County
URL:https://laramieevents.com/event/a-night-of-improv-comedy/
LOCATION:Cooper Center for Creative Arts
ATTACH;FMTTYPE=image/png:https://laramieevents.com/wp-content/uploads/sites/3/2025/08/ComedyImprovNoQR-2.png
END:VEVENT
BEGIN:VEVENT
DTSTART;TZID=America/Denver:20240808T170000
DTEND;TZID=America/Denver:20240808T190000
DTSTAMP:20260424T003200
CREATED:20240723T151516Z
LAST-MODIFIED:20240723T151516Z
UID:10003199-1723136400-1723143600@laramieevents.com
SUMMARY:Whimsical: An Art Exhibition That Brings Fantasy to Life
DESCRIPTION:Cash Bar and Free hors d’oeuvres \nAugust 8th\, 2024 \n5:00-7:00pm \n1174 N 4th St. Laramie\, WY \nFor More Information \n307-742-3996 \nevents@arkrs.org
URL:https://laramieevents.com/event/whimsical-an-art-exhibition-that-brings-fantasy-to-life/
LOCATION:Cooper Center for Creative Arts
ATTACH;FMTTYPE=image/png:https://laramieevents.com/wp-content/uploads/sites/3/2024/07/Whimsical.png
END:VEVENT
BEGIN:VEVENT
DTSTART;TZID=America/Denver:20240601T190000
DTEND;TZID=America/Denver:20240601T210000
DTSTAMP:20260424T003200
CREATED:20240425T234950Z
LAST-MODIFIED:20240502T153955Z
UID:10000896-1717268400-1717275600@laramieevents.com
SUMMARY:The USO Show
DESCRIPTION:An evening of dance and comedy. \nDoors Open 7:00pm Show Starts 7:30pm \nTickets $5 in Advance & $7 at the Door
URL:https://laramieevents.com/event/the-uso-show/2024-06-01/
LOCATION:Cooper Center for Creative Arts
ATTACH;FMTTYPE=image/png:https://laramieevents.com/wp-content/uploads/sites/3/2024/04/USO-Propaganda-Postcard-Image.png
END:VEVENT
BEGIN:VEVENT
DTSTART;TZID=America/Denver:20240531T190000
DTEND;TZID=America/Denver:20240531T210000
DTSTAMP:20260424T003200
CREATED:20240425T234950Z
LAST-MODIFIED:20240502T153955Z
UID:10000895-1717182000-1717189200@laramieevents.com
SUMMARY:The USO Show
DESCRIPTION:An evening of dance and comedy. \nDoors Open 7:00pm Show Starts 7:30pm \nTickets $5 in Advance & $7 at the Door
URL:https://laramieevents.com/event/the-uso-show/2024-05-31/
LOCATION:Cooper Center for Creative Arts
ATTACH;FMTTYPE=image/png:https://laramieevents.com/wp-content/uploads/sites/3/2024/04/USO-Propaganda-Postcard-Image.png
END:VEVENT
BEGIN:VEVENT
DTSTART;TZID=America/Denver:20240530T190000
DTEND;TZID=America/Denver:20240530T210000
DTSTAMP:20260424T003200
CREATED:20240425T234950Z
LAST-MODIFIED:20240502T153955Z
UID:10000894-1717095600-1717102800@laramieevents.com
SUMMARY:The USO Show
DESCRIPTION:An evening of dance and comedy. \nDoors Open 7:00pm Show Starts 7:30pm \nTickets $5 in Advance & $7 at the Door
URL:https://laramieevents.com/event/the-uso-show/2024-05-30/
LOCATION:Cooper Center for Creative Arts
ATTACH;FMTTYPE=image/png:https://laramieevents.com/wp-content/uploads/sites/3/2024/04/USO-Propaganda-Postcard-Image.png
END:VEVENT
END:VCALENDAR