BEGIN:VCALENDAR
VERSION:2.0
PRODID:-//Laramie Events - ECPv6.15.17.1//NONSGML v1.0//EN
CALSCALE:GREGORIAN
METHOD:PUBLISH
X-WR-CALNAME:Laramie Events
X-ORIGINAL-URL:https://laramieevents.com
X-WR-CALDESC:Events for Laramie Events
REFRESH-INTERVAL;VALUE=DURATION:PT1H
X-Robots-Tag:noindex
X-PUBLISHED-TTL:PT1H
BEGIN:VTIMEZONE
TZID:America/Denver
BEGIN:DAYLIGHT
TZOFFSETFROM:-0700
TZOFFSETTO:-0600
TZNAME:MDT
DTSTART:20240310T090000
END:DAYLIGHT
BEGIN:STANDARD
TZOFFSETFROM:-0600
TZOFFSETTO:-0700
TZNAME:MST
DTSTART:20241103T080000
END:STANDARD
BEGIN:DAYLIGHT
TZOFFSETFROM:-0700
TZOFFSETTO:-0600
TZNAME:MDT
DTSTART:20250309T090000
END:DAYLIGHT
BEGIN:STANDARD
TZOFFSETFROM:-0600
TZOFFSETTO:-0700
TZNAME:MST
DTSTART:20251102T080000
END:STANDARD
BEGIN:DAYLIGHT
TZOFFSETFROM:-0700
TZOFFSETTO:-0600
TZNAME:MDT
DTSTART:20260308T090000
END:DAYLIGHT
BEGIN:STANDARD
TZOFFSETFROM:-0600
TZOFFSETTO:-0700
TZNAME:MST
DTSTART:20261101T080000
END:STANDARD
END:VTIMEZONE
BEGIN:VEVENT
DTSTART;TZID=America/Denver:20250424T170000
DTEND;TZID=America/Denver:20250424T190000
DTSTAMP:20260424T034823
CREATED:20250423T222738Z
LAST-MODIFIED:20250423T222738Z
UID:10003598-1745514000-1745521200@laramieevents.com
SUMMARY:Kyle Tran Mhyre "Guante": Of What Future Are These the Wild\, Early Days? On Poetry\, Protest\, and Possibility
DESCRIPTION:Mark your calendar for our upcoming event with poet and activist Kyle Tran Mhyre “Guante” on April 24. There will be a morning meet and greet from 9:30 a.m. – 11:30 a.m. in the Wyoming Union Skylight Lounge. Then Kyle Tran Mhyre “Guante” will speak from 5:00 p.m. – 7:00 p.m. in the Buchanan Center for the Performing Arts Thrust Theatre. This event is free and open to everyone. We are hosting this in partnership with the University of Wyoming Violence Prevention Center \nStorytelling\, art\, and poetry can be powerful doorways into dialogue and critical thinking\, especially about issues related to how we move through the world\, how we treat one another\, and what narratives drive our values\, beliefs\, and actions. Just as a poem uses imagery and metaphor to “zoom in” on complex ideas\, building the community that we want to live in takes more than knowing the right terms or even believing the right things. We have to find ways to work together and make our values real in the world.
URL:https://laramieevents.com/event/kyle-tran-mhyre-guante-of-what-future-are-these-the-wild-early-days-on-poetry-protest-and-possibility/
LOCATION:Buchanan Center for the Performing Arts
ATTACH;FMTTYPE=image/png:https://laramieevents.com/wp-content/uploads/sites/3/2025/04/Kyle-Guante-Tran-Myhre_Social-Media-Post.png
ORGANIZER;CN="Shepard Symposium on Social Justice":MAILTO:​shepardsymposium@gmail.com
END:VEVENT
END:VCALENDAR