BEGIN:VCALENDAR
VERSION:2.0
PRODID:-//Laramie Events - ECPv6.15.17.1//NONSGML v1.0//EN
CALSCALE:GREGORIAN
METHOD:PUBLISH
X-WR-CALNAME:Laramie Events
X-ORIGINAL-URL:https://laramieevents.com
X-WR-CALDESC:Events for Laramie Events
REFRESH-INTERVAL;VALUE=DURATION:PT1H
X-Robots-Tag:noindex
X-PUBLISHED-TTL:PT1H
BEGIN:VTIMEZONE
TZID:America/Denver
BEGIN:DAYLIGHT
TZOFFSETFROM:-0700
TZOFFSETTO:-0600
TZNAME:MDT
DTSTART:20230312T090000
END:DAYLIGHT
BEGIN:STANDARD
TZOFFSETFROM:-0600
TZOFFSETTO:-0700
TZNAME:MST
DTSTART:20231105T080000
END:STANDARD
BEGIN:DAYLIGHT
TZOFFSETFROM:-0700
TZOFFSETTO:-0600
TZNAME:MDT
DTSTART:20240310T090000
END:DAYLIGHT
BEGIN:STANDARD
TZOFFSETFROM:-0600
TZOFFSETTO:-0700
TZNAME:MST
DTSTART:20241103T080000
END:STANDARD
BEGIN:DAYLIGHT
TZOFFSETFROM:-0700
TZOFFSETTO:-0600
TZNAME:MDT
DTSTART:20250309T090000
END:DAYLIGHT
BEGIN:STANDARD
TZOFFSETFROM:-0600
TZOFFSETTO:-0700
TZNAME:MST
DTSTART:20251102T080000
END:STANDARD
END:VTIMEZONE
BEGIN:VEVENT
DTSTART;TZID=America/Denver:20240720T120000
DTEND;TZID=America/Denver:20240720T150000
DTSTAMP:20260424T022040
CREATED:20240716T151343Z
LAST-MODIFIED:20240716T151343Z
UID:10003195-1721476800-1721487600@laramieevents.com
SUMMARY:Mountain States Bumble Bee Atlas Workshop
DESCRIPTION:The Mountain States Bumble Bee Atlas is a community-science project aimed at gathering data needed to track and conserve bumble bee species across Wyoming\, Colorado\, Utah\, and Nevada.  Led by the Xerces Society for Invertebrate Conservation\, the Mountain States Bumble Bee Atlas is just one of the atlas projects taking place across the U.S. \nThis workshop\, taking place at the Berry Biodiversity Center\, is an introduction to bumble bee biology and conservation issues as well as an overview of how the Atlas works and how volunteers can participate.  This event is free and open to the public. Anyone with an interest in bumble bees is invited and encouraged to attend. \nPlease register by clicking this link. \nLearn more about Bumble Bee Atlas projects by visiting our website: BumbleBeeAtlas.org
URL:https://laramieevents.com/event/mountain-states-bumble-bee-atlas-workshop/
LOCATION:Berry Biodiversity Conservation Center\, 365 N 9th St\, Laramie\, WY\, 82072\, United States
ATTACH;FMTTYPE=image/png:https://laramieevents.com/wp-content/uploads/sites/3/2024/07/MtnBBA_dark_clear_Horiz.png
ORGANIZER;CN="Xerces Society for Invertebrate Conservation":MAILTO:mtnstatesbba@xerces.org
END:VEVENT
END:VCALENDAR