BEGIN:VCALENDAR
VERSION:2.0
PRODID:-//Laramie Events - ECPv6.15.17.1//NONSGML v1.0//EN
CALSCALE:GREGORIAN
METHOD:PUBLISH
X-ORIGINAL-URL:https://laramieevents.com
X-WR-CALDESC:Events for Laramie Events
REFRESH-INTERVAL;VALUE=DURATION:PT1H
X-Robots-Tag:noindex
X-PUBLISHED-TTL:PT1H
BEGIN:VTIMEZONE
TZID:America/Denver
BEGIN:DAYLIGHT
TZOFFSETFROM:-0700
TZOFFSETTO:-0600
TZNAME:MDT
DTSTART:20240310T090000
END:DAYLIGHT
BEGIN:STANDARD
TZOFFSETFROM:-0600
TZOFFSETTO:-0700
TZNAME:MST
DTSTART:20241103T080000
END:STANDARD
BEGIN:DAYLIGHT
TZOFFSETFROM:-0700
TZOFFSETTO:-0600
TZNAME:MDT
DTSTART:20250309T090000
END:DAYLIGHT
BEGIN:STANDARD
TZOFFSETFROM:-0600
TZOFFSETTO:-0700
TZNAME:MST
DTSTART:20251102T080000
END:STANDARD
BEGIN:DAYLIGHT
TZOFFSETFROM:-0700
TZOFFSETTO:-0600
TZNAME:MDT
DTSTART:20260308T090000
END:DAYLIGHT
BEGIN:STANDARD
TZOFFSETFROM:-0600
TZOFFSETTO:-0700
TZNAME:MST
DTSTART:20261101T080000
END:STANDARD
END:VTIMEZONE
BEGIN:VEVENT
DTSTART;TZID=America/Denver:20251101T190000
DTEND;TZID=America/Denver:20251101T220000
DTSTAMP:20260424T040755
CREATED:20251021T143405Z
LAST-MODIFIED:20251021T143633Z
UID:10005901-1762023600-1762034400@laramieevents.com
SUMMARY:The Possessed Manor at the American Legion Post 14
DESCRIPTION:A Haunted House brought to you by the Scare Crew at the American Legion. Parental discretion is advised. \nOctober 24th & 25th\, 30th & 31st\, November 1st from 7pm to 10pm \n$5 admission cash only\, ATM available
URL:https://laramieevents.com/event/the-possessed-manor-at-the-american-legion-post-14/2025-11-01/
LOCATION:417 E Ivinson Laramie\, Wy 82070\, 417 E Invinson\, Laramie\, WY\, 82072\, United States
ATTACH;FMTTYPE=image/jpeg:https://laramieevents.com/wp-content/uploads/sites/3/2025/10/IMG_0157.jpeg
END:VEVENT
BEGIN:VEVENT
DTSTART;TZID=America/Denver:20251031T190000
DTEND;TZID=America/Denver:20251031T220000
DTSTAMP:20260424T040755
CREATED:20251021T143405Z
LAST-MODIFIED:20251021T143633Z
UID:10005900-1761937200-1761948000@laramieevents.com
SUMMARY:The Possessed Manor at the American Legion Post 14
DESCRIPTION:A Haunted House brought to you by the Scare Crew at the American Legion. Parental discretion is advised. \nOctober 24th & 25th\, 30th & 31st\, November 1st from 7pm to 10pm \n$5 admission cash only\, ATM available
URL:https://laramieevents.com/event/the-possessed-manor-at-the-american-legion-post-14/2025-10-31/
LOCATION:417 E Ivinson Laramie\, Wy 82070\, 417 E Invinson\, Laramie\, WY\, 82072\, United States
ATTACH;FMTTYPE=image/jpeg:https://laramieevents.com/wp-content/uploads/sites/3/2025/10/IMG_0157.jpeg
END:VEVENT
BEGIN:VEVENT
DTSTART;TZID=America/Denver:20251030T190000
DTEND;TZID=America/Denver:20251030T220000
DTSTAMP:20260424T040755
CREATED:20251021T143405Z
LAST-MODIFIED:20251021T143633Z
UID:10005899-1761850800-1761861600@laramieevents.com
SUMMARY:The Possessed Manor at the American Legion Post 14
DESCRIPTION:A Haunted House brought to you by the Scare Crew at the American Legion. Parental discretion is advised. \nOctober 24th & 25th\, 30th & 31st\, November 1st from 7pm to 10pm \n$5 admission cash only\, ATM available
URL:https://laramieevents.com/event/the-possessed-manor-at-the-american-legion-post-14/2025-10-30/
LOCATION:417 E Ivinson Laramie\, Wy 82070\, 417 E Invinson\, Laramie\, WY\, 82072\, United States
ATTACH;FMTTYPE=image/jpeg:https://laramieevents.com/wp-content/uploads/sites/3/2025/10/IMG_0157.jpeg
END:VEVENT
BEGIN:VEVENT
DTSTART;TZID=America/Denver:20251025T190000
DTEND;TZID=America/Denver:20251025T220000
DTSTAMP:20260424T040755
CREATED:20251021T143405Z
LAST-MODIFIED:20251021T143633Z
UID:10005898-1761418800-1761429600@laramieevents.com
SUMMARY:The Possessed Manor at the American Legion Post 14
DESCRIPTION:A Haunted House brought to you by the Scare Crew at the American Legion. Parental discretion is advised. \nOctober 24th & 25th\, 30th & 31st\, November 1st from 7pm to 10pm \n$5 admission cash only\, ATM available
URL:https://laramieevents.com/event/the-possessed-manor-at-the-american-legion-post-14/2025-10-25/
LOCATION:417 E Ivinson Laramie\, Wy 82070\, 417 E Invinson\, Laramie\, WY\, 82072\, United States
ATTACH;FMTTYPE=image/jpeg:https://laramieevents.com/wp-content/uploads/sites/3/2025/10/IMG_0157.jpeg
END:VEVENT
BEGIN:VEVENT
DTSTART;TZID=America/Denver:20251024T190000
DTEND;TZID=America/Denver:20251024T220000
DTSTAMP:20260424T040755
CREATED:20251021T143405Z
LAST-MODIFIED:20251021T143633Z
UID:10005902-1761332400-1761343200@laramieevents.com
SUMMARY:The Possessed Manor at the American Legion Post 14
DESCRIPTION:A Haunted House brought to you by the Scare Crew at the American Legion. Parental discretion is advised. \nOctober 24th & 25th\, 30th & 31st\, November 1st from 7pm to 10pm \n$5 admission cash only\, ATM available
URL:https://laramieevents.com/event/the-possessed-manor-at-the-american-legion-post-14/2025-10-24/
LOCATION:417 E Ivinson Laramie\, Wy 82070\, 417 E Invinson\, Laramie\, WY\, 82072\, United States
ATTACH;FMTTYPE=image/jpeg:https://laramieevents.com/wp-content/uploads/sites/3/2025/10/IMG_0157.jpeg
END:VEVENT
END:VCALENDAR