BEGIN:VCALENDAR
VERSION:2.0
PRODID:-//Laramie Events - ECPv6.15.17.1//NONSGML v1.0//EN
CALSCALE:GREGORIAN
METHOD:PUBLISH
X-WR-CALNAME:Laramie Events
X-ORIGINAL-URL:https://laramieevents.com
X-WR-CALDESC:Events for Laramie Events
REFRESH-INTERVAL;VALUE=DURATION:PT1H
X-Robots-Tag:noindex
X-PUBLISHED-TTL:PT1H
BEGIN:VTIMEZONE
TZID:America/Denver
BEGIN:DAYLIGHT
TZOFFSETFROM:-0700
TZOFFSETTO:-0600
TZNAME:MDT
DTSTART:20230312T090000
END:DAYLIGHT
BEGIN:STANDARD
TZOFFSETFROM:-0600
TZOFFSETTO:-0700
TZNAME:MST
DTSTART:20231105T080000
END:STANDARD
BEGIN:DAYLIGHT
TZOFFSETFROM:-0700
TZOFFSETTO:-0600
TZNAME:MDT
DTSTART:20240310T090000
END:DAYLIGHT
BEGIN:STANDARD
TZOFFSETFROM:-0600
TZOFFSETTO:-0700
TZNAME:MST
DTSTART:20241103T080000
END:STANDARD
BEGIN:DAYLIGHT
TZOFFSETFROM:-0700
TZOFFSETTO:-0600
TZNAME:MDT
DTSTART:20250309T090000
END:DAYLIGHT
BEGIN:STANDARD
TZOFFSETFROM:-0600
TZOFFSETTO:-0700
TZNAME:MST
DTSTART:20251102T080000
END:STANDARD
BEGIN:DAYLIGHT
TZOFFSETFROM:-0700
TZOFFSETTO:-0600
TZNAME:MDT
DTSTART:20260308T090000
END:DAYLIGHT
BEGIN:STANDARD
TZOFFSETFROM:-0600
TZOFFSETTO:-0700
TZNAME:MST
DTSTART:20261101T080000
END:STANDARD
END:VTIMEZONE
BEGIN:VEVENT
DTSTART;TZID=America/Denver:20250315T100000
DTEND;TZID=America/Denver:20250315T160000
DTSTAMP:20260424T020746
CREATED:20250404T155102Z
LAST-MODIFIED:20250404T155102Z
UID:10003297-1742032800-1742054400@laramieevents.com
SUMMARY:Wanna Ride Poker Run 2025
DESCRIPTION:Join us for our inaugural snowmobile/track machine poker run through the Snowy Range! Collect cards at scenic checkpoints\, build your best poker hand\, and compete for prizes. After the ride\, warm up with lunch and join the games and 50/50 drawing. \nProudly sponsored by Elway Powersports! 🏁 \nSchedule:\n10:00 AM – Registration Opens\n10:30 AM – Ride Begins\n2:30 PM – Lunch starts being served\n3:00 PM – Cards Due\n3:00 PM – Games will be played\n3:30/4:00 PM – Winners Announced \nProceeds support student scholarships and trail maintenance in Southeast Wyoming. \nFor more information or questions:\npatty@wannaridefoundation.com\nwannaridefoundation.org
URL:https://laramieevents.com/event/wanna-ride-poker-run-2025/
LOCATION:2 Power Line Rd\, 2 Power Line Rd\, LARAMIE\, WY\, 82070\, United States
CATEGORIES:Fundraiser
ATTACH;FMTTYPE=image/png:https://laramieevents.com/wp-content/uploads/sites/3/2025/01/Copy-of-I-will-Banner-Landscape-10-×-10-in.png
ORGANIZER;CN="Wanna Ride Foundation":MAILTO:patty@wannaridefoundation.com
END:VEVENT
BEGIN:VEVENT
DTSTART;TZID=America/Denver:20240907T100000
DTEND;TZID=America/Denver:20240907T170000
DTSTAMP:20260424T020746
CREATED:20240726T161816Z
LAST-MODIFIED:20240829T164346Z
UID:10003200-1725703200-1725728400@laramieevents.com
SUMMARY:Wanna Ride Memorial Ride And Scavenger Hunt
DESCRIPTION:Starting At The 2 Power Line Rd \n4039 WY-230\, Laramie\, WY \n$25.00 donation per person 4-wheelers\, jeeps\, side x sides\, dirt bikes\, cars\, trucks\, mountain bikes\, if it has wheels it is in. \nRegistration begins at 10am. Memorial Ride and Scavenger Hunt commence at 10:30 or upon completion of registration. \nLunch\, sponsored by TJ’s\, will be served starting at 2:00pm (Lunch is complimentary for all registered participants.) \nThere will be raffle prizes\, games and LIVE auction items following the ride \nFor more details on what this ride is all about check out this link ===> https://www.thewannaridefoundation.com/rides
URL:https://laramieevents.com/event/wanna-ride-memorial-ride-scavenger-hunt/
LOCATION:2 Power Line Rd\, 2 Power Line Rd\, LARAMIE\, WY\, 82070\, United States
ATTACH;FMTTYPE=image/jpeg:https://laramieevents.com/wp-content/uploads/sites/3/2024/07/Capture.jpg
END:VEVENT
END:VCALENDAR