BEGIN:VCALENDAR
VERSION:2.0
PRODID:-//Laramie Events - ECPv6.15.17.1//NONSGML v1.0//EN
CALSCALE:GREGORIAN
METHOD:PUBLISH
X-WR-CALNAME:Laramie Events
X-ORIGINAL-URL:https://laramieevents.com
X-WR-CALDESC:Events for Laramie Events
REFRESH-INTERVAL;VALUE=DURATION:PT1H
X-Robots-Tag:noindex
X-PUBLISHED-TTL:PT1H
BEGIN:VTIMEZONE
TZID:America/Denver
BEGIN:DAYLIGHT
TZOFFSETFROM:-0700
TZOFFSETTO:-0600
TZNAME:MDT
DTSTART:20230312T090000
END:DAYLIGHT
BEGIN:STANDARD
TZOFFSETFROM:-0600
TZOFFSETTO:-0700
TZNAME:MST
DTSTART:20231105T080000
END:STANDARD
BEGIN:DAYLIGHT
TZOFFSETFROM:-0700
TZOFFSETTO:-0600
TZNAME:MDT
DTSTART:20240310T090000
END:DAYLIGHT
BEGIN:STANDARD
TZOFFSETFROM:-0600
TZOFFSETTO:-0700
TZNAME:MST
DTSTART:20241103T080000
END:STANDARD
BEGIN:DAYLIGHT
TZOFFSETFROM:-0700
TZOFFSETTO:-0600
TZNAME:MDT
DTSTART:20250309T090000
END:DAYLIGHT
BEGIN:STANDARD
TZOFFSETFROM:-0600
TZOFFSETTO:-0700
TZNAME:MST
DTSTART:20251102T080000
END:STANDARD
END:VTIMEZONE
BEGIN:VEVENT
DTSTART;TZID=America/Denver:20240222T183000
DTEND;TZID=America/Denver:20240222T210000
DTSTAMP:20260424T103336
CREATED:20240215T173339Z
LAST-MODIFIED:20240215T173339Z
UID:10000839-1708626600-1708635600@laramieevents.com
SUMMARY:Backcountry Film Festival
DESCRIPTION:Wyoming Wilderness Association is pleased to announce that it is again hosting the Backcountry Film Festival in partnership with Winter Wildlands Alliance at the Gryphon Theatre on Thursday Feb 22\, 2024 at 6:30pm. This event is free ($10 donation suggested) and open to the community. Come help WWA celebrate the 40th Anniversary of the Wyoming Wilderness Act with a great selection of adventure films\, beer\, raffle prizes and more!
URL:https://laramieevents.com/event/backcountry-film-festival/
LOCATION:Gryphon Theatre\, 710 E Garfield St Studio #333\, Laramie\, WY\, 82070\, United States
ATTACH;FMTTYPE=image/png:https://laramieevents.com/wp-content/uploads/sites/3/2024/02/Untitled-design-8.png
ORGANIZER;CN="Wyoming Wilderness Association":MAILTO:info@wildwyo.org
END:VEVENT
END:VCALENDAR