BEGIN:VCALENDAR
VERSION:2.0
PRODID:-//Laramie Events - ECPv6.15.17.1//NONSGML v1.0//EN
CALSCALE:GREGORIAN
METHOD:PUBLISH
X-WR-CALNAME:Laramie Events
X-ORIGINAL-URL:https://laramieevents.com
X-WR-CALDESC:Events for Laramie Events
REFRESH-INTERVAL;VALUE=DURATION:PT1H
X-Robots-Tag:noindex
X-PUBLISHED-TTL:PT1H
BEGIN:VTIMEZONE
TZID:America/Denver
BEGIN:DAYLIGHT
TZOFFSETFROM:-0700
TZOFFSETTO:-0600
TZNAME:MDT
DTSTART:20230312T090000
END:DAYLIGHT
BEGIN:STANDARD
TZOFFSETFROM:-0600
TZOFFSETTO:-0700
TZNAME:MST
DTSTART:20231105T080000
END:STANDARD
BEGIN:DAYLIGHT
TZOFFSETFROM:-0700
TZOFFSETTO:-0600
TZNAME:MDT
DTSTART:20240310T090000
END:DAYLIGHT
BEGIN:STANDARD
TZOFFSETFROM:-0600
TZOFFSETTO:-0700
TZNAME:MST
DTSTART:20241103T080000
END:STANDARD
BEGIN:DAYLIGHT
TZOFFSETFROM:-0700
TZOFFSETTO:-0600
TZNAME:MDT
DTSTART:20250309T090000
END:DAYLIGHT
BEGIN:STANDARD
TZOFFSETFROM:-0600
TZOFFSETTO:-0700
TZNAME:MST
DTSTART:20251102T080000
END:STANDARD
END:VTIMEZONE
BEGIN:VEVENT
DTSTART;TZID=America/Denver:20240427T100000
DTEND;TZID=America/Denver:20240428T120000
DTSTAMP:20260424T000931
CREATED:20240327T154824Z
LAST-MODIFIED:20240327T154824Z
UID:10000870-1714212000-1714305600@laramieevents.com
SUMMARY:Journey Within Retreat
DESCRIPTION:April 27-28\, 2024 \nThe Journey Within is an Overnight Retreat in a remote scenic setting at Curt Gowdy State Park in Wyoming. \nJoin Theresa Chavez\, Marla Petersen\, and Sarah Stepans for an introduction to energy work – including journey work\, breathwork\, vibrational sound healing and more! \nThe Journey Within will allow you to form a Deeper Connection to Self\, Rest and Restore. Connect with nature\, have an opportunity for energetic spring cleaning\, and connect with like-minded souls. \nEveryone is welcome\, come as you are!! \nInvestment: $444 (payment plans available) \n$111 – non-refundable\, but transferable due at time of registration. \nMore information and scholarship applications are found here.
URL:https://laramieevents.com/event/journey-within-retreat/
LOCATION:The Collective\, 100 S 2nd St\, Laramie\, WY\, United States
ATTACH;FMTTYPE=image/jpeg:https://laramieevents.com/wp-content/uploads/sites/3/2024/03/Within-Real-Estate-Flyer.jpg
ORGANIZER;CN="The Collective - Center for the Healing Arts":MAILTO:hello@thecollectivelaramie.com
END:VEVENT
END:VCALENDAR