BEGIN:VCALENDAR
VERSION:2.0
PRODID:-//Laramie Events - ECPv6.15.17.1//NONSGML v1.0//EN
CALSCALE:GREGORIAN
METHOD:PUBLISH
X-ORIGINAL-URL:https://laramieevents.com
X-WR-CALDESC:Events for Laramie Events
REFRESH-INTERVAL;VALUE=DURATION:PT1H
X-Robots-Tag:noindex
X-PUBLISHED-TTL:PT1H
BEGIN:VTIMEZONE
TZID:America/Denver
BEGIN:DAYLIGHT
TZOFFSETFROM:-0700
TZOFFSETTO:-0600
TZNAME:MDT
DTSTART:20230312T090000
END:DAYLIGHT
BEGIN:STANDARD
TZOFFSETFROM:-0600
TZOFFSETTO:-0700
TZNAME:MST
DTSTART:20231105T080000
END:STANDARD
BEGIN:DAYLIGHT
TZOFFSETFROM:-0700
TZOFFSETTO:-0600
TZNAME:MDT
DTSTART:20240310T090000
END:DAYLIGHT
BEGIN:STANDARD
TZOFFSETFROM:-0600
TZOFFSETTO:-0700
TZNAME:MST
DTSTART:20241103T080000
END:STANDARD
BEGIN:DAYLIGHT
TZOFFSETFROM:-0700
TZOFFSETTO:-0600
TZNAME:MDT
DTSTART:20250309T090000
END:DAYLIGHT
BEGIN:STANDARD
TZOFFSETFROM:-0600
TZOFFSETTO:-0700
TZNAME:MST
DTSTART:20251102T080000
END:STANDARD
END:VTIMEZONE
BEGIN:VEVENT
DTSTART;TZID=America/Denver:20240915T103000
DTEND;TZID=America/Denver:20240915T130000
DTSTAMP:20260424T020724
CREATED:20240812T195713Z
LAST-MODIFIED:20240812T195713Z
UID:10003208-1726396200-1726405200@laramieevents.com
SUMMARY:Brunch & Bubbly
DESCRIPTION:We are holding our annual Brunch & Bubbly event! Bring your friends and join us at 10:30am on Sunday September 15th at the Alice Hardie Stevens Center at 603 University Ave. \nTickets grant entry to a garden party with bottomless drinks\, live music from Biscuits ‘N Jam\, lawn games\, a silent auction with wonderful items from local businesses\, a delicious indoor catered brunch buffet\, our popular dessert auction\, and this year we are honored to announce our keynote speakers: family and board members of the Gabby Petito Foundation. \nWhen you support SAFE Project\, you are supporting your community by empowering survivors of domestic and sexual violence and stalking and helping them gain their safety and independence. All proceeds will be used for free and confidential crisis and safety services\, emergency shelter for adults\, children\, and pets\, services for students at our campus office including Title IX advocacy\, and ongoing support and resources\, as well as prevention education to all ages in local schools and outreach to the communities in Albany County.
URL:https://laramieevents.com/event/brunch-bubbly/
LOCATION:Alice Hardie Stevens Center\, 603 E Ivinson\, Laramie\, WY\, 82070\, United States
CATEGORIES:Fundraiser
ATTACH;FMTTYPE=image/jpeg:https://laramieevents.com/wp-content/uploads/sites/3/2024/08/Brunch-Bubbly-2024-Facebook-Post-2.jpg
ORGANIZER;CN="SAFE Project":MAILTO:info@safeproject.org
END:VEVENT
END:VCALENDAR