BEGIN:VCALENDAR
VERSION:2.0
PRODID:-//Laramie Events - ECPv6.15.17.1//NONSGML v1.0//EN
CALSCALE:GREGORIAN
METHOD:PUBLISH
X-WR-CALNAME:Laramie Events
X-ORIGINAL-URL:https://laramieevents.com
X-WR-CALDESC:Events for Laramie Events
REFRESH-INTERVAL;VALUE=DURATION:PT1H
X-Robots-Tag:noindex
X-PUBLISHED-TTL:PT1H
BEGIN:VTIMEZONE
TZID:America/Denver
BEGIN:DAYLIGHT
TZOFFSETFROM:-0700
TZOFFSETTO:-0600
TZNAME:MDT
DTSTART:20220313T090000
END:DAYLIGHT
BEGIN:STANDARD
TZOFFSETFROM:-0600
TZOFFSETTO:-0700
TZNAME:MST
DTSTART:20221106T080000
END:STANDARD
BEGIN:DAYLIGHT
TZOFFSETFROM:-0700
TZOFFSETTO:-0600
TZNAME:MDT
DTSTART:20230312T090000
END:DAYLIGHT
BEGIN:STANDARD
TZOFFSETFROM:-0600
TZOFFSETTO:-0700
TZNAME:MST
DTSTART:20231105T080000
END:STANDARD
BEGIN:DAYLIGHT
TZOFFSETFROM:-0700
TZOFFSETTO:-0600
TZNAME:MDT
DTSTART:20240310T090000
END:DAYLIGHT
BEGIN:STANDARD
TZOFFSETFROM:-0600
TZOFFSETTO:-0700
TZNAME:MST
DTSTART:20241103T080000
END:STANDARD
BEGIN:DAYLIGHT
TZOFFSETFROM:-0700
TZOFFSETTO:-0600
TZNAME:MDT
DTSTART:20250309T090000
END:DAYLIGHT
BEGIN:STANDARD
TZOFFSETFROM:-0600
TZOFFSETTO:-0700
TZNAME:MST
DTSTART:20251102T080000
END:STANDARD
BEGIN:DAYLIGHT
TZOFFSETFROM:-0700
TZOFFSETTO:-0600
TZNAME:MDT
DTSTART:20260308T090000
END:DAYLIGHT
BEGIN:STANDARD
TZOFFSETFROM:-0600
TZOFFSETTO:-0700
TZNAME:MST
DTSTART:20261101T080000
END:STANDARD
END:VTIMEZONE
BEGIN:VEVENT
DTSTART;TZID=America/Denver:20250903T160000
DTEND;TZID=America/Denver:20250903T180000
DTSTAMP:20260424T000412
CREATED:20250828T170424Z
LAST-MODIFIED:20250828T170424Z
UID:10004045-1756915200-1756922400@laramieevents.com
SUMMARY:Laramie Career Expo
DESCRIPTION:Looking for an opportunity—whether it’s an internship\, part-time job\, or full-time position? The Laramie Career Expo is your chance to connect with some of the best employers in town and see what’s available right here in our community. Enjoy a free drink from Soda Pit\, complimentary professional headshots\, and a welcoming space to network\, ask questions\, and explore new career paths. Whether you’re just starting out or looking for a change\, this event is packed with opportunities for you. Come take the next step in your journey and discover where your future could begin.
URL:https://laramieevents.com/event/laramie-career-expo/
LOCATION:Albany County Fairgrounds\, 3510 S 3rd St\, Laramie\, WY\, 82070\, United States
END:VEVENT
BEGIN:VEVENT
DTSTART;TZID=America/Denver:20250815T200000
DTEND;TZID=America/Denver:20250815T223000
DTSTAMP:20260424T000412
CREATED:20250723T184521Z
LAST-MODIFIED:20250723T184521Z
UID:10004020-1755288000-1755297000@laramieevents.com
SUMMARY:307 Glow & Go Walk/Run
DESCRIPTION:Light up Laramie with us at the 307 Glow & Go Run/Walk—a glowing 3.07-mile event to bring our community together and kick off the Capital Campaign: Gateway to Progress! Whether you run\, walk\, or jog\, come ready to shine. Participants will move through the course while enjoying music\, lights\, and our signature Glow Zone\, where you’ll be splashed with non-toxic\, washable glow powder colors. Glow supplies will be provided\, but make sure to wear a white or neon-colored shirt to make the most of the effect. After the run\, stick around for refreshments and fun! Black Tooth Brewing will be handing out complimentary beer for participants 21 and older\, and we’ll have other drinks available for those under 21. Let’s glow\, go\, and grow together—this is more than a fun run; it’s a bright step toward building a stronger future for our community.
URL:https://laramieevents.com/event/307-glow-go-walk-run/
LOCATION:2208 E Grand Ave\, 2208 East Grand Avenue\, Laramie\, WY\, 82070\, United States
CATEGORIES:Family,Fundraiser,Kid Friendly
ATTACH;FMTTYPE=image/png:https://laramieevents.com/wp-content/uploads/sites/3/2025/07/3.07-Glow-run-12.png
END:VEVENT
BEGIN:VEVENT
DTSTART;TZID=America/Denver:20231005T173000
DTEND;TZID=America/Denver:20231005T190000
DTSTAMP:20260424T000412
CREATED:20230929T195547Z
LAST-MODIFIED:20230929T195547Z
UID:10000699-1696527000-1696532400@laramieevents.com
SUMMARY:Business After Hours: Ivinson Memorial Hospital
DESCRIPTION:Join Ivinson Memorial Hospital for Business After Hours on Thursday\, October 5 starting at 5:30 pm. Hosted in our West Atrium (Entrance #4)\, we will be pouring up a good time with small bites\, drinks and door prizes. We invite you to come meet our new providers and learn about our Emergency Services Facility Expansion and Renovation
URL:https://laramieevents.com/event/business-after-hours-ivinson-memorial-hospital/
ATTACH;FMTTYPE=image/jpeg:https://laramieevents.com/wp-content/uploads/sites/3/2023/09/BAH-IVINSON.jpg
END:VEVENT
END:VCALENDAR