BEGIN:VCALENDAR
VERSION:2.0
PRODID:-//Laramie Events - ECPv6.15.17.1//NONSGML v1.0//EN
CALSCALE:GREGORIAN
METHOD:PUBLISH
X-WR-CALNAME:Laramie Events
X-ORIGINAL-URL:https://laramieevents.com
X-WR-CALDESC:Events for Laramie Events
REFRESH-INTERVAL;VALUE=DURATION:PT1H
X-Robots-Tag:noindex
X-PUBLISHED-TTL:PT1H
BEGIN:VTIMEZONE
TZID:America/Denver
BEGIN:DAYLIGHT
TZOFFSETFROM:-0700
TZOFFSETTO:-0600
TZNAME:MDT
DTSTART:20240310T090000
END:DAYLIGHT
BEGIN:STANDARD
TZOFFSETFROM:-0600
TZOFFSETTO:-0700
TZNAME:MST
DTSTART:20241103T080000
END:STANDARD
BEGIN:DAYLIGHT
TZOFFSETFROM:-0700
TZOFFSETTO:-0600
TZNAME:MDT
DTSTART:20250309T090000
END:DAYLIGHT
BEGIN:STANDARD
TZOFFSETFROM:-0600
TZOFFSETTO:-0700
TZNAME:MST
DTSTART:20251102T080000
END:STANDARD
BEGIN:DAYLIGHT
TZOFFSETFROM:-0700
TZOFFSETTO:-0600
TZNAME:MDT
DTSTART:20260308T090000
END:DAYLIGHT
BEGIN:STANDARD
TZOFFSETFROM:-0600
TZOFFSETTO:-0700
TZNAME:MST
DTSTART:20261101T080000
END:STANDARD
END:VTIMEZONE
BEGIN:VEVENT
DTSTART;TZID=America/Denver:20250504T140000
DTEND;TZID=America/Denver:20250504T170000
DTSTAMP:20260424T015819
CREATED:20250423T222826Z
LAST-MODIFIED:20250425T011910Z
UID:10003596-1746367200-1746378000@laramieevents.com
SUMMARY:POSTPONED: Hospice of Laramie Taste & Toast 2025
DESCRIPTION:May the Fourth be with you! Come Solo\, or bring all of your Troopers\, to the 2025 Hospice of Laramie Taste & Toast – Sunday\, May the 4th from 2-5pm at the Albany County Fairgrounds. Sample TASTES from our local restaurants\, bakers\, and brewers\, and then vote for your favorites so that we can TOAST Laramie’s food and beverage Jedi.  Your $35 ticket gives you full access to enjoy food\, alcoholic and NA beverages\, music\, games\, and bid on exciting silent auction items. And did we mention a Star Wars themed costume contest?  Prizes will be awarded to the “best dressed” characters so break out your best robes\, light sabers\, and Ewok ears if you want to participate (no sharp weapons allowed). \nDon’t just Leia around or Sith there…. Get your tickets today at https://tinyurl.com/TasteAndToast2025! \nIf your business has not been contacted and you would like to show off your food and/or beverages\, or if you want to become an official sponsor of the Taste & Toast\, email Maria at HospiceOfLaramieWY@gmail.com or contact Sarah at 307-745-9254. \nHospice of Laramie is a 501c3 non-profit organization that provides support and dignity during the last stages of life for members of our community\, regardless of their ability to pay. \n*This is a casual event with no age requirement\, but is not intended for young Padawans
URL:https://laramieevents.com/event/hospice-of-laramie-taste-toast-2025/
LOCATION:Albany County Fairgrounds\, 3510 S 3rd St\, Laramie\, WY\, 82070\, United States
CATEGORIES:Food,Fundraiser
ATTACH;FMTTYPE=image/jpeg:https://laramieevents.com/wp-content/uploads/sites/3/2025/04/TandT2025-logo.jpg
ORGANIZER;CN="Hospice of Laramie":MAILTO:hospiceoflaramiewy@gmail.com
END:VEVENT
END:VCALENDAR