BEGIN:VCALENDAR
VERSION:2.0
PRODID:-//Laramie Events - ECPv6.15.17.1//NONSGML v1.0//EN
CALSCALE:GREGORIAN
METHOD:PUBLISH
X-WR-CALNAME:Laramie Events
X-ORIGINAL-URL:https://laramieevents.com
X-WR-CALDESC:Events for Laramie Events
REFRESH-INTERVAL;VALUE=DURATION:PT1H
X-Robots-Tag:noindex
X-PUBLISHED-TTL:PT1H
BEGIN:VTIMEZONE
TZID:-06:00
END:VTIMEZONE
BEGIN:VEVENT
DTSTART;TZID=-06:00:20230529T190000
DTEND;TZID=-06:00:20230529T210000
DTSTAMP:20260424T054752
CREATED:20230523T051114Z
LAST-MODIFIED:20230523T051115Z
UID:10000033-1685386800-1685394000@laramieevents.com
SUMMARY:Laramie Writers Group
DESCRIPTION:• What we’ll do\nReview and critique writings of members who bring work. \n• What to bring\nWritten work\, between 1500 and 2000 words long. Copies enough for everyone who RSVP’s. \n• Important to know: Contact me\, doc@docspix.com prior to 6 PM Monday for meeting location – we now meet online via GoToMeeting. Please contact me for invitation information.
URL:https://laramieevents.com/event/laramie-writers-group/
LOCATION:Online event
GEO:41.309753;-105.588318
END:VEVENT
END:VCALENDAR