BEGIN:VCALENDAR
VERSION:2.0
PRODID:-//Laramie Events - ECPv6.15.17.1//NONSGML v1.0//EN
CALSCALE:GREGORIAN
METHOD:PUBLISH
X-WR-CALNAME:Laramie Events
X-ORIGINAL-URL:https://laramieevents.com
X-WR-CALDESC:Events for Laramie Events
REFRESH-INTERVAL;VALUE=DURATION:PT1H
X-Robots-Tag:noindex
X-PUBLISHED-TTL:PT1H
BEGIN:VTIMEZONE
TZID:America/Denver
BEGIN:DAYLIGHT
TZOFFSETFROM:-0700
TZOFFSETTO:-0600
TZNAME:MDT
DTSTART:20240310T090000
END:DAYLIGHT
BEGIN:STANDARD
TZOFFSETFROM:-0600
TZOFFSETTO:-0700
TZNAME:MST
DTSTART:20241103T080000
END:STANDARD
BEGIN:DAYLIGHT
TZOFFSETFROM:-0700
TZOFFSETTO:-0600
TZNAME:MDT
DTSTART:20250309T090000
END:DAYLIGHT
BEGIN:STANDARD
TZOFFSETFROM:-0600
TZOFFSETTO:-0700
TZNAME:MST
DTSTART:20251102T080000
END:STANDARD
BEGIN:DAYLIGHT
TZOFFSETFROM:-0700
TZOFFSETTO:-0600
TZNAME:MDT
DTSTART:20260308T090000
END:DAYLIGHT
BEGIN:STANDARD
TZOFFSETFROM:-0600
TZOFFSETTO:-0700
TZNAME:MST
DTSTART:20261101T080000
END:STANDARD
END:VTIMEZONE
BEGIN:VEVENT
DTSTART;TZID=America/Denver:20250405T173000
DTEND;TZID=America/Denver:20250405T210000
DTSTAMP:20260424T001417
CREATED:20250404T155104Z
LAST-MODIFIED:20250404T155104Z
UID:10003283-1743874200-1743886800@laramieevents.com
SUMMARY:2025 Ark Regional Services 12th Annual Casino Night
DESCRIPTION:Come try your luck at Ark’s 12th Annual Event and Casino Night\, which will be held on Saturday\, April 5th\, 2024\, at the UW Conference Center at the Hilton Garden Inn. \nEnjoy an evening of Vegas-style Casino Games\, Gun Raffles\, Live and Silent Auctions\, Bucket Raffles\, and Gift Card & Liquor pulls. \nDinner is served when doors open at 5:30 pm. A cash bar will be available.For more information\, contact Colby Chisholm or James Mauk at (307) 742-6641\, colby@arkrs.org\, or visit our website\, www.arkregionalservices.org
URL:https://laramieevents.com/event/2025-ark-regional-services-12th-annual-casino-night/
LOCATION:University of Wyoming Conference Center\, 2229 E Grand Ave\, Laramie\, Wy\, WY 82070\, Laramie\, WY\, 82072\, United States
CATEGORIES:Food,Fundraiser
ATTACH;FMTTYPE=image/png:https://laramieevents.com/wp-content/uploads/sites/3/2025/01/Save-the-date.png
ORGANIZER;CN="Ark Regional Services":MAILTO:outreach@arkrs.org
END:VEVENT
END:VCALENDAR