BEGIN:VCALENDAR
VERSION:2.0
PRODID:-//Laramie Events - ECPv6.15.17.1//NONSGML v1.0//EN
CALSCALE:GREGORIAN
METHOD:PUBLISH
X-WR-CALNAME:Laramie Events
X-ORIGINAL-URL:https://laramieevents.com
X-WR-CALDESC:Events for Laramie Events
REFRESH-INTERVAL;VALUE=DURATION:PT1H
X-Robots-Tag:noindex
X-PUBLISHED-TTL:PT1H
BEGIN:VTIMEZONE
TZID:America/Denver
BEGIN:DAYLIGHT
TZOFFSETFROM:-0700
TZOFFSETTO:-0600
TZNAME:MDT
DTSTART:20240310T090000
END:DAYLIGHT
BEGIN:STANDARD
TZOFFSETFROM:-0600
TZOFFSETTO:-0700
TZNAME:MST
DTSTART:20241103T080000
END:STANDARD
BEGIN:DAYLIGHT
TZOFFSETFROM:-0700
TZOFFSETTO:-0600
TZNAME:MDT
DTSTART:20250309T090000
END:DAYLIGHT
BEGIN:STANDARD
TZOFFSETFROM:-0600
TZOFFSETTO:-0700
TZNAME:MST
DTSTART:20251102T080000
END:STANDARD
BEGIN:DAYLIGHT
TZOFFSETFROM:-0700
TZOFFSETTO:-0600
TZNAME:MDT
DTSTART:20260308T090000
END:DAYLIGHT
BEGIN:STANDARD
TZOFFSETFROM:-0600
TZOFFSETTO:-0700
TZNAME:MST
DTSTART:20261101T080000
END:STANDARD
END:VTIMEZONE
BEGIN:VEVENT
DTSTART;TZID=America/Denver:20250906T090000
DTEND;TZID=America/Denver:20250906T120000
DTSTAMP:20260424T154038
CREATED:20250717T155719Z
LAST-MODIFIED:20250717T155719Z
UID:10004018-1757149200-1757160000@laramieevents.com
SUMMARY:2025 Wyoming Buddy Walk
DESCRIPTION:The 2025 Wyoming Buddy Walk® will begin at 9 am and we will have a variety of carnival games\, carnival snacks\, and live music. At 10:15 am we will have our recognition ceremony and walk. We return to the band shell where we will enjoy lunch and more music. The event will conclude at 12 pm\, which will provide enough time for people attending the University of Wyoming football game to make their way to Tailgate Park to enjoy the UW festivities.
URL:https://laramieevents.com/event/2025-wyoming-buddy-walk/
LOCATION:Washington Park
CATEGORIES:Fundraiser
ATTACH;FMTTYPE=image/jpeg:https://laramieevents.com/wp-content/uploads/sites/3/2025/07/BW-2025-postcard-7-x-5-in.jpg
END:VEVENT
END:VCALENDAR