BEGIN:VCALENDAR
VERSION:2.0
PRODID:-//Laramie Events - ECPv6.15.17.1//NONSGML v1.0//EN
CALSCALE:GREGORIAN
METHOD:PUBLISH
X-WR-CALNAME:Laramie Events
X-ORIGINAL-URL:https://laramieevents.com
X-WR-CALDESC:Events for Laramie Events
REFRESH-INTERVAL;VALUE=DURATION:PT1H
X-Robots-Tag:noindex
X-PUBLISHED-TTL:PT1H
BEGIN:VTIMEZONE
TZID:America/Denver
BEGIN:DAYLIGHT
TZOFFSETFROM:-0700
TZOFFSETTO:-0600
TZNAME:MDT
DTSTART:20250309T090000
END:DAYLIGHT
BEGIN:STANDARD
TZOFFSETFROM:-0600
TZOFFSETTO:-0700
TZNAME:MST
DTSTART:20251102T080000
END:STANDARD
BEGIN:DAYLIGHT
TZOFFSETFROM:-0700
TZOFFSETTO:-0600
TZNAME:MDT
DTSTART:20260308T090000
END:DAYLIGHT
BEGIN:STANDARD
TZOFFSETFROM:-0600
TZOFFSETTO:-0700
TZNAME:MST
DTSTART:20261101T080000
END:STANDARD
BEGIN:DAYLIGHT
TZOFFSETFROM:-0700
TZOFFSETTO:-0600
TZNAME:MDT
DTSTART:20270314T090000
END:DAYLIGHT
BEGIN:STANDARD
TZOFFSETFROM:-0600
TZOFFSETTO:-0700
TZNAME:MST
DTSTART:20271107T080000
END:STANDARD
END:VTIMEZONE
BEGIN:VEVENT
DTSTART;TZID=America/Denver:20260206T183000
DTEND;TZID=America/Denver:20260206T203000
DTSTAMP:20260424T055529
CREATED:20260114T213209Z
LAST-MODIFIED:20260114T213209Z
UID:10007776-1770402600-1770409800@laramieevents.com
SUMMARY:Laramie Soup Kitchen: Virtual Bingo
DESCRIPTION:The Laramie Soup Kitchen hosts their annual Virtual Bingo night! This fun\, family-friendly virtual fundraiser promises to be interactive with tons of great prizes to win! Check out our social media for sneak peeks of prizes! \nFor best Pricing & Perks\, order your tickets before 02/02/2026 \nOnce tickets are purchased\, the day of the event you will receive a broadcast link\, 1 set of BINGO cards\, and 1 dessert sampler box.
URL:https://laramieevents.com/event/laramie-soup-kitchen-virtual-bingo/
LOCATION:Online event
CATEGORIES:Fundraiser
ATTACH;FMTTYPE=image/png:https://laramieevents.com/wp-content/uploads/sites/3/2026/01/Virtual-BINGO-02-2026-Flyer-scaled.png
ORGANIZER;CN="Laramie Soup Kitchen":MAILTO:outreach@laramiesoupkitchen.org
GEO:41.309753;-105.588318
END:VEVENT
END:VCALENDAR