BEGIN:VCALENDAR
VERSION:2.0
PRODID:-//Laramie Events - ECPv6.15.17.1//NONSGML v1.0//EN
CALSCALE:GREGORIAN
METHOD:PUBLISH
X-WR-CALNAME:Laramie Events
X-ORIGINAL-URL:https://laramieevents.com
X-WR-CALDESC:Events for Laramie Events
REFRESH-INTERVAL;VALUE=DURATION:PT1H
X-Robots-Tag:noindex
X-PUBLISHED-TTL:PT1H
BEGIN:VTIMEZONE
TZID:America/Denver
BEGIN:DAYLIGHT
TZOFFSETFROM:-0700
TZOFFSETTO:-0600
TZNAME:MDT
DTSTART:20250309T090000
END:DAYLIGHT
BEGIN:STANDARD
TZOFFSETFROM:-0600
TZOFFSETTO:-0700
TZNAME:MST
DTSTART:20251102T080000
END:STANDARD
BEGIN:DAYLIGHT
TZOFFSETFROM:-0700
TZOFFSETTO:-0600
TZNAME:MDT
DTSTART:20260308T090000
END:DAYLIGHT
BEGIN:STANDARD
TZOFFSETFROM:-0600
TZOFFSETTO:-0700
TZNAME:MST
DTSTART:20261101T080000
END:STANDARD
BEGIN:DAYLIGHT
TZOFFSETFROM:-0700
TZOFFSETTO:-0600
TZNAME:MDT
DTSTART:20270314T090000
END:DAYLIGHT
BEGIN:STANDARD
TZOFFSETFROM:-0600
TZOFFSETTO:-0700
TZNAME:MST
DTSTART:20271107T080000
END:STANDARD
END:VTIMEZONE
BEGIN:VEVENT
DTSTART;TZID=America/Denver:20260426T163000
DTEND;TZID=America/Denver:20260426T180000
DTSTAMP:20260423T142110
CREATED:20250220T010050Z
LAST-MODIFIED:20250220T010050Z
UID:10003372-1777221000-1777226400@laramieevents.com
SUMMARY:Laramie Connections Free Sunday Dinner
DESCRIPTION:From the organizers:\n4:30 pm Sundays @ First Baptist Church\nEveryone is welcome to come and enjoy a hot meal Sunday evenings along with great company.  While regular meal offerings are closed on the weekends we are happy to step in and offer a free meal gathering. \nOur meal is provided by the Laramie Soup Kitchen\, Laramie Interfaith and Eppson Center being closed on the weekends.
URL:https://laramieevents.com/event/laramie-connections-free-sunday-dinner/2026-04-26/
ATTACH;FMTTYPE=image/png:https://laramieevents.com/wp-content/uploads/sites/3/2025/02/family-dinner-3407701_1280.png
END:VEVENT
BEGIN:VEVENT
DTSTART;TZID=America/Denver:20260503T163000
DTEND;TZID=America/Denver:20260503T180000
DTSTAMP:20260423T142110
CREATED:20250220T010050Z
LAST-MODIFIED:20250220T010050Z
UID:10003373-1777825800-1777831200@laramieevents.com
SUMMARY:Laramie Connections Free Sunday Dinner
DESCRIPTION:From the organizers:\n4:30 pm Sundays @ First Baptist Church\nEveryone is welcome to come and enjoy a hot meal Sunday evenings along with great company.  While regular meal offerings are closed on the weekends we are happy to step in and offer a free meal gathering. \nOur meal is provided by the Laramie Soup Kitchen\, Laramie Interfaith and Eppson Center being closed on the weekends.
URL:https://laramieevents.com/event/laramie-connections-free-sunday-dinner/2026-05-03/
ATTACH;FMTTYPE=image/png:https://laramieevents.com/wp-content/uploads/sites/3/2025/02/family-dinner-3407701_1280.png
END:VEVENT
BEGIN:VEVENT
DTSTART;TZID=America/Denver:20260510T163000
DTEND;TZID=America/Denver:20260510T180000
DTSTAMP:20260423T142110
CREATED:20250220T010050Z
LAST-MODIFIED:20250220T010050Z
UID:10003374-1778430600-1778436000@laramieevents.com
SUMMARY:Laramie Connections Free Sunday Dinner
DESCRIPTION:From the organizers:\n4:30 pm Sundays @ First Baptist Church\nEveryone is welcome to come and enjoy a hot meal Sunday evenings along with great company.  While regular meal offerings are closed on the weekends we are happy to step in and offer a free meal gathering. \nOur meal is provided by the Laramie Soup Kitchen\, Laramie Interfaith and Eppson Center being closed on the weekends.
URL:https://laramieevents.com/event/laramie-connections-free-sunday-dinner/2026-05-10/
ATTACH;FMTTYPE=image/png:https://laramieevents.com/wp-content/uploads/sites/3/2025/02/family-dinner-3407701_1280.png
END:VEVENT
BEGIN:VEVENT
DTSTART;TZID=America/Denver:20260517T163000
DTEND;TZID=America/Denver:20260517T180000
DTSTAMP:20260423T142110
CREATED:20250220T010050Z
LAST-MODIFIED:20250220T010050Z
UID:10003375-1779035400-1779040800@laramieevents.com
SUMMARY:Laramie Connections Free Sunday Dinner
DESCRIPTION:From the organizers:\n4:30 pm Sundays @ First Baptist Church\nEveryone is welcome to come and enjoy a hot meal Sunday evenings along with great company.  While regular meal offerings are closed on the weekends we are happy to step in and offer a free meal gathering. \nOur meal is provided by the Laramie Soup Kitchen\, Laramie Interfaith and Eppson Center being closed on the weekends.
URL:https://laramieevents.com/event/laramie-connections-free-sunday-dinner/2026-05-17/
ATTACH;FMTTYPE=image/png:https://laramieevents.com/wp-content/uploads/sites/3/2025/02/family-dinner-3407701_1280.png
END:VEVENT
BEGIN:VEVENT
DTSTART;TZID=America/Denver:20260524T163000
DTEND;TZID=America/Denver:20260524T180000
DTSTAMP:20260423T142110
CREATED:20250220T010050Z
LAST-MODIFIED:20250220T010050Z
UID:10003376-1779640200-1779645600@laramieevents.com
SUMMARY:Laramie Connections Free Sunday Dinner
DESCRIPTION:From the organizers:\n4:30 pm Sundays @ First Baptist Church\nEveryone is welcome to come and enjoy a hot meal Sunday evenings along with great company.  While regular meal offerings are closed on the weekends we are happy to step in and offer a free meal gathering. \nOur meal is provided by the Laramie Soup Kitchen\, Laramie Interfaith and Eppson Center being closed on the weekends.
URL:https://laramieevents.com/event/laramie-connections-free-sunday-dinner/2026-05-24/
ATTACH;FMTTYPE=image/png:https://laramieevents.com/wp-content/uploads/sites/3/2025/02/family-dinner-3407701_1280.png
END:VEVENT
BEGIN:VEVENT
DTSTART;TZID=America/Denver:20260531T163000
DTEND;TZID=America/Denver:20260531T180000
DTSTAMP:20260423T142110
CREATED:20250220T010050Z
LAST-MODIFIED:20250220T010050Z
UID:10003377-1780245000-1780250400@laramieevents.com
SUMMARY:Laramie Connections Free Sunday Dinner
DESCRIPTION:From the organizers:\n4:30 pm Sundays @ First Baptist Church\nEveryone is welcome to come and enjoy a hot meal Sunday evenings along with great company.  While regular meal offerings are closed on the weekends we are happy to step in and offer a free meal gathering. \nOur meal is provided by the Laramie Soup Kitchen\, Laramie Interfaith and Eppson Center being closed on the weekends.
URL:https://laramieevents.com/event/laramie-connections-free-sunday-dinner/2026-05-31/
ATTACH;FMTTYPE=image/png:https://laramieevents.com/wp-content/uploads/sites/3/2025/02/family-dinner-3407701_1280.png
END:VEVENT
BEGIN:VEVENT
DTSTART;TZID=America/Denver:20260607T163000
DTEND;TZID=America/Denver:20260607T180000
DTSTAMP:20260423T142110
CREATED:20250220T010050Z
LAST-MODIFIED:20250220T010050Z
UID:10003378-1780849800-1780855200@laramieevents.com
SUMMARY:Laramie Connections Free Sunday Dinner
DESCRIPTION:From the organizers:\n4:30 pm Sundays @ First Baptist Church\nEveryone is welcome to come and enjoy a hot meal Sunday evenings along with great company.  While regular meal offerings are closed on the weekends we are happy to step in and offer a free meal gathering. \nOur meal is provided by the Laramie Soup Kitchen\, Laramie Interfaith and Eppson Center being closed on the weekends.
URL:https://laramieevents.com/event/laramie-connections-free-sunday-dinner/2026-06-07/
ATTACH;FMTTYPE=image/png:https://laramieevents.com/wp-content/uploads/sites/3/2025/02/family-dinner-3407701_1280.png
END:VEVENT
BEGIN:VEVENT
DTSTART;TZID=America/Denver:20260614T163000
DTEND;TZID=America/Denver:20260614T180000
DTSTAMP:20260423T142110
CREATED:20250220T010050Z
LAST-MODIFIED:20250220T010050Z
UID:10003379-1781454600-1781460000@laramieevents.com
SUMMARY:Laramie Connections Free Sunday Dinner
DESCRIPTION:From the organizers:\n4:30 pm Sundays @ First Baptist Church\nEveryone is welcome to come and enjoy a hot meal Sunday evenings along with great company.  While regular meal offerings are closed on the weekends we are happy to step in and offer a free meal gathering. \nOur meal is provided by the Laramie Soup Kitchen\, Laramie Interfaith and Eppson Center being closed on the weekends.
URL:https://laramieevents.com/event/laramie-connections-free-sunday-dinner/2026-06-14/
ATTACH;FMTTYPE=image/png:https://laramieevents.com/wp-content/uploads/sites/3/2025/02/family-dinner-3407701_1280.png
END:VEVENT
BEGIN:VEVENT
DTSTART;TZID=America/Denver:20260621T163000
DTEND;TZID=America/Denver:20260621T180000
DTSTAMP:20260423T142110
CREATED:20250220T010050Z
LAST-MODIFIED:20250220T010050Z
UID:10003380-1782059400-1782064800@laramieevents.com
SUMMARY:Laramie Connections Free Sunday Dinner
DESCRIPTION:From the organizers:\n4:30 pm Sundays @ First Baptist Church\nEveryone is welcome to come and enjoy a hot meal Sunday evenings along with great company.  While regular meal offerings are closed on the weekends we are happy to step in and offer a free meal gathering. \nOur meal is provided by the Laramie Soup Kitchen\, Laramie Interfaith and Eppson Center being closed on the weekends.
URL:https://laramieevents.com/event/laramie-connections-free-sunday-dinner/2026-06-21/
ATTACH;FMTTYPE=image/png:https://laramieevents.com/wp-content/uploads/sites/3/2025/02/family-dinner-3407701_1280.png
END:VEVENT
BEGIN:VEVENT
DTSTART;TZID=America/Denver:20260628T163000
DTEND;TZID=America/Denver:20260628T180000
DTSTAMP:20260423T142110
CREATED:20250220T010050Z
LAST-MODIFIED:20250220T010050Z
UID:10003381-1782664200-1782669600@laramieevents.com
SUMMARY:Laramie Connections Free Sunday Dinner
DESCRIPTION:From the organizers:\n4:30 pm Sundays @ First Baptist Church\nEveryone is welcome to come and enjoy a hot meal Sunday evenings along with great company.  While regular meal offerings are closed on the weekends we are happy to step in and offer a free meal gathering. \nOur meal is provided by the Laramie Soup Kitchen\, Laramie Interfaith and Eppson Center being closed on the weekends.
URL:https://laramieevents.com/event/laramie-connections-free-sunday-dinner/2026-06-28/
ATTACH;FMTTYPE=image/png:https://laramieevents.com/wp-content/uploads/sites/3/2025/02/family-dinner-3407701_1280.png
END:VEVENT
BEGIN:VEVENT
DTSTART;TZID=America/Denver:20260705T163000
DTEND;TZID=America/Denver:20260705T180000
DTSTAMP:20260423T142110
CREATED:20250220T010050Z
LAST-MODIFIED:20250220T010050Z
UID:10003382-1783269000-1783274400@laramieevents.com
SUMMARY:Laramie Connections Free Sunday Dinner
DESCRIPTION:From the organizers:\n4:30 pm Sundays @ First Baptist Church\nEveryone is welcome to come and enjoy a hot meal Sunday evenings along with great company.  While regular meal offerings are closed on the weekends we are happy to step in and offer a free meal gathering. \nOur meal is provided by the Laramie Soup Kitchen\, Laramie Interfaith and Eppson Center being closed on the weekends.
URL:https://laramieevents.com/event/laramie-connections-free-sunday-dinner/2026-07-05/
ATTACH;FMTTYPE=image/png:https://laramieevents.com/wp-content/uploads/sites/3/2025/02/family-dinner-3407701_1280.png
END:VEVENT
BEGIN:VEVENT
DTSTART;TZID=America/Denver:20260712T163000
DTEND;TZID=America/Denver:20260712T180000
DTSTAMP:20260423T142110
CREATED:20250220T010050Z
LAST-MODIFIED:20250220T010050Z
UID:10003383-1783873800-1783879200@laramieevents.com
SUMMARY:Laramie Connections Free Sunday Dinner
DESCRIPTION:From the organizers:\n4:30 pm Sundays @ First Baptist Church\nEveryone is welcome to come and enjoy a hot meal Sunday evenings along with great company.  While regular meal offerings are closed on the weekends we are happy to step in and offer a free meal gathering. \nOur meal is provided by the Laramie Soup Kitchen\, Laramie Interfaith and Eppson Center being closed on the weekends.
URL:https://laramieevents.com/event/laramie-connections-free-sunday-dinner/2026-07-12/
ATTACH;FMTTYPE=image/png:https://laramieevents.com/wp-content/uploads/sites/3/2025/02/family-dinner-3407701_1280.png
END:VEVENT
BEGIN:VEVENT
DTSTART;TZID=America/Denver:20260719T163000
DTEND;TZID=America/Denver:20260719T180000
DTSTAMP:20260423T142110
CREATED:20250220T010050Z
LAST-MODIFIED:20250220T010050Z
UID:10003384-1784478600-1784484000@laramieevents.com
SUMMARY:Laramie Connections Free Sunday Dinner
DESCRIPTION:From the organizers:\n4:30 pm Sundays @ First Baptist Church\nEveryone is welcome to come and enjoy a hot meal Sunday evenings along with great company.  While regular meal offerings are closed on the weekends we are happy to step in and offer a free meal gathering. \nOur meal is provided by the Laramie Soup Kitchen\, Laramie Interfaith and Eppson Center being closed on the weekends.
URL:https://laramieevents.com/event/laramie-connections-free-sunday-dinner/2026-07-19/
ATTACH;FMTTYPE=image/png:https://laramieevents.com/wp-content/uploads/sites/3/2025/02/family-dinner-3407701_1280.png
END:VEVENT
BEGIN:VEVENT
DTSTART;TZID=America/Denver:20260726T163000
DTEND;TZID=America/Denver:20260726T180000
DTSTAMP:20260423T142110
CREATED:20250220T010050Z
LAST-MODIFIED:20250220T010050Z
UID:10003385-1785083400-1785088800@laramieevents.com
SUMMARY:Laramie Connections Free Sunday Dinner
DESCRIPTION:From the organizers:\n4:30 pm Sundays @ First Baptist Church\nEveryone is welcome to come and enjoy a hot meal Sunday evenings along with great company.  While regular meal offerings are closed on the weekends we are happy to step in and offer a free meal gathering. \nOur meal is provided by the Laramie Soup Kitchen\, Laramie Interfaith and Eppson Center being closed on the weekends.
URL:https://laramieevents.com/event/laramie-connections-free-sunday-dinner/2026-07-26/
ATTACH;FMTTYPE=image/png:https://laramieevents.com/wp-content/uploads/sites/3/2025/02/family-dinner-3407701_1280.png
END:VEVENT
BEGIN:VEVENT
DTSTART;TZID=America/Denver:20260802T163000
DTEND;TZID=America/Denver:20260802T180000
DTSTAMP:20260423T142110
CREATED:20250220T010050Z
LAST-MODIFIED:20250220T010050Z
UID:10003386-1785688200-1785693600@laramieevents.com
SUMMARY:Laramie Connections Free Sunday Dinner
DESCRIPTION:From the organizers:\n4:30 pm Sundays @ First Baptist Church\nEveryone is welcome to come and enjoy a hot meal Sunday evenings along with great company.  While regular meal offerings are closed on the weekends we are happy to step in and offer a free meal gathering. \nOur meal is provided by the Laramie Soup Kitchen\, Laramie Interfaith and Eppson Center being closed on the weekends.
URL:https://laramieevents.com/event/laramie-connections-free-sunday-dinner/2026-08-02/
ATTACH;FMTTYPE=image/png:https://laramieevents.com/wp-content/uploads/sites/3/2025/02/family-dinner-3407701_1280.png
END:VEVENT
BEGIN:VEVENT
DTSTART;TZID=America/Denver:20260809T163000
DTEND;TZID=America/Denver:20260809T180000
DTSTAMP:20260423T142110
CREATED:20250220T010050Z
LAST-MODIFIED:20250220T010050Z
UID:10003387-1786293000-1786298400@laramieevents.com
SUMMARY:Laramie Connections Free Sunday Dinner
DESCRIPTION:From the organizers:\n4:30 pm Sundays @ First Baptist Church\nEveryone is welcome to come and enjoy a hot meal Sunday evenings along with great company.  While regular meal offerings are closed on the weekends we are happy to step in and offer a free meal gathering. \nOur meal is provided by the Laramie Soup Kitchen\, Laramie Interfaith and Eppson Center being closed on the weekends.
URL:https://laramieevents.com/event/laramie-connections-free-sunday-dinner/2026-08-09/
ATTACH;FMTTYPE=image/png:https://laramieevents.com/wp-content/uploads/sites/3/2025/02/family-dinner-3407701_1280.png
END:VEVENT
BEGIN:VEVENT
DTSTART;TZID=America/Denver:20260816T163000
DTEND;TZID=America/Denver:20260816T180000
DTSTAMP:20260423T142110
CREATED:20250220T010050Z
LAST-MODIFIED:20250220T010050Z
UID:10003388-1786897800-1786903200@laramieevents.com
SUMMARY:Laramie Connections Free Sunday Dinner
DESCRIPTION:From the organizers:\n4:30 pm Sundays @ First Baptist Church\nEveryone is welcome to come and enjoy a hot meal Sunday evenings along with great company.  While regular meal offerings are closed on the weekends we are happy to step in and offer a free meal gathering. \nOur meal is provided by the Laramie Soup Kitchen\, Laramie Interfaith and Eppson Center being closed on the weekends.
URL:https://laramieevents.com/event/laramie-connections-free-sunday-dinner/2026-08-16/
ATTACH;FMTTYPE=image/png:https://laramieevents.com/wp-content/uploads/sites/3/2025/02/family-dinner-3407701_1280.png
END:VEVENT
BEGIN:VEVENT
DTSTART;TZID=America/Denver:20260823T163000
DTEND;TZID=America/Denver:20260823T180000
DTSTAMP:20260423T142110
CREATED:20250220T010050Z
LAST-MODIFIED:20250220T010050Z
UID:10003389-1787502600-1787508000@laramieevents.com
SUMMARY:Laramie Connections Free Sunday Dinner
DESCRIPTION:From the organizers:\n4:30 pm Sundays @ First Baptist Church\nEveryone is welcome to come and enjoy a hot meal Sunday evenings along with great company.  While regular meal offerings are closed on the weekends we are happy to step in and offer a free meal gathering. \nOur meal is provided by the Laramie Soup Kitchen\, Laramie Interfaith and Eppson Center being closed on the weekends.
URL:https://laramieevents.com/event/laramie-connections-free-sunday-dinner/2026-08-23/
ATTACH;FMTTYPE=image/png:https://laramieevents.com/wp-content/uploads/sites/3/2025/02/family-dinner-3407701_1280.png
END:VEVENT
BEGIN:VEVENT
DTSTART;TZID=America/Denver:20260830T163000
DTEND;TZID=America/Denver:20260830T180000
DTSTAMP:20260423T142110
CREATED:20250220T010050Z
LAST-MODIFIED:20250220T010050Z
UID:10003390-1788107400-1788112800@laramieevents.com
SUMMARY:Laramie Connections Free Sunday Dinner
DESCRIPTION:From the organizers:\n4:30 pm Sundays @ First Baptist Church\nEveryone is welcome to come and enjoy a hot meal Sunday evenings along with great company.  While regular meal offerings are closed on the weekends we are happy to step in and offer a free meal gathering. \nOur meal is provided by the Laramie Soup Kitchen\, Laramie Interfaith and Eppson Center being closed on the weekends.
URL:https://laramieevents.com/event/laramie-connections-free-sunday-dinner/2026-08-30/
ATTACH;FMTTYPE=image/png:https://laramieevents.com/wp-content/uploads/sites/3/2025/02/family-dinner-3407701_1280.png
END:VEVENT
BEGIN:VEVENT
DTSTART;TZID=America/Denver:20260906T163000
DTEND;TZID=America/Denver:20260906T180000
DTSTAMP:20260423T142110
CREATED:20250220T010050Z
LAST-MODIFIED:20250220T010050Z
UID:10003391-1788712200-1788717600@laramieevents.com
SUMMARY:Laramie Connections Free Sunday Dinner
DESCRIPTION:From the organizers:\n4:30 pm Sundays @ First Baptist Church\nEveryone is welcome to come and enjoy a hot meal Sunday evenings along with great company.  While regular meal offerings are closed on the weekends we are happy to step in and offer a free meal gathering. \nOur meal is provided by the Laramie Soup Kitchen\, Laramie Interfaith and Eppson Center being closed on the weekends.
URL:https://laramieevents.com/event/laramie-connections-free-sunday-dinner/2026-09-06/
ATTACH;FMTTYPE=image/png:https://laramieevents.com/wp-content/uploads/sites/3/2025/02/family-dinner-3407701_1280.png
END:VEVENT
BEGIN:VEVENT
DTSTART;TZID=America/Denver:20260913T163000
DTEND;TZID=America/Denver:20260913T180000
DTSTAMP:20260423T142110
CREATED:20250220T010050Z
LAST-MODIFIED:20250220T010050Z
UID:10003392-1789317000-1789322400@laramieevents.com
SUMMARY:Laramie Connections Free Sunday Dinner
DESCRIPTION:From the organizers:\n4:30 pm Sundays @ First Baptist Church\nEveryone is welcome to come and enjoy a hot meal Sunday evenings along with great company.  While regular meal offerings are closed on the weekends we are happy to step in and offer a free meal gathering. \nOur meal is provided by the Laramie Soup Kitchen\, Laramie Interfaith and Eppson Center being closed on the weekends.
URL:https://laramieevents.com/event/laramie-connections-free-sunday-dinner/2026-09-13/
ATTACH;FMTTYPE=image/png:https://laramieevents.com/wp-content/uploads/sites/3/2025/02/family-dinner-3407701_1280.png
END:VEVENT
BEGIN:VEVENT
DTSTART;TZID=America/Denver:20260920T163000
DTEND;TZID=America/Denver:20260920T180000
DTSTAMP:20260423T142110
CREATED:20250220T010050Z
LAST-MODIFIED:20250220T010050Z
UID:10003393-1789921800-1789927200@laramieevents.com
SUMMARY:Laramie Connections Free Sunday Dinner
DESCRIPTION:From the organizers:\n4:30 pm Sundays @ First Baptist Church\nEveryone is welcome to come and enjoy a hot meal Sunday evenings along with great company.  While regular meal offerings are closed on the weekends we are happy to step in and offer a free meal gathering. \nOur meal is provided by the Laramie Soup Kitchen\, Laramie Interfaith and Eppson Center being closed on the weekends.
URL:https://laramieevents.com/event/laramie-connections-free-sunday-dinner/2026-09-20/
ATTACH;FMTTYPE=image/png:https://laramieevents.com/wp-content/uploads/sites/3/2025/02/family-dinner-3407701_1280.png
END:VEVENT
BEGIN:VEVENT
DTSTART;TZID=America/Denver:20260927T163000
DTEND;TZID=America/Denver:20260927T180000
DTSTAMP:20260423T142110
CREATED:20250220T010050Z
LAST-MODIFIED:20250220T010050Z
UID:10003394-1790526600-1790532000@laramieevents.com
SUMMARY:Laramie Connections Free Sunday Dinner
DESCRIPTION:From the organizers:\n4:30 pm Sundays @ First Baptist Church\nEveryone is welcome to come and enjoy a hot meal Sunday evenings along with great company.  While regular meal offerings are closed on the weekends we are happy to step in and offer a free meal gathering. \nOur meal is provided by the Laramie Soup Kitchen\, Laramie Interfaith and Eppson Center being closed on the weekends.
URL:https://laramieevents.com/event/laramie-connections-free-sunday-dinner/2026-09-27/
ATTACH;FMTTYPE=image/png:https://laramieevents.com/wp-content/uploads/sites/3/2025/02/family-dinner-3407701_1280.png
END:VEVENT
BEGIN:VEVENT
DTSTART;TZID=America/Denver:20261004T163000
DTEND;TZID=America/Denver:20261004T180000
DTSTAMP:20260423T142110
CREATED:20250220T010050Z
LAST-MODIFIED:20250220T010050Z
UID:10003395-1791131400-1791136800@laramieevents.com
SUMMARY:Laramie Connections Free Sunday Dinner
DESCRIPTION:From the organizers:\n4:30 pm Sundays @ First Baptist Church\nEveryone is welcome to come and enjoy a hot meal Sunday evenings along with great company.  While regular meal offerings are closed on the weekends we are happy to step in and offer a free meal gathering. \nOur meal is provided by the Laramie Soup Kitchen\, Laramie Interfaith and Eppson Center being closed on the weekends.
URL:https://laramieevents.com/event/laramie-connections-free-sunday-dinner/2026-10-04/
ATTACH;FMTTYPE=image/png:https://laramieevents.com/wp-content/uploads/sites/3/2025/02/family-dinner-3407701_1280.png
END:VEVENT
BEGIN:VEVENT
DTSTART;TZID=America/Denver:20261011T163000
DTEND;TZID=America/Denver:20261011T180000
DTSTAMP:20260423T142110
CREATED:20250220T010050Z
LAST-MODIFIED:20250220T010050Z
UID:10003396-1791736200-1791741600@laramieevents.com
SUMMARY:Laramie Connections Free Sunday Dinner
DESCRIPTION:From the organizers:\n4:30 pm Sundays @ First Baptist Church\nEveryone is welcome to come and enjoy a hot meal Sunday evenings along with great company.  While regular meal offerings are closed on the weekends we are happy to step in and offer a free meal gathering. \nOur meal is provided by the Laramie Soup Kitchen\, Laramie Interfaith and Eppson Center being closed on the weekends.
URL:https://laramieevents.com/event/laramie-connections-free-sunday-dinner/2026-10-11/
ATTACH;FMTTYPE=image/png:https://laramieevents.com/wp-content/uploads/sites/3/2025/02/family-dinner-3407701_1280.png
END:VEVENT
BEGIN:VEVENT
DTSTART;TZID=America/Denver:20261018T163000
DTEND;TZID=America/Denver:20261018T180000
DTSTAMP:20260423T142110
CREATED:20250220T010050Z
LAST-MODIFIED:20250220T010050Z
UID:10003397-1792341000-1792346400@laramieevents.com
SUMMARY:Laramie Connections Free Sunday Dinner
DESCRIPTION:From the organizers:\n4:30 pm Sundays @ First Baptist Church\nEveryone is welcome to come and enjoy a hot meal Sunday evenings along with great company.  While regular meal offerings are closed on the weekends we are happy to step in and offer a free meal gathering. \nOur meal is provided by the Laramie Soup Kitchen\, Laramie Interfaith and Eppson Center being closed on the weekends.
URL:https://laramieevents.com/event/laramie-connections-free-sunday-dinner/2026-10-18/
ATTACH;FMTTYPE=image/png:https://laramieevents.com/wp-content/uploads/sites/3/2025/02/family-dinner-3407701_1280.png
END:VEVENT
BEGIN:VEVENT
DTSTART;TZID=America/Denver:20261025T163000
DTEND;TZID=America/Denver:20261025T180000
DTSTAMP:20260423T142110
CREATED:20250220T010050Z
LAST-MODIFIED:20250220T010050Z
UID:10003398-1792945800-1792951200@laramieevents.com
SUMMARY:Laramie Connections Free Sunday Dinner
DESCRIPTION:From the organizers:\n4:30 pm Sundays @ First Baptist Church\nEveryone is welcome to come and enjoy a hot meal Sunday evenings along with great company.  While regular meal offerings are closed on the weekends we are happy to step in and offer a free meal gathering. \nOur meal is provided by the Laramie Soup Kitchen\, Laramie Interfaith and Eppson Center being closed on the weekends.
URL:https://laramieevents.com/event/laramie-connections-free-sunday-dinner/2026-10-25/
ATTACH;FMTTYPE=image/png:https://laramieevents.com/wp-content/uploads/sites/3/2025/02/family-dinner-3407701_1280.png
END:VEVENT
BEGIN:VEVENT
DTSTART;TZID=America/Denver:20261101T163000
DTEND;TZID=America/Denver:20261101T180000
DTSTAMP:20260423T142110
CREATED:20250220T010050Z
LAST-MODIFIED:20250220T010050Z
UID:10003399-1793550600-1793556000@laramieevents.com
SUMMARY:Laramie Connections Free Sunday Dinner
DESCRIPTION:From the organizers:\n4:30 pm Sundays @ First Baptist Church\nEveryone is welcome to come and enjoy a hot meal Sunday evenings along with great company.  While regular meal offerings are closed on the weekends we are happy to step in and offer a free meal gathering. \nOur meal is provided by the Laramie Soup Kitchen\, Laramie Interfaith and Eppson Center being closed on the weekends.
URL:https://laramieevents.com/event/laramie-connections-free-sunday-dinner/2026-11-01/
ATTACH;FMTTYPE=image/png:https://laramieevents.com/wp-content/uploads/sites/3/2025/02/family-dinner-3407701_1280.png
END:VEVENT
BEGIN:VEVENT
DTSTART;TZID=America/Denver:20261108T163000
DTEND;TZID=America/Denver:20261108T180000
DTSTAMP:20260423T142110
CREATED:20250220T010050Z
LAST-MODIFIED:20250220T010050Z
UID:10003400-1794155400-1794160800@laramieevents.com
SUMMARY:Laramie Connections Free Sunday Dinner
DESCRIPTION:From the organizers:\n4:30 pm Sundays @ First Baptist Church\nEveryone is welcome to come and enjoy a hot meal Sunday evenings along with great company.  While regular meal offerings are closed on the weekends we are happy to step in and offer a free meal gathering. \nOur meal is provided by the Laramie Soup Kitchen\, Laramie Interfaith and Eppson Center being closed on the weekends.
URL:https://laramieevents.com/event/laramie-connections-free-sunday-dinner/2026-11-08/
ATTACH;FMTTYPE=image/png:https://laramieevents.com/wp-content/uploads/sites/3/2025/02/family-dinner-3407701_1280.png
END:VEVENT
BEGIN:VEVENT
DTSTART;TZID=America/Denver:20261115T163000
DTEND;TZID=America/Denver:20261115T180000
DTSTAMP:20260423T142110
CREATED:20250220T010050Z
LAST-MODIFIED:20250220T010050Z
UID:10003401-1794760200-1794765600@laramieevents.com
SUMMARY:Laramie Connections Free Sunday Dinner
DESCRIPTION:From the organizers:\n4:30 pm Sundays @ First Baptist Church\nEveryone is welcome to come and enjoy a hot meal Sunday evenings along with great company.  While regular meal offerings are closed on the weekends we are happy to step in and offer a free meal gathering. \nOur meal is provided by the Laramie Soup Kitchen\, Laramie Interfaith and Eppson Center being closed on the weekends.
URL:https://laramieevents.com/event/laramie-connections-free-sunday-dinner/2026-11-15/
ATTACH;FMTTYPE=image/png:https://laramieevents.com/wp-content/uploads/sites/3/2025/02/family-dinner-3407701_1280.png
END:VEVENT
END:VCALENDAR