BEGIN:VCALENDAR
VERSION:2.0
PRODID:-//Laramie Events - ECPv6.15.17.1//NONSGML v1.0//EN
CALSCALE:GREGORIAN
METHOD:PUBLISH
X-WR-CALNAME:Laramie Events
X-ORIGINAL-URL:https://laramieevents.com
X-WR-CALDESC:Events for Laramie Events
REFRESH-INTERVAL;VALUE=DURATION:PT1H
X-Robots-Tag:noindex
X-PUBLISHED-TTL:PT1H
BEGIN:VTIMEZONE
TZID:America/Denver
BEGIN:DAYLIGHT
TZOFFSETFROM:-0700
TZOFFSETTO:-0600
TZNAME:MDT
DTSTART:20250309T090000
END:DAYLIGHT
BEGIN:STANDARD
TZOFFSETFROM:-0600
TZOFFSETTO:-0700
TZNAME:MST
DTSTART:20251102T080000
END:STANDARD
BEGIN:DAYLIGHT
TZOFFSETFROM:-0700
TZOFFSETTO:-0600
TZNAME:MDT
DTSTART:20260308T090000
END:DAYLIGHT
BEGIN:STANDARD
TZOFFSETFROM:-0600
TZOFFSETTO:-0700
TZNAME:MST
DTSTART:20261101T080000
END:STANDARD
BEGIN:DAYLIGHT
TZOFFSETFROM:-0700
TZOFFSETTO:-0600
TZNAME:MDT
DTSTART:20270314T090000
END:DAYLIGHT
BEGIN:STANDARD
TZOFFSETFROM:-0600
TZOFFSETTO:-0700
TZNAME:MST
DTSTART:20271107T080000
END:STANDARD
END:VTIMEZONE
BEGIN:VEVENT
DTSTART;TZID=America/Denver:20260429T160000
DTEND;TZID=America/Denver:20260429T183000
DTSTAMP:20260423T123234
CREATED:20260407T143135Z
LAST-MODIFIED:20260407T143135Z
UID:10010069-1777478400-1777487400@laramieevents.com
SUMMARY:HealthyU-Support Group For Chronic Health Conditions
DESCRIPTION:If you have a chronic health condition or take care of someone who does\, this 6 week workshop will help you work on problem solving\, healthy eating\, how to say active despite any limitations and more. See the flyer below for more info and email healthy@uwyo.edu to register or for more info
URL:https://laramieevents.com/event/healthyu-support-group-for-chronic-health-conditions/2026-04-29/
ATTACH;FMTTYPE=image/jpeg:https://laramieevents.com/wp-content/uploads/sites/3/2026/04/NOW-IS-THE-TIME-TO-TAKE-CHARGE-OF-YOUR-HEALTH_page-0001-1-scaled.jpg
END:VEVENT
BEGIN:VEVENT
DTSTART;TZID=America/Denver:20260506T160000
DTEND;TZID=America/Denver:20260506T183000
DTSTAMP:20260423T123234
CREATED:20260407T143135Z
LAST-MODIFIED:20260407T143135Z
UID:10010070-1778083200-1778092200@laramieevents.com
SUMMARY:HealthyU-Support Group For Chronic Health Conditions
DESCRIPTION:If you have a chronic health condition or take care of someone who does\, this 6 week workshop will help you work on problem solving\, healthy eating\, how to say active despite any limitations and more. See the flyer below for more info and email healthy@uwyo.edu to register or for more info
URL:https://laramieevents.com/event/healthyu-support-group-for-chronic-health-conditions/2026-05-06/
ATTACH;FMTTYPE=image/jpeg:https://laramieevents.com/wp-content/uploads/sites/3/2026/04/NOW-IS-THE-TIME-TO-TAKE-CHARGE-OF-YOUR-HEALTH_page-0001-1-scaled.jpg
END:VEVENT
BEGIN:VEVENT
DTSTART;TZID=America/Denver:20260513T160000
DTEND;TZID=America/Denver:20260513T183000
DTSTAMP:20260423T123234
CREATED:20260407T143135Z
LAST-MODIFIED:20260407T143135Z
UID:10010071-1778688000-1778697000@laramieevents.com
SUMMARY:HealthyU-Support Group For Chronic Health Conditions
DESCRIPTION:If you have a chronic health condition or take care of someone who does\, this 6 week workshop will help you work on problem solving\, healthy eating\, how to say active despite any limitations and more. See the flyer below for more info and email healthy@uwyo.edu to register or for more info
URL:https://laramieevents.com/event/healthyu-support-group-for-chronic-health-conditions/2026-05-13/
ATTACH;FMTTYPE=image/jpeg:https://laramieevents.com/wp-content/uploads/sites/3/2026/04/NOW-IS-THE-TIME-TO-TAKE-CHARGE-OF-YOUR-HEALTH_page-0001-1-scaled.jpg
END:VEVENT
BEGIN:VEVENT
DTSTART;TZID=America/Denver:20260520T160000
DTEND;TZID=America/Denver:20260520T183000
DTSTAMP:20260423T123234
CREATED:20260407T143135Z
LAST-MODIFIED:20260407T143135Z
UID:10010072-1779292800-1779301800@laramieevents.com
SUMMARY:HealthyU-Support Group For Chronic Health Conditions
DESCRIPTION:If you have a chronic health condition or take care of someone who does\, this 6 week workshop will help you work on problem solving\, healthy eating\, how to say active despite any limitations and more. See the flyer below for more info and email healthy@uwyo.edu to register or for more info
URL:https://laramieevents.com/event/healthyu-support-group-for-chronic-health-conditions/2026-05-20/
ATTACH;FMTTYPE=image/jpeg:https://laramieevents.com/wp-content/uploads/sites/3/2026/04/NOW-IS-THE-TIME-TO-TAKE-CHARGE-OF-YOUR-HEALTH_page-0001-1-scaled.jpg
END:VEVENT
BEGIN:VEVENT
DTSTART;TZID=America/Denver:20260527T160000
DTEND;TZID=America/Denver:20260527T183000
DTSTAMP:20260423T123234
CREATED:20260407T143135Z
LAST-MODIFIED:20260407T143135Z
UID:10010073-1779897600-1779906600@laramieevents.com
SUMMARY:HealthyU-Support Group For Chronic Health Conditions
DESCRIPTION:If you have a chronic health condition or take care of someone who does\, this 6 week workshop will help you work on problem solving\, healthy eating\, how to say active despite any limitations and more. See the flyer below for more info and email healthy@uwyo.edu to register or for more info
URL:https://laramieevents.com/event/healthyu-support-group-for-chronic-health-conditions/2026-05-27/
ATTACH;FMTTYPE=image/jpeg:https://laramieevents.com/wp-content/uploads/sites/3/2026/04/NOW-IS-THE-TIME-TO-TAKE-CHARGE-OF-YOUR-HEALTH_page-0001-1-scaled.jpg
END:VEVENT
BEGIN:VEVENT
DTSTART;TZID=America/Denver:20260603T160000
DTEND;TZID=America/Denver:20260603T183000
DTSTAMP:20260423T123234
CREATED:20260407T143135Z
LAST-MODIFIED:20260407T143135Z
UID:10010074-1780502400-1780511400@laramieevents.com
SUMMARY:HealthyU-Support Group For Chronic Health Conditions
DESCRIPTION:If you have a chronic health condition or take care of someone who does\, this 6 week workshop will help you work on problem solving\, healthy eating\, how to say active despite any limitations and more. See the flyer below for more info and email healthy@uwyo.edu to register or for more info
URL:https://laramieevents.com/event/healthyu-support-group-for-chronic-health-conditions/2026-06-03/
ATTACH;FMTTYPE=image/jpeg:https://laramieevents.com/wp-content/uploads/sites/3/2026/04/NOW-IS-THE-TIME-TO-TAKE-CHARGE-OF-YOUR-HEALTH_page-0001-1-scaled.jpg
END:VEVENT
BEGIN:VEVENT
DTSTART;TZID=America/Denver:20260610T160000
DTEND;TZID=America/Denver:20260610T183000
DTSTAMP:20260423T123234
CREATED:20260407T143135Z
LAST-MODIFIED:20260407T143135Z
UID:10010075-1781107200-1781116200@laramieevents.com
SUMMARY:HealthyU-Support Group For Chronic Health Conditions
DESCRIPTION:If you have a chronic health condition or take care of someone who does\, this 6 week workshop will help you work on problem solving\, healthy eating\, how to say active despite any limitations and more. See the flyer below for more info and email healthy@uwyo.edu to register or for more info
URL:https://laramieevents.com/event/healthyu-support-group-for-chronic-health-conditions/2026-06-10/
ATTACH;FMTTYPE=image/jpeg:https://laramieevents.com/wp-content/uploads/sites/3/2026/04/NOW-IS-THE-TIME-TO-TAKE-CHARGE-OF-YOUR-HEALTH_page-0001-1-scaled.jpg
END:VEVENT
BEGIN:VEVENT
DTSTART;TZID=America/Denver:20260617T160000
DTEND;TZID=America/Denver:20260617T183000
DTSTAMP:20260423T123234
CREATED:20260407T143135Z
LAST-MODIFIED:20260407T143135Z
UID:10010076-1781712000-1781721000@laramieevents.com
SUMMARY:HealthyU-Support Group For Chronic Health Conditions
DESCRIPTION:If you have a chronic health condition or take care of someone who does\, this 6 week workshop will help you work on problem solving\, healthy eating\, how to say active despite any limitations and more. See the flyer below for more info and email healthy@uwyo.edu to register or for more info
URL:https://laramieevents.com/event/healthyu-support-group-for-chronic-health-conditions/2026-06-17/
ATTACH;FMTTYPE=image/jpeg:https://laramieevents.com/wp-content/uploads/sites/3/2026/04/NOW-IS-THE-TIME-TO-TAKE-CHARGE-OF-YOUR-HEALTH_page-0001-1-scaled.jpg
END:VEVENT
BEGIN:VEVENT
DTSTART;TZID=America/Denver:20260624T160000
DTEND;TZID=America/Denver:20260624T183000
DTSTAMP:20260423T123234
CREATED:20260407T143135Z
LAST-MODIFIED:20260407T143135Z
UID:10010077-1782316800-1782325800@laramieevents.com
SUMMARY:HealthyU-Support Group For Chronic Health Conditions
DESCRIPTION:If you have a chronic health condition or take care of someone who does\, this 6 week workshop will help you work on problem solving\, healthy eating\, how to say active despite any limitations and more. See the flyer below for more info and email healthy@uwyo.edu to register or for more info
URL:https://laramieevents.com/event/healthyu-support-group-for-chronic-health-conditions/2026-06-24/
ATTACH;FMTTYPE=image/jpeg:https://laramieevents.com/wp-content/uploads/sites/3/2026/04/NOW-IS-THE-TIME-TO-TAKE-CHARGE-OF-YOUR-HEALTH_page-0001-1-scaled.jpg
END:VEVENT
BEGIN:VEVENT
DTSTART;TZID=America/Denver:20260701T160000
DTEND;TZID=America/Denver:20260701T183000
DTSTAMP:20260423T123234
CREATED:20260407T143135Z
LAST-MODIFIED:20260407T143135Z
UID:10010078-1782921600-1782930600@laramieevents.com
SUMMARY:HealthyU-Support Group For Chronic Health Conditions
DESCRIPTION:If you have a chronic health condition or take care of someone who does\, this 6 week workshop will help you work on problem solving\, healthy eating\, how to say active despite any limitations and more. See the flyer below for more info and email healthy@uwyo.edu to register or for more info
URL:https://laramieevents.com/event/healthyu-support-group-for-chronic-health-conditions/2026-07-01/
ATTACH;FMTTYPE=image/jpeg:https://laramieevents.com/wp-content/uploads/sites/3/2026/04/NOW-IS-THE-TIME-TO-TAKE-CHARGE-OF-YOUR-HEALTH_page-0001-1-scaled.jpg
END:VEVENT
BEGIN:VEVENT
DTSTART;TZID=America/Denver:20260708T160000
DTEND;TZID=America/Denver:20260708T183000
DTSTAMP:20260423T123234
CREATED:20260407T143135Z
LAST-MODIFIED:20260407T143135Z
UID:10010079-1783526400-1783535400@laramieevents.com
SUMMARY:HealthyU-Support Group For Chronic Health Conditions
DESCRIPTION:If you have a chronic health condition or take care of someone who does\, this 6 week workshop will help you work on problem solving\, healthy eating\, how to say active despite any limitations and more. See the flyer below for more info and email healthy@uwyo.edu to register or for more info
URL:https://laramieevents.com/event/healthyu-support-group-for-chronic-health-conditions/2026-07-08/
ATTACH;FMTTYPE=image/jpeg:https://laramieevents.com/wp-content/uploads/sites/3/2026/04/NOW-IS-THE-TIME-TO-TAKE-CHARGE-OF-YOUR-HEALTH_page-0001-1-scaled.jpg
END:VEVENT
BEGIN:VEVENT
DTSTART;TZID=America/Denver:20260715T160000
DTEND;TZID=America/Denver:20260715T183000
DTSTAMP:20260423T123234
CREATED:20260407T143135Z
LAST-MODIFIED:20260407T143135Z
UID:10010080-1784131200-1784140200@laramieevents.com
SUMMARY:HealthyU-Support Group For Chronic Health Conditions
DESCRIPTION:If you have a chronic health condition or take care of someone who does\, this 6 week workshop will help you work on problem solving\, healthy eating\, how to say active despite any limitations and more. See the flyer below for more info and email healthy@uwyo.edu to register or for more info
URL:https://laramieevents.com/event/healthyu-support-group-for-chronic-health-conditions/2026-07-15/
ATTACH;FMTTYPE=image/jpeg:https://laramieevents.com/wp-content/uploads/sites/3/2026/04/NOW-IS-THE-TIME-TO-TAKE-CHARGE-OF-YOUR-HEALTH_page-0001-1-scaled.jpg
END:VEVENT
BEGIN:VEVENT
DTSTART;TZID=America/Denver:20260722T160000
DTEND;TZID=America/Denver:20260722T183000
DTSTAMP:20260423T123234
CREATED:20260407T143135Z
LAST-MODIFIED:20260407T143135Z
UID:10010081-1784736000-1784745000@laramieevents.com
SUMMARY:HealthyU-Support Group For Chronic Health Conditions
DESCRIPTION:If you have a chronic health condition or take care of someone who does\, this 6 week workshop will help you work on problem solving\, healthy eating\, how to say active despite any limitations and more. See the flyer below for more info and email healthy@uwyo.edu to register or for more info
URL:https://laramieevents.com/event/healthyu-support-group-for-chronic-health-conditions/2026-07-22/
ATTACH;FMTTYPE=image/jpeg:https://laramieevents.com/wp-content/uploads/sites/3/2026/04/NOW-IS-THE-TIME-TO-TAKE-CHARGE-OF-YOUR-HEALTH_page-0001-1-scaled.jpg
END:VEVENT
BEGIN:VEVENT
DTSTART;TZID=America/Denver:20260729T160000
DTEND;TZID=America/Denver:20260729T183000
DTSTAMP:20260423T123234
CREATED:20260407T143135Z
LAST-MODIFIED:20260407T143135Z
UID:10010082-1785340800-1785349800@laramieevents.com
SUMMARY:HealthyU-Support Group For Chronic Health Conditions
DESCRIPTION:If you have a chronic health condition or take care of someone who does\, this 6 week workshop will help you work on problem solving\, healthy eating\, how to say active despite any limitations and more. See the flyer below for more info and email healthy@uwyo.edu to register or for more info
URL:https://laramieevents.com/event/healthyu-support-group-for-chronic-health-conditions/2026-07-29/
ATTACH;FMTTYPE=image/jpeg:https://laramieevents.com/wp-content/uploads/sites/3/2026/04/NOW-IS-THE-TIME-TO-TAKE-CHARGE-OF-YOUR-HEALTH_page-0001-1-scaled.jpg
END:VEVENT
BEGIN:VEVENT
DTSTART;TZID=America/Denver:20260805T160000
DTEND;TZID=America/Denver:20260805T183000
DTSTAMP:20260423T123234
CREATED:20260407T143135Z
LAST-MODIFIED:20260407T143135Z
UID:10010083-1785945600-1785954600@laramieevents.com
SUMMARY:HealthyU-Support Group For Chronic Health Conditions
DESCRIPTION:If you have a chronic health condition or take care of someone who does\, this 6 week workshop will help you work on problem solving\, healthy eating\, how to say active despite any limitations and more. See the flyer below for more info and email healthy@uwyo.edu to register or for more info
URL:https://laramieevents.com/event/healthyu-support-group-for-chronic-health-conditions/2026-08-05/
ATTACH;FMTTYPE=image/jpeg:https://laramieevents.com/wp-content/uploads/sites/3/2026/04/NOW-IS-THE-TIME-TO-TAKE-CHARGE-OF-YOUR-HEALTH_page-0001-1-scaled.jpg
END:VEVENT
BEGIN:VEVENT
DTSTART;TZID=America/Denver:20260812T160000
DTEND;TZID=America/Denver:20260812T183000
DTSTAMP:20260423T123234
CREATED:20260407T143135Z
LAST-MODIFIED:20260407T143135Z
UID:10010084-1786550400-1786559400@laramieevents.com
SUMMARY:HealthyU-Support Group For Chronic Health Conditions
DESCRIPTION:If you have a chronic health condition or take care of someone who does\, this 6 week workshop will help you work on problem solving\, healthy eating\, how to say active despite any limitations and more. See the flyer below for more info and email healthy@uwyo.edu to register or for more info
URL:https://laramieevents.com/event/healthyu-support-group-for-chronic-health-conditions/2026-08-12/
ATTACH;FMTTYPE=image/jpeg:https://laramieevents.com/wp-content/uploads/sites/3/2026/04/NOW-IS-THE-TIME-TO-TAKE-CHARGE-OF-YOUR-HEALTH_page-0001-1-scaled.jpg
END:VEVENT
BEGIN:VEVENT
DTSTART;TZID=America/Denver:20260819T160000
DTEND;TZID=America/Denver:20260819T183000
DTSTAMP:20260423T123234
CREATED:20260407T143135Z
LAST-MODIFIED:20260407T143135Z
UID:10010085-1787155200-1787164200@laramieevents.com
SUMMARY:HealthyU-Support Group For Chronic Health Conditions
DESCRIPTION:If you have a chronic health condition or take care of someone who does\, this 6 week workshop will help you work on problem solving\, healthy eating\, how to say active despite any limitations and more. See the flyer below for more info and email healthy@uwyo.edu to register or for more info
URL:https://laramieevents.com/event/healthyu-support-group-for-chronic-health-conditions/2026-08-19/
ATTACH;FMTTYPE=image/jpeg:https://laramieevents.com/wp-content/uploads/sites/3/2026/04/NOW-IS-THE-TIME-TO-TAKE-CHARGE-OF-YOUR-HEALTH_page-0001-1-scaled.jpg
END:VEVENT
BEGIN:VEVENT
DTSTART;TZID=America/Denver:20260826T160000
DTEND;TZID=America/Denver:20260826T183000
DTSTAMP:20260423T123234
CREATED:20260407T143135Z
LAST-MODIFIED:20260407T143135Z
UID:10010086-1787760000-1787769000@laramieevents.com
SUMMARY:HealthyU-Support Group For Chronic Health Conditions
DESCRIPTION:If you have a chronic health condition or take care of someone who does\, this 6 week workshop will help you work on problem solving\, healthy eating\, how to say active despite any limitations and more. See the flyer below for more info and email healthy@uwyo.edu to register or for more info
URL:https://laramieevents.com/event/healthyu-support-group-for-chronic-health-conditions/2026-08-26/
ATTACH;FMTTYPE=image/jpeg:https://laramieevents.com/wp-content/uploads/sites/3/2026/04/NOW-IS-THE-TIME-TO-TAKE-CHARGE-OF-YOUR-HEALTH_page-0001-1-scaled.jpg
END:VEVENT
BEGIN:VEVENT
DTSTART;TZID=America/Denver:20260902T160000
DTEND;TZID=America/Denver:20260902T183000
DTSTAMP:20260423T123234
CREATED:20260407T143135Z
LAST-MODIFIED:20260407T143135Z
UID:10010087-1788364800-1788373800@laramieevents.com
SUMMARY:HealthyU-Support Group For Chronic Health Conditions
DESCRIPTION:If you have a chronic health condition or take care of someone who does\, this 6 week workshop will help you work on problem solving\, healthy eating\, how to say active despite any limitations and more. See the flyer below for more info and email healthy@uwyo.edu to register or for more info
URL:https://laramieevents.com/event/healthyu-support-group-for-chronic-health-conditions/2026-09-02/
ATTACH;FMTTYPE=image/jpeg:https://laramieevents.com/wp-content/uploads/sites/3/2026/04/NOW-IS-THE-TIME-TO-TAKE-CHARGE-OF-YOUR-HEALTH_page-0001-1-scaled.jpg
END:VEVENT
BEGIN:VEVENT
DTSTART;TZID=America/Denver:20260909T160000
DTEND;TZID=America/Denver:20260909T183000
DTSTAMP:20260423T123234
CREATED:20260407T143135Z
LAST-MODIFIED:20260407T143135Z
UID:10010088-1788969600-1788978600@laramieevents.com
SUMMARY:HealthyU-Support Group For Chronic Health Conditions
DESCRIPTION:If you have a chronic health condition or take care of someone who does\, this 6 week workshop will help you work on problem solving\, healthy eating\, how to say active despite any limitations and more. See the flyer below for more info and email healthy@uwyo.edu to register or for more info
URL:https://laramieevents.com/event/healthyu-support-group-for-chronic-health-conditions/2026-09-09/
ATTACH;FMTTYPE=image/jpeg:https://laramieevents.com/wp-content/uploads/sites/3/2026/04/NOW-IS-THE-TIME-TO-TAKE-CHARGE-OF-YOUR-HEALTH_page-0001-1-scaled.jpg
END:VEVENT
BEGIN:VEVENT
DTSTART;TZID=America/Denver:20260916T160000
DTEND;TZID=America/Denver:20260916T183000
DTSTAMP:20260423T123234
CREATED:20260407T143135Z
LAST-MODIFIED:20260407T143135Z
UID:10010089-1789574400-1789583400@laramieevents.com
SUMMARY:HealthyU-Support Group For Chronic Health Conditions
DESCRIPTION:If you have a chronic health condition or take care of someone who does\, this 6 week workshop will help you work on problem solving\, healthy eating\, how to say active despite any limitations and more. See the flyer below for more info and email healthy@uwyo.edu to register or for more info
URL:https://laramieevents.com/event/healthyu-support-group-for-chronic-health-conditions/2026-09-16/
ATTACH;FMTTYPE=image/jpeg:https://laramieevents.com/wp-content/uploads/sites/3/2026/04/NOW-IS-THE-TIME-TO-TAKE-CHARGE-OF-YOUR-HEALTH_page-0001-1-scaled.jpg
END:VEVENT
BEGIN:VEVENT
DTSTART;TZID=America/Denver:20260923T160000
DTEND;TZID=America/Denver:20260923T183000
DTSTAMP:20260423T123234
CREATED:20260407T143135Z
LAST-MODIFIED:20260407T143135Z
UID:10010090-1790179200-1790188200@laramieevents.com
SUMMARY:HealthyU-Support Group For Chronic Health Conditions
DESCRIPTION:If you have a chronic health condition or take care of someone who does\, this 6 week workshop will help you work on problem solving\, healthy eating\, how to say active despite any limitations and more. See the flyer below for more info and email healthy@uwyo.edu to register or for more info
URL:https://laramieevents.com/event/healthyu-support-group-for-chronic-health-conditions/2026-09-23/
ATTACH;FMTTYPE=image/jpeg:https://laramieevents.com/wp-content/uploads/sites/3/2026/04/NOW-IS-THE-TIME-TO-TAKE-CHARGE-OF-YOUR-HEALTH_page-0001-1-scaled.jpg
END:VEVENT
BEGIN:VEVENT
DTSTART;TZID=America/Denver:20260930T160000
DTEND;TZID=America/Denver:20260930T183000
DTSTAMP:20260423T123234
CREATED:20260407T143135Z
LAST-MODIFIED:20260407T143135Z
UID:10010091-1790784000-1790793000@laramieevents.com
SUMMARY:HealthyU-Support Group For Chronic Health Conditions
DESCRIPTION:If you have a chronic health condition or take care of someone who does\, this 6 week workshop will help you work on problem solving\, healthy eating\, how to say active despite any limitations and more. See the flyer below for more info and email healthy@uwyo.edu to register or for more info
URL:https://laramieevents.com/event/healthyu-support-group-for-chronic-health-conditions/2026-09-30/
ATTACH;FMTTYPE=image/jpeg:https://laramieevents.com/wp-content/uploads/sites/3/2026/04/NOW-IS-THE-TIME-TO-TAKE-CHARGE-OF-YOUR-HEALTH_page-0001-1-scaled.jpg
END:VEVENT
BEGIN:VEVENT
DTSTART;TZID=America/Denver:20261007T160000
DTEND;TZID=America/Denver:20261007T183000
DTSTAMP:20260423T123234
CREATED:20260407T143135Z
LAST-MODIFIED:20260407T143135Z
UID:10010092-1791388800-1791397800@laramieevents.com
SUMMARY:HealthyU-Support Group For Chronic Health Conditions
DESCRIPTION:If you have a chronic health condition or take care of someone who does\, this 6 week workshop will help you work on problem solving\, healthy eating\, how to say active despite any limitations and more. See the flyer below for more info and email healthy@uwyo.edu to register or for more info
URL:https://laramieevents.com/event/healthyu-support-group-for-chronic-health-conditions/2026-10-07/
ATTACH;FMTTYPE=image/jpeg:https://laramieevents.com/wp-content/uploads/sites/3/2026/04/NOW-IS-THE-TIME-TO-TAKE-CHARGE-OF-YOUR-HEALTH_page-0001-1-scaled.jpg
END:VEVENT
BEGIN:VEVENT
DTSTART;TZID=America/Denver:20261014T160000
DTEND;TZID=America/Denver:20261014T183000
DTSTAMP:20260423T123234
CREATED:20260407T143135Z
LAST-MODIFIED:20260407T143135Z
UID:10010093-1791993600-1792002600@laramieevents.com
SUMMARY:HealthyU-Support Group For Chronic Health Conditions
DESCRIPTION:If you have a chronic health condition or take care of someone who does\, this 6 week workshop will help you work on problem solving\, healthy eating\, how to say active despite any limitations and more. See the flyer below for more info and email healthy@uwyo.edu to register or for more info
URL:https://laramieevents.com/event/healthyu-support-group-for-chronic-health-conditions/2026-10-14/
ATTACH;FMTTYPE=image/jpeg:https://laramieevents.com/wp-content/uploads/sites/3/2026/04/NOW-IS-THE-TIME-TO-TAKE-CHARGE-OF-YOUR-HEALTH_page-0001-1-scaled.jpg
END:VEVENT
BEGIN:VEVENT
DTSTART;TZID=America/Denver:20261021T160000
DTEND;TZID=America/Denver:20261021T183000
DTSTAMP:20260423T123234
CREATED:20260407T143135Z
LAST-MODIFIED:20260407T143135Z
UID:10010094-1792598400-1792607400@laramieevents.com
SUMMARY:HealthyU-Support Group For Chronic Health Conditions
DESCRIPTION:If you have a chronic health condition or take care of someone who does\, this 6 week workshop will help you work on problem solving\, healthy eating\, how to say active despite any limitations and more. See the flyer below for more info and email healthy@uwyo.edu to register or for more info
URL:https://laramieevents.com/event/healthyu-support-group-for-chronic-health-conditions/2026-10-21/
ATTACH;FMTTYPE=image/jpeg:https://laramieevents.com/wp-content/uploads/sites/3/2026/04/NOW-IS-THE-TIME-TO-TAKE-CHARGE-OF-YOUR-HEALTH_page-0001-1-scaled.jpg
END:VEVENT
BEGIN:VEVENT
DTSTART;TZID=America/Denver:20261028T160000
DTEND;TZID=America/Denver:20261028T183000
DTSTAMP:20260423T123234
CREATED:20260407T143135Z
LAST-MODIFIED:20260407T143135Z
UID:10010095-1793203200-1793212200@laramieevents.com
SUMMARY:HealthyU-Support Group For Chronic Health Conditions
DESCRIPTION:If you have a chronic health condition or take care of someone who does\, this 6 week workshop will help you work on problem solving\, healthy eating\, how to say active despite any limitations and more. See the flyer below for more info and email healthy@uwyo.edu to register or for more info
URL:https://laramieevents.com/event/healthyu-support-group-for-chronic-health-conditions/2026-10-28/
ATTACH;FMTTYPE=image/jpeg:https://laramieevents.com/wp-content/uploads/sites/3/2026/04/NOW-IS-THE-TIME-TO-TAKE-CHARGE-OF-YOUR-HEALTH_page-0001-1-scaled.jpg
END:VEVENT
BEGIN:VEVENT
DTSTART;TZID=America/Denver:20261104T160000
DTEND;TZID=America/Denver:20261104T183000
DTSTAMP:20260423T123234
CREATED:20260407T143135Z
LAST-MODIFIED:20260407T143135Z
UID:10010096-1793808000-1793817000@laramieevents.com
SUMMARY:HealthyU-Support Group For Chronic Health Conditions
DESCRIPTION:If you have a chronic health condition or take care of someone who does\, this 6 week workshop will help you work on problem solving\, healthy eating\, how to say active despite any limitations and more. See the flyer below for more info and email healthy@uwyo.edu to register or for more info
URL:https://laramieevents.com/event/healthyu-support-group-for-chronic-health-conditions/2026-11-04/
ATTACH;FMTTYPE=image/jpeg:https://laramieevents.com/wp-content/uploads/sites/3/2026/04/NOW-IS-THE-TIME-TO-TAKE-CHARGE-OF-YOUR-HEALTH_page-0001-1-scaled.jpg
END:VEVENT
BEGIN:VEVENT
DTSTART;TZID=America/Denver:20261111T160000
DTEND;TZID=America/Denver:20261111T183000
DTSTAMP:20260423T123234
CREATED:20260407T143135Z
LAST-MODIFIED:20260407T143135Z
UID:10010097-1794412800-1794421800@laramieevents.com
SUMMARY:HealthyU-Support Group For Chronic Health Conditions
DESCRIPTION:If you have a chronic health condition or take care of someone who does\, this 6 week workshop will help you work on problem solving\, healthy eating\, how to say active despite any limitations and more. See the flyer below for more info and email healthy@uwyo.edu to register or for more info
URL:https://laramieevents.com/event/healthyu-support-group-for-chronic-health-conditions/2026-11-11/
ATTACH;FMTTYPE=image/jpeg:https://laramieevents.com/wp-content/uploads/sites/3/2026/04/NOW-IS-THE-TIME-TO-TAKE-CHARGE-OF-YOUR-HEALTH_page-0001-1-scaled.jpg
END:VEVENT
BEGIN:VEVENT
DTSTART;TZID=America/Denver:20261118T160000
DTEND;TZID=America/Denver:20261118T183000
DTSTAMP:20260423T123234
CREATED:20260407T143135Z
LAST-MODIFIED:20260407T143135Z
UID:10010098-1795017600-1795026600@laramieevents.com
SUMMARY:HealthyU-Support Group For Chronic Health Conditions
DESCRIPTION:If you have a chronic health condition or take care of someone who does\, this 6 week workshop will help you work on problem solving\, healthy eating\, how to say active despite any limitations and more. See the flyer below for more info and email healthy@uwyo.edu to register or for more info
URL:https://laramieevents.com/event/healthyu-support-group-for-chronic-health-conditions/2026-11-18/
ATTACH;FMTTYPE=image/jpeg:https://laramieevents.com/wp-content/uploads/sites/3/2026/04/NOW-IS-THE-TIME-TO-TAKE-CHARGE-OF-YOUR-HEALTH_page-0001-1-scaled.jpg
END:VEVENT
END:VCALENDAR