BEGIN:VCALENDAR
VERSION:2.0
PRODID:-//Laramie Events - ECPv6.15.17.1//NONSGML v1.0//EN
CALSCALE:GREGORIAN
METHOD:PUBLISH
X-WR-CALNAME:Laramie Events
X-ORIGINAL-URL:https://laramieevents.com
X-WR-CALDESC:Events for Laramie Events
REFRESH-INTERVAL;VALUE=DURATION:PT1H
X-Robots-Tag:noindex
X-PUBLISHED-TTL:PT1H
BEGIN:VTIMEZONE
TZID:America/Denver
BEGIN:DAYLIGHT
TZOFFSETFROM:-0700
TZOFFSETTO:-0600
TZNAME:MDT
DTSTART:20250309T090000
END:DAYLIGHT
BEGIN:STANDARD
TZOFFSETFROM:-0600
TZOFFSETTO:-0700
TZNAME:MST
DTSTART:20251102T080000
END:STANDARD
BEGIN:DAYLIGHT
TZOFFSETFROM:-0700
TZOFFSETTO:-0600
TZNAME:MDT
DTSTART:20260308T090000
END:DAYLIGHT
BEGIN:STANDARD
TZOFFSETFROM:-0600
TZOFFSETTO:-0700
TZNAME:MST
DTSTART:20261101T080000
END:STANDARD
BEGIN:DAYLIGHT
TZOFFSETFROM:-0700
TZOFFSETTO:-0600
TZNAME:MDT
DTSTART:20270314T090000
END:DAYLIGHT
BEGIN:STANDARD
TZOFFSETFROM:-0600
TZOFFSETTO:-0700
TZNAME:MST
DTSTART:20271107T080000
END:STANDARD
BEGIN:DAYLIGHT
TZOFFSETFROM:-0700
TZOFFSETTO:-0600
TZNAME:MDT
DTSTART:20280312T090000
END:DAYLIGHT
BEGIN:STANDARD
TZOFFSETFROM:-0600
TZOFFSETTO:-0700
TZNAME:MST
DTSTART:20281105T080000
END:STANDARD
BEGIN:DAYLIGHT
TZOFFSETFROM:-0700
TZOFFSETTO:-0600
TZNAME:MDT
DTSTART:20290311T090000
END:DAYLIGHT
BEGIN:STANDARD
TZOFFSETFROM:-0600
TZOFFSETTO:-0700
TZNAME:MST
DTSTART:20291104T080000
END:STANDARD
END:VTIMEZONE
BEGIN:VEVENT
DTSTART;TZID=America/Denver:20260430T140000
DTEND;TZID=America/Denver:20260430T150000
DTSTAMP:20260423T155112
CREATED:20260212T205459Z
LAST-MODIFIED:20260212T205459Z
UID:10009092-1777557600-1777561200@laramieevents.com
SUMMARY:Read With A Ranger
DESCRIPTION:From the library: \n\n\n\n\n\n\nWyoming State Parks\, in partnership with the Albany County Public Library\, presents Read with a Ranger! Stories\, activities\, snacks\, science\, history\, nature. Hosted at ACPL in Laramie. Programs oriented to children in grades K-5 the 2nd and 5th Thursdays of the month 2 to 3pm for kids in grades K through 5
URL:https://laramieevents.com/event/read-with-a-ranger/2026-04-30/
ATTACH;FMTTYPE=image/jpeg:https://laramieevents.com/wp-content/uploads/sites/3/2026/02/communication-76-books-2816681_1280.jpg
END:VEVENT
BEGIN:VEVENT
DTSTART;TZID=America/Denver:20260514T140000
DTEND;TZID=America/Denver:20260514T150000
DTSTAMP:20260423T155112
CREATED:20260212T205459Z
LAST-MODIFIED:20260212T205459Z
UID:10009093-1778767200-1778770800@laramieevents.com
SUMMARY:Read With A Ranger
DESCRIPTION:From the library: \n\n\n\n\n\n\nWyoming State Parks\, in partnership with the Albany County Public Library\, presents Read with a Ranger! Stories\, activities\, snacks\, science\, history\, nature. Hosted at ACPL in Laramie. Programs oriented to children in grades K-5 the 2nd and 5th Thursdays of the month 2 to 3pm for kids in grades K through 5
URL:https://laramieevents.com/event/read-with-a-ranger/2026-05-14/
ATTACH;FMTTYPE=image/jpeg:https://laramieevents.com/wp-content/uploads/sites/3/2026/02/communication-76-books-2816681_1280.jpg
END:VEVENT
BEGIN:VEVENT
DTSTART;TZID=America/Denver:20260611T140000
DTEND;TZID=America/Denver:20260611T150000
DTSTAMP:20260423T155112
CREATED:20260212T205459Z
LAST-MODIFIED:20260212T205459Z
UID:10009094-1781186400-1781190000@laramieevents.com
SUMMARY:Read With A Ranger
DESCRIPTION:From the library: \n\n\n\n\n\n\nWyoming State Parks\, in partnership with the Albany County Public Library\, presents Read with a Ranger! Stories\, activities\, snacks\, science\, history\, nature. Hosted at ACPL in Laramie. Programs oriented to children in grades K-5 the 2nd and 5th Thursdays of the month 2 to 3pm for kids in grades K through 5
URL:https://laramieevents.com/event/read-with-a-ranger/2026-06-11/
ATTACH;FMTTYPE=image/jpeg:https://laramieevents.com/wp-content/uploads/sites/3/2026/02/communication-76-books-2816681_1280.jpg
END:VEVENT
BEGIN:VEVENT
DTSTART;TZID=America/Denver:20260709T140000
DTEND;TZID=America/Denver:20260709T150000
DTSTAMP:20260423T155112
CREATED:20260212T205459Z
LAST-MODIFIED:20260212T205459Z
UID:10009095-1783605600-1783609200@laramieevents.com
SUMMARY:Read With A Ranger
DESCRIPTION:From the library: \n\n\n\n\n\n\nWyoming State Parks\, in partnership with the Albany County Public Library\, presents Read with a Ranger! Stories\, activities\, snacks\, science\, history\, nature. Hosted at ACPL in Laramie. Programs oriented to children in grades K-5 the 2nd and 5th Thursdays of the month 2 to 3pm for kids in grades K through 5
URL:https://laramieevents.com/event/read-with-a-ranger/2026-07-09/
ATTACH;FMTTYPE=image/jpeg:https://laramieevents.com/wp-content/uploads/sites/3/2026/02/communication-76-books-2816681_1280.jpg
END:VEVENT
BEGIN:VEVENT
DTSTART;TZID=America/Denver:20260813T140000
DTEND;TZID=America/Denver:20260813T150000
DTSTAMP:20260423T155112
CREATED:20260212T205459Z
LAST-MODIFIED:20260212T205459Z
UID:10009096-1786629600-1786633200@laramieevents.com
SUMMARY:Read With A Ranger
DESCRIPTION:From the library: \n\n\n\n\n\n\nWyoming State Parks\, in partnership with the Albany County Public Library\, presents Read with a Ranger! Stories\, activities\, snacks\, science\, history\, nature. Hosted at ACPL in Laramie. Programs oriented to children in grades K-5 the 2nd and 5th Thursdays of the month 2 to 3pm for kids in grades K through 5
URL:https://laramieevents.com/event/read-with-a-ranger/2026-08-13/
ATTACH;FMTTYPE=image/jpeg:https://laramieevents.com/wp-content/uploads/sites/3/2026/02/communication-76-books-2816681_1280.jpg
END:VEVENT
BEGIN:VEVENT
DTSTART;TZID=America/Denver:20260910T140000
DTEND;TZID=America/Denver:20260910T150000
DTSTAMP:20260423T155112
CREATED:20260212T205459Z
LAST-MODIFIED:20260212T205459Z
UID:10009097-1789048800-1789052400@laramieevents.com
SUMMARY:Read With A Ranger
DESCRIPTION:From the library: \n\n\n\n\n\n\nWyoming State Parks\, in partnership with the Albany County Public Library\, presents Read with a Ranger! Stories\, activities\, snacks\, science\, history\, nature. Hosted at ACPL in Laramie. Programs oriented to children in grades K-5 the 2nd and 5th Thursdays of the month 2 to 3pm for kids in grades K through 5
URL:https://laramieevents.com/event/read-with-a-ranger/2026-09-10/
ATTACH;FMTTYPE=image/jpeg:https://laramieevents.com/wp-content/uploads/sites/3/2026/02/communication-76-books-2816681_1280.jpg
END:VEVENT
BEGIN:VEVENT
DTSTART;TZID=America/Denver:20261008T140000
DTEND;TZID=America/Denver:20261008T150000
DTSTAMP:20260423T155112
CREATED:20260212T205459Z
LAST-MODIFIED:20260212T205459Z
UID:10009098-1791468000-1791471600@laramieevents.com
SUMMARY:Read With A Ranger
DESCRIPTION:From the library: \n\n\n\n\n\n\nWyoming State Parks\, in partnership with the Albany County Public Library\, presents Read with a Ranger! Stories\, activities\, snacks\, science\, history\, nature. Hosted at ACPL in Laramie. Programs oriented to children in grades K-5 the 2nd and 5th Thursdays of the month 2 to 3pm for kids in grades K through 5
URL:https://laramieevents.com/event/read-with-a-ranger/2026-10-08/
ATTACH;FMTTYPE=image/jpeg:https://laramieevents.com/wp-content/uploads/sites/3/2026/02/communication-76-books-2816681_1280.jpg
END:VEVENT
BEGIN:VEVENT
DTSTART;TZID=America/Denver:20261112T140000
DTEND;TZID=America/Denver:20261112T150000
DTSTAMP:20260423T155112
CREATED:20260212T205459Z
LAST-MODIFIED:20260212T205459Z
UID:10009099-1794492000-1794495600@laramieevents.com
SUMMARY:Read With A Ranger
DESCRIPTION:From the library: \n\n\n\n\n\n\nWyoming State Parks\, in partnership with the Albany County Public Library\, presents Read with a Ranger! Stories\, activities\, snacks\, science\, history\, nature. Hosted at ACPL in Laramie. Programs oriented to children in grades K-5 the 2nd and 5th Thursdays of the month 2 to 3pm for kids in grades K through 5
URL:https://laramieevents.com/event/read-with-a-ranger/2026-11-12/
ATTACH;FMTTYPE=image/jpeg:https://laramieevents.com/wp-content/uploads/sites/3/2026/02/communication-76-books-2816681_1280.jpg
END:VEVENT
BEGIN:VEVENT
DTSTART;TZID=America/Denver:20261210T140000
DTEND;TZID=America/Denver:20261210T150000
DTSTAMP:20260423T155112
CREATED:20260212T205459Z
LAST-MODIFIED:20260212T205459Z
UID:10009100-1796911200-1796914800@laramieevents.com
SUMMARY:Read With A Ranger
DESCRIPTION:From the library: \n\n\n\n\n\n\nWyoming State Parks\, in partnership with the Albany County Public Library\, presents Read with a Ranger! Stories\, activities\, snacks\, science\, history\, nature. Hosted at ACPL in Laramie. Programs oriented to children in grades K-5 the 2nd and 5th Thursdays of the month 2 to 3pm for kids in grades K through 5
URL:https://laramieevents.com/event/read-with-a-ranger/2026-12-10/
ATTACH;FMTTYPE=image/jpeg:https://laramieevents.com/wp-content/uploads/sites/3/2026/02/communication-76-books-2816681_1280.jpg
END:VEVENT
BEGIN:VEVENT
DTSTART;TZID=America/Denver:20270114T140000
DTEND;TZID=America/Denver:20270114T150000
DTSTAMP:20260423T155112
CREATED:20260212T205459Z
LAST-MODIFIED:20260212T205459Z
UID:10009101-1799935200-1799938800@laramieevents.com
SUMMARY:Read With A Ranger
DESCRIPTION:From the library: \n\n\n\n\n\n\nWyoming State Parks\, in partnership with the Albany County Public Library\, presents Read with a Ranger! Stories\, activities\, snacks\, science\, history\, nature. Hosted at ACPL in Laramie. Programs oriented to children in grades K-5 the 2nd and 5th Thursdays of the month 2 to 3pm for kids in grades K through 5
URL:https://laramieevents.com/event/read-with-a-ranger/2027-01-14/
ATTACH;FMTTYPE=image/jpeg:https://laramieevents.com/wp-content/uploads/sites/3/2026/02/communication-76-books-2816681_1280.jpg
END:VEVENT
BEGIN:VEVENT
DTSTART;TZID=America/Denver:20270211T140000
DTEND;TZID=America/Denver:20270211T150000
DTSTAMP:20260423T155112
CREATED:20260212T205459Z
LAST-MODIFIED:20260212T205459Z
UID:10009102-1802354400-1802358000@laramieevents.com
SUMMARY:Read With A Ranger
DESCRIPTION:From the library: \n\n\n\n\n\n\nWyoming State Parks\, in partnership with the Albany County Public Library\, presents Read with a Ranger! Stories\, activities\, snacks\, science\, history\, nature. Hosted at ACPL in Laramie. Programs oriented to children in grades K-5 the 2nd and 5th Thursdays of the month 2 to 3pm for kids in grades K through 5
URL:https://laramieevents.com/event/read-with-a-ranger/2027-02-11/
ATTACH;FMTTYPE=image/jpeg:https://laramieevents.com/wp-content/uploads/sites/3/2026/02/communication-76-books-2816681_1280.jpg
END:VEVENT
BEGIN:VEVENT
DTSTART;TZID=America/Denver:20270311T140000
DTEND;TZID=America/Denver:20270311T150000
DTSTAMP:20260423T155112
CREATED:20260212T205459Z
LAST-MODIFIED:20260212T205459Z
UID:10009103-1804773600-1804777200@laramieevents.com
SUMMARY:Read With A Ranger
DESCRIPTION:From the library: \n\n\n\n\n\n\nWyoming State Parks\, in partnership with the Albany County Public Library\, presents Read with a Ranger! Stories\, activities\, snacks\, science\, history\, nature. Hosted at ACPL in Laramie. Programs oriented to children in grades K-5 the 2nd and 5th Thursdays of the month 2 to 3pm for kids in grades K through 5
URL:https://laramieevents.com/event/read-with-a-ranger/2027-03-11/
ATTACH;FMTTYPE=image/jpeg:https://laramieevents.com/wp-content/uploads/sites/3/2026/02/communication-76-books-2816681_1280.jpg
END:VEVENT
BEGIN:VEVENT
DTSTART;TZID=America/Denver:20270408T140000
DTEND;TZID=America/Denver:20270408T150000
DTSTAMP:20260423T155112
CREATED:20260212T205459Z
LAST-MODIFIED:20260212T205459Z
UID:10009104-1807192800-1807196400@laramieevents.com
SUMMARY:Read With A Ranger
DESCRIPTION:From the library: \n\n\n\n\n\n\nWyoming State Parks\, in partnership with the Albany County Public Library\, presents Read with a Ranger! Stories\, activities\, snacks\, science\, history\, nature. Hosted at ACPL in Laramie. Programs oriented to children in grades K-5 the 2nd and 5th Thursdays of the month 2 to 3pm for kids in grades K through 5
URL:https://laramieevents.com/event/read-with-a-ranger/2027-04-08/
ATTACH;FMTTYPE=image/jpeg:https://laramieevents.com/wp-content/uploads/sites/3/2026/02/communication-76-books-2816681_1280.jpg
END:VEVENT
BEGIN:VEVENT
DTSTART;TZID=America/Denver:20270513T140000
DTEND;TZID=America/Denver:20270513T150000
DTSTAMP:20260423T155112
CREATED:20260212T205459Z
LAST-MODIFIED:20260212T205459Z
UID:10009105-1810216800-1810220400@laramieevents.com
SUMMARY:Read With A Ranger
DESCRIPTION:From the library: \n\n\n\n\n\n\nWyoming State Parks\, in partnership with the Albany County Public Library\, presents Read with a Ranger! Stories\, activities\, snacks\, science\, history\, nature. Hosted at ACPL in Laramie. Programs oriented to children in grades K-5 the 2nd and 5th Thursdays of the month 2 to 3pm for kids in grades K through 5
URL:https://laramieevents.com/event/read-with-a-ranger/2027-05-13/
ATTACH;FMTTYPE=image/jpeg:https://laramieevents.com/wp-content/uploads/sites/3/2026/02/communication-76-books-2816681_1280.jpg
END:VEVENT
BEGIN:VEVENT
DTSTART;TZID=America/Denver:20270610T140000
DTEND;TZID=America/Denver:20270610T150000
DTSTAMP:20260423T155112
CREATED:20260212T205459Z
LAST-MODIFIED:20260212T205459Z
UID:10009106-1812636000-1812639600@laramieevents.com
SUMMARY:Read With A Ranger
DESCRIPTION:From the library: \n\n\n\n\n\n\nWyoming State Parks\, in partnership with the Albany County Public Library\, presents Read with a Ranger! Stories\, activities\, snacks\, science\, history\, nature. Hosted at ACPL in Laramie. Programs oriented to children in grades K-5 the 2nd and 5th Thursdays of the month 2 to 3pm for kids in grades K through 5
URL:https://laramieevents.com/event/read-with-a-ranger/2027-06-10/
ATTACH;FMTTYPE=image/jpeg:https://laramieevents.com/wp-content/uploads/sites/3/2026/02/communication-76-books-2816681_1280.jpg
END:VEVENT
BEGIN:VEVENT
DTSTART;TZID=America/Denver:20270708T140000
DTEND;TZID=America/Denver:20270708T150000
DTSTAMP:20260423T155112
CREATED:20260212T205459Z
LAST-MODIFIED:20260212T205459Z
UID:10009107-1815055200-1815058800@laramieevents.com
SUMMARY:Read With A Ranger
DESCRIPTION:From the library: \n\n\n\n\n\n\nWyoming State Parks\, in partnership with the Albany County Public Library\, presents Read with a Ranger! Stories\, activities\, snacks\, science\, history\, nature. Hosted at ACPL in Laramie. Programs oriented to children in grades K-5 the 2nd and 5th Thursdays of the month 2 to 3pm for kids in grades K through 5
URL:https://laramieevents.com/event/read-with-a-ranger/2027-07-08/
ATTACH;FMTTYPE=image/jpeg:https://laramieevents.com/wp-content/uploads/sites/3/2026/02/communication-76-books-2816681_1280.jpg
END:VEVENT
BEGIN:VEVENT
DTSTART;TZID=America/Denver:20270812T140000
DTEND;TZID=America/Denver:20270812T150000
DTSTAMP:20260423T155112
CREATED:20260212T205459Z
LAST-MODIFIED:20260212T205459Z
UID:10009108-1818079200-1818082800@laramieevents.com
SUMMARY:Read With A Ranger
DESCRIPTION:From the library: \n\n\n\n\n\n\nWyoming State Parks\, in partnership with the Albany County Public Library\, presents Read with a Ranger! Stories\, activities\, snacks\, science\, history\, nature. Hosted at ACPL in Laramie. Programs oriented to children in grades K-5 the 2nd and 5th Thursdays of the month 2 to 3pm for kids in grades K through 5
URL:https://laramieevents.com/event/read-with-a-ranger/2027-08-12/
ATTACH;FMTTYPE=image/jpeg:https://laramieevents.com/wp-content/uploads/sites/3/2026/02/communication-76-books-2816681_1280.jpg
END:VEVENT
BEGIN:VEVENT
DTSTART;TZID=America/Denver:20270909T140000
DTEND;TZID=America/Denver:20270909T150000
DTSTAMP:20260423T155112
CREATED:20260212T205459Z
LAST-MODIFIED:20260212T205459Z
UID:10009109-1820498400-1820502000@laramieevents.com
SUMMARY:Read With A Ranger
DESCRIPTION:From the library: \n\n\n\n\n\n\nWyoming State Parks\, in partnership with the Albany County Public Library\, presents Read with a Ranger! Stories\, activities\, snacks\, science\, history\, nature. Hosted at ACPL in Laramie. Programs oriented to children in grades K-5 the 2nd and 5th Thursdays of the month 2 to 3pm for kids in grades K through 5
URL:https://laramieevents.com/event/read-with-a-ranger/2027-09-09/
ATTACH;FMTTYPE=image/jpeg:https://laramieevents.com/wp-content/uploads/sites/3/2026/02/communication-76-books-2816681_1280.jpg
END:VEVENT
BEGIN:VEVENT
DTSTART;TZID=America/Denver:20271014T140000
DTEND;TZID=America/Denver:20271014T150000
DTSTAMP:20260423T155112
CREATED:20260212T205459Z
LAST-MODIFIED:20260212T205459Z
UID:10009110-1823522400-1823526000@laramieevents.com
SUMMARY:Read With A Ranger
DESCRIPTION:From the library: \n\n\n\n\n\n\nWyoming State Parks\, in partnership with the Albany County Public Library\, presents Read with a Ranger! Stories\, activities\, snacks\, science\, history\, nature. Hosted at ACPL in Laramie. Programs oriented to children in grades K-5 the 2nd and 5th Thursdays of the month 2 to 3pm for kids in grades K through 5
URL:https://laramieevents.com/event/read-with-a-ranger/2027-10-14/
ATTACH;FMTTYPE=image/jpeg:https://laramieevents.com/wp-content/uploads/sites/3/2026/02/communication-76-books-2816681_1280.jpg
END:VEVENT
BEGIN:VEVENT
DTSTART;TZID=America/Denver:20271111T140000
DTEND;TZID=America/Denver:20271111T150000
DTSTAMP:20260423T155112
CREATED:20260212T205459Z
LAST-MODIFIED:20260212T205459Z
UID:10009111-1825941600-1825945200@laramieevents.com
SUMMARY:Read With A Ranger
DESCRIPTION:From the library: \n\n\n\n\n\n\nWyoming State Parks\, in partnership with the Albany County Public Library\, presents Read with a Ranger! Stories\, activities\, snacks\, science\, history\, nature. Hosted at ACPL in Laramie. Programs oriented to children in grades K-5 the 2nd and 5th Thursdays of the month 2 to 3pm for kids in grades K through 5
URL:https://laramieevents.com/event/read-with-a-ranger/2027-11-11/
ATTACH;FMTTYPE=image/jpeg:https://laramieevents.com/wp-content/uploads/sites/3/2026/02/communication-76-books-2816681_1280.jpg
END:VEVENT
BEGIN:VEVENT
DTSTART;TZID=America/Denver:20271209T140000
DTEND;TZID=America/Denver:20271209T150000
DTSTAMP:20260423T155112
CREATED:20260212T205459Z
LAST-MODIFIED:20260212T205459Z
UID:10009112-1828360800-1828364400@laramieevents.com
SUMMARY:Read With A Ranger
DESCRIPTION:From the library: \n\n\n\n\n\n\nWyoming State Parks\, in partnership with the Albany County Public Library\, presents Read with a Ranger! Stories\, activities\, snacks\, science\, history\, nature. Hosted at ACPL in Laramie. Programs oriented to children in grades K-5 the 2nd and 5th Thursdays of the month 2 to 3pm for kids in grades K through 5
URL:https://laramieevents.com/event/read-with-a-ranger/2027-12-09/
ATTACH;FMTTYPE=image/jpeg:https://laramieevents.com/wp-content/uploads/sites/3/2026/02/communication-76-books-2816681_1280.jpg
END:VEVENT
BEGIN:VEVENT
DTSTART;TZID=America/Denver:20280113T140000
DTEND;TZID=America/Denver:20280113T150000
DTSTAMP:20260423T155112
CREATED:20260212T205459Z
LAST-MODIFIED:20260212T205459Z
UID:10009113-1831384800-1831388400@laramieevents.com
SUMMARY:Read With A Ranger
DESCRIPTION:From the library: \n\n\n\n\n\n\nWyoming State Parks\, in partnership with the Albany County Public Library\, presents Read with a Ranger! Stories\, activities\, snacks\, science\, history\, nature. Hosted at ACPL in Laramie. Programs oriented to children in grades K-5 the 2nd and 5th Thursdays of the month 2 to 3pm for kids in grades K through 5
URL:https://laramieevents.com/event/read-with-a-ranger/2028-01-13/
ATTACH;FMTTYPE=image/jpeg:https://laramieevents.com/wp-content/uploads/sites/3/2026/02/communication-76-books-2816681_1280.jpg
END:VEVENT
BEGIN:VEVENT
DTSTART;TZID=America/Denver:20280210T140000
DTEND;TZID=America/Denver:20280210T150000
DTSTAMP:20260423T155112
CREATED:20260212T205459Z
LAST-MODIFIED:20260212T205459Z
UID:10009114-1833804000-1833807600@laramieevents.com
SUMMARY:Read With A Ranger
DESCRIPTION:From the library: \n\n\n\n\n\n\nWyoming State Parks\, in partnership with the Albany County Public Library\, presents Read with a Ranger! Stories\, activities\, snacks\, science\, history\, nature. Hosted at ACPL in Laramie. Programs oriented to children in grades K-5 the 2nd and 5th Thursdays of the month 2 to 3pm for kids in grades K through 5
URL:https://laramieevents.com/event/read-with-a-ranger/2028-02-10/
ATTACH;FMTTYPE=image/jpeg:https://laramieevents.com/wp-content/uploads/sites/3/2026/02/communication-76-books-2816681_1280.jpg
END:VEVENT
BEGIN:VEVENT
DTSTART;TZID=America/Denver:20280309T140000
DTEND;TZID=America/Denver:20280309T150000
DTSTAMP:20260423T155112
CREATED:20260212T205459Z
LAST-MODIFIED:20260212T205459Z
UID:10009115-1836223200-1836226800@laramieevents.com
SUMMARY:Read With A Ranger
DESCRIPTION:From the library: \n\n\n\n\n\n\nWyoming State Parks\, in partnership with the Albany County Public Library\, presents Read with a Ranger! Stories\, activities\, snacks\, science\, history\, nature. Hosted at ACPL in Laramie. Programs oriented to children in grades K-5 the 2nd and 5th Thursdays of the month 2 to 3pm for kids in grades K through 5
URL:https://laramieevents.com/event/read-with-a-ranger/2028-03-09/
ATTACH;FMTTYPE=image/jpeg:https://laramieevents.com/wp-content/uploads/sites/3/2026/02/communication-76-books-2816681_1280.jpg
END:VEVENT
BEGIN:VEVENT
DTSTART;TZID=America/Denver:20280413T140000
DTEND;TZID=America/Denver:20280413T150000
DTSTAMP:20260423T155112
CREATED:20260212T205459Z
LAST-MODIFIED:20260212T205459Z
UID:10009116-1839247200-1839250800@laramieevents.com
SUMMARY:Read With A Ranger
DESCRIPTION:From the library: \n\n\n\n\n\n\nWyoming State Parks\, in partnership with the Albany County Public Library\, presents Read with a Ranger! Stories\, activities\, snacks\, science\, history\, nature. Hosted at ACPL in Laramie. Programs oriented to children in grades K-5 the 2nd and 5th Thursdays of the month 2 to 3pm for kids in grades K through 5
URL:https://laramieevents.com/event/read-with-a-ranger/2028-04-13/
ATTACH;FMTTYPE=image/jpeg:https://laramieevents.com/wp-content/uploads/sites/3/2026/02/communication-76-books-2816681_1280.jpg
END:VEVENT
BEGIN:VEVENT
DTSTART;TZID=America/Denver:20280511T140000
DTEND;TZID=America/Denver:20280511T150000
DTSTAMP:20260423T155112
CREATED:20260212T205459Z
LAST-MODIFIED:20260212T205459Z
UID:10009117-1841666400-1841670000@laramieevents.com
SUMMARY:Read With A Ranger
DESCRIPTION:From the library: \n\n\n\n\n\n\nWyoming State Parks\, in partnership with the Albany County Public Library\, presents Read with a Ranger! Stories\, activities\, snacks\, science\, history\, nature. Hosted at ACPL in Laramie. Programs oriented to children in grades K-5 the 2nd and 5th Thursdays of the month 2 to 3pm for kids in grades K through 5
URL:https://laramieevents.com/event/read-with-a-ranger/2028-05-11/
ATTACH;FMTTYPE=image/jpeg:https://laramieevents.com/wp-content/uploads/sites/3/2026/02/communication-76-books-2816681_1280.jpg
END:VEVENT
BEGIN:VEVENT
DTSTART;TZID=America/Denver:20280608T140000
DTEND;TZID=America/Denver:20280608T150000
DTSTAMP:20260423T155112
CREATED:20260212T205459Z
LAST-MODIFIED:20260212T205459Z
UID:10009118-1844085600-1844089200@laramieevents.com
SUMMARY:Read With A Ranger
DESCRIPTION:From the library: \n\n\n\n\n\n\nWyoming State Parks\, in partnership with the Albany County Public Library\, presents Read with a Ranger! Stories\, activities\, snacks\, science\, history\, nature. Hosted at ACPL in Laramie. Programs oriented to children in grades K-5 the 2nd and 5th Thursdays of the month 2 to 3pm for kids in grades K through 5
URL:https://laramieevents.com/event/read-with-a-ranger/2028-06-08/
ATTACH;FMTTYPE=image/jpeg:https://laramieevents.com/wp-content/uploads/sites/3/2026/02/communication-76-books-2816681_1280.jpg
END:VEVENT
BEGIN:VEVENT
DTSTART;TZID=America/Denver:20280713T140000
DTEND;TZID=America/Denver:20280713T150000
DTSTAMP:20260423T155112
CREATED:20260212T205459Z
LAST-MODIFIED:20260212T205459Z
UID:10009119-1847109600-1847113200@laramieevents.com
SUMMARY:Read With A Ranger
DESCRIPTION:From the library: \n\n\n\n\n\n\nWyoming State Parks\, in partnership with the Albany County Public Library\, presents Read with a Ranger! Stories\, activities\, snacks\, science\, history\, nature. Hosted at ACPL in Laramie. Programs oriented to children in grades K-5 the 2nd and 5th Thursdays of the month 2 to 3pm for kids in grades K through 5
URL:https://laramieevents.com/event/read-with-a-ranger/2028-07-13/
ATTACH;FMTTYPE=image/jpeg:https://laramieevents.com/wp-content/uploads/sites/3/2026/02/communication-76-books-2816681_1280.jpg
END:VEVENT
BEGIN:VEVENT
DTSTART;TZID=America/Denver:20280810T140000
DTEND;TZID=America/Denver:20280810T150000
DTSTAMP:20260423T155112
CREATED:20260212T205459Z
LAST-MODIFIED:20260212T205459Z
UID:10009120-1849528800-1849532400@laramieevents.com
SUMMARY:Read With A Ranger
DESCRIPTION:From the library: \n\n\n\n\n\n\nWyoming State Parks\, in partnership with the Albany County Public Library\, presents Read with a Ranger! Stories\, activities\, snacks\, science\, history\, nature. Hosted at ACPL in Laramie. Programs oriented to children in grades K-5 the 2nd and 5th Thursdays of the month 2 to 3pm for kids in grades K through 5
URL:https://laramieevents.com/event/read-with-a-ranger/2028-08-10/
ATTACH;FMTTYPE=image/jpeg:https://laramieevents.com/wp-content/uploads/sites/3/2026/02/communication-76-books-2816681_1280.jpg
END:VEVENT
BEGIN:VEVENT
DTSTART;TZID=America/Denver:20280914T140000
DTEND;TZID=America/Denver:20280914T150000
DTSTAMP:20260423T155112
CREATED:20260212T205459Z
LAST-MODIFIED:20260212T205459Z
UID:10009121-1852552800-1852556400@laramieevents.com
SUMMARY:Read With A Ranger
DESCRIPTION:From the library: \n\n\n\n\n\n\nWyoming State Parks\, in partnership with the Albany County Public Library\, presents Read with a Ranger! Stories\, activities\, snacks\, science\, history\, nature. Hosted at ACPL in Laramie. Programs oriented to children in grades K-5 the 2nd and 5th Thursdays of the month 2 to 3pm for kids in grades K through 5
URL:https://laramieevents.com/event/read-with-a-ranger/2028-09-14/
ATTACH;FMTTYPE=image/jpeg:https://laramieevents.com/wp-content/uploads/sites/3/2026/02/communication-76-books-2816681_1280.jpg
END:VEVENT
END:VCALENDAR