BEGIN:VCALENDAR
VERSION:2.0
PRODID:-//Laramie Events - ECPv6.15.17.1//NONSGML v1.0//EN
CALSCALE:GREGORIAN
METHOD:PUBLISH
X-WR-CALNAME:Laramie Events
X-ORIGINAL-URL:https://laramieevents.com
X-WR-CALDESC:Events for Laramie Events
REFRESH-INTERVAL;VALUE=DURATION:PT1H
X-Robots-Tag:noindex
X-PUBLISHED-TTL:PT1H
BEGIN:VTIMEZONE
TZID:America/Denver
BEGIN:DAYLIGHT
TZOFFSETFROM:-0700
TZOFFSETTO:-0600
TZNAME:MDT
DTSTART:20250309T090000
END:DAYLIGHT
BEGIN:STANDARD
TZOFFSETFROM:-0600
TZOFFSETTO:-0700
TZNAME:MST
DTSTART:20251102T080000
END:STANDARD
BEGIN:DAYLIGHT
TZOFFSETFROM:-0700
TZOFFSETTO:-0600
TZNAME:MDT
DTSTART:20260308T090000
END:DAYLIGHT
BEGIN:STANDARD
TZOFFSETFROM:-0600
TZOFFSETTO:-0700
TZNAME:MST
DTSTART:20261101T080000
END:STANDARD
BEGIN:DAYLIGHT
TZOFFSETFROM:-0700
TZOFFSETTO:-0600
TZNAME:MDT
DTSTART:20270314T090000
END:DAYLIGHT
BEGIN:STANDARD
TZOFFSETFROM:-0600
TZOFFSETTO:-0700
TZNAME:MST
DTSTART:20271107T080000
END:STANDARD
BEGIN:DAYLIGHT
TZOFFSETFROM:-0700
TZOFFSETTO:-0600
TZNAME:MDT
DTSTART:20280312T090000
END:DAYLIGHT
BEGIN:STANDARD
TZOFFSETFROM:-0600
TZOFFSETTO:-0700
TZNAME:MST
DTSTART:20281105T080000
END:STANDARD
BEGIN:DAYLIGHT
TZOFFSETFROM:-0700
TZOFFSETTO:-0600
TZNAME:MDT
DTSTART:20290311T090000
END:DAYLIGHT
BEGIN:STANDARD
TZOFFSETFROM:-0600
TZOFFSETTO:-0700
TZNAME:MST
DTSTART:20291104T080000
END:STANDARD
END:VTIMEZONE
BEGIN:VEVENT
DTSTART;TZID=America/Denver:20260502T080000
DTEND;TZID=America/Denver:20260502T100000
DTSTAMP:20260423T155645
CREATED:20260212T144025Z
LAST-MODIFIED:20260212T144025Z
UID:10008400-1777708800-1777716000@laramieevents.com
SUMMARY:Centennial Mens Breakfast
DESCRIPTION:The first Saturday of every month— Men’s Breakfast\nOld Corral @ 8 AM.\nAll valley men welcome
URL:https://laramieevents.com/event/centennial-mens-breakfast/2026-05-02/
ATTACH;FMTTYPE=image/jpeg:https://laramieevents.com/wp-content/uploads/sites/3/2026/02/jhenning-breakfast-8200753_1280.jpg
END:VEVENT
BEGIN:VEVENT
DTSTART;TZID=America/Denver:20260606T080000
DTEND;TZID=America/Denver:20260606T100000
DTSTAMP:20260423T155645
CREATED:20260212T144025Z
LAST-MODIFIED:20260212T144025Z
UID:10008401-1780732800-1780740000@laramieevents.com
SUMMARY:Centennial Mens Breakfast
DESCRIPTION:The first Saturday of every month— Men’s Breakfast\nOld Corral @ 8 AM.\nAll valley men welcome
URL:https://laramieevents.com/event/centennial-mens-breakfast/2026-06-06/
ATTACH;FMTTYPE=image/jpeg:https://laramieevents.com/wp-content/uploads/sites/3/2026/02/jhenning-breakfast-8200753_1280.jpg
END:VEVENT
BEGIN:VEVENT
DTSTART;TZID=America/Denver:20260704T080000
DTEND;TZID=America/Denver:20260704T100000
DTSTAMP:20260423T155645
CREATED:20260212T144025Z
LAST-MODIFIED:20260212T144025Z
UID:10008402-1783152000-1783159200@laramieevents.com
SUMMARY:Centennial Mens Breakfast
DESCRIPTION:The first Saturday of every month— Men’s Breakfast\nOld Corral @ 8 AM.\nAll valley men welcome
URL:https://laramieevents.com/event/centennial-mens-breakfast/2026-07-04/
ATTACH;FMTTYPE=image/jpeg:https://laramieevents.com/wp-content/uploads/sites/3/2026/02/jhenning-breakfast-8200753_1280.jpg
END:VEVENT
BEGIN:VEVENT
DTSTART;TZID=America/Denver:20260801T080000
DTEND;TZID=America/Denver:20260801T100000
DTSTAMP:20260423T155645
CREATED:20260212T144025Z
LAST-MODIFIED:20260212T144025Z
UID:10008403-1785571200-1785578400@laramieevents.com
SUMMARY:Centennial Mens Breakfast
DESCRIPTION:The first Saturday of every month— Men’s Breakfast\nOld Corral @ 8 AM.\nAll valley men welcome
URL:https://laramieevents.com/event/centennial-mens-breakfast/2026-08-01/
ATTACH;FMTTYPE=image/jpeg:https://laramieevents.com/wp-content/uploads/sites/3/2026/02/jhenning-breakfast-8200753_1280.jpg
END:VEVENT
BEGIN:VEVENT
DTSTART;TZID=America/Denver:20260905T080000
DTEND;TZID=America/Denver:20260905T100000
DTSTAMP:20260423T155645
CREATED:20260212T144025Z
LAST-MODIFIED:20260212T144025Z
UID:10008404-1788595200-1788602400@laramieevents.com
SUMMARY:Centennial Mens Breakfast
DESCRIPTION:The first Saturday of every month— Men’s Breakfast\nOld Corral @ 8 AM.\nAll valley men welcome
URL:https://laramieevents.com/event/centennial-mens-breakfast/2026-09-05/
ATTACH;FMTTYPE=image/jpeg:https://laramieevents.com/wp-content/uploads/sites/3/2026/02/jhenning-breakfast-8200753_1280.jpg
END:VEVENT
BEGIN:VEVENT
DTSTART;TZID=America/Denver:20261003T080000
DTEND;TZID=America/Denver:20261003T100000
DTSTAMP:20260423T155645
CREATED:20260212T144025Z
LAST-MODIFIED:20260212T144025Z
UID:10008405-1791014400-1791021600@laramieevents.com
SUMMARY:Centennial Mens Breakfast
DESCRIPTION:The first Saturday of every month— Men’s Breakfast\nOld Corral @ 8 AM.\nAll valley men welcome
URL:https://laramieevents.com/event/centennial-mens-breakfast/2026-10-03/
ATTACH;FMTTYPE=image/jpeg:https://laramieevents.com/wp-content/uploads/sites/3/2026/02/jhenning-breakfast-8200753_1280.jpg
END:VEVENT
BEGIN:VEVENT
DTSTART;TZID=America/Denver:20261107T080000
DTEND;TZID=America/Denver:20261107T100000
DTSTAMP:20260423T155645
CREATED:20260212T144025Z
LAST-MODIFIED:20260212T144025Z
UID:10008406-1794038400-1794045600@laramieevents.com
SUMMARY:Centennial Mens Breakfast
DESCRIPTION:The first Saturday of every month— Men’s Breakfast\nOld Corral @ 8 AM.\nAll valley men welcome
URL:https://laramieevents.com/event/centennial-mens-breakfast/2026-11-07/
ATTACH;FMTTYPE=image/jpeg:https://laramieevents.com/wp-content/uploads/sites/3/2026/02/jhenning-breakfast-8200753_1280.jpg
END:VEVENT
BEGIN:VEVENT
DTSTART;TZID=America/Denver:20261205T080000
DTEND;TZID=America/Denver:20261205T100000
DTSTAMP:20260423T155645
CREATED:20260212T144025Z
LAST-MODIFIED:20260212T144025Z
UID:10008407-1796457600-1796464800@laramieevents.com
SUMMARY:Centennial Mens Breakfast
DESCRIPTION:The first Saturday of every month— Men’s Breakfast\nOld Corral @ 8 AM.\nAll valley men welcome
URL:https://laramieevents.com/event/centennial-mens-breakfast/2026-12-05/
ATTACH;FMTTYPE=image/jpeg:https://laramieevents.com/wp-content/uploads/sites/3/2026/02/jhenning-breakfast-8200753_1280.jpg
END:VEVENT
BEGIN:VEVENT
DTSTART;TZID=America/Denver:20270102T080000
DTEND;TZID=America/Denver:20270102T100000
DTSTAMP:20260423T155645
CREATED:20260212T144025Z
LAST-MODIFIED:20260212T144025Z
UID:10008408-1798876800-1798884000@laramieevents.com
SUMMARY:Centennial Mens Breakfast
DESCRIPTION:The first Saturday of every month— Men’s Breakfast\nOld Corral @ 8 AM.\nAll valley men welcome
URL:https://laramieevents.com/event/centennial-mens-breakfast/2027-01-02/
ATTACH;FMTTYPE=image/jpeg:https://laramieevents.com/wp-content/uploads/sites/3/2026/02/jhenning-breakfast-8200753_1280.jpg
END:VEVENT
BEGIN:VEVENT
DTSTART;TZID=America/Denver:20270206T080000
DTEND;TZID=America/Denver:20270206T100000
DTSTAMP:20260423T155645
CREATED:20260212T144025Z
LAST-MODIFIED:20260212T144025Z
UID:10008409-1801900800-1801908000@laramieevents.com
SUMMARY:Centennial Mens Breakfast
DESCRIPTION:The first Saturday of every month— Men’s Breakfast\nOld Corral @ 8 AM.\nAll valley men welcome
URL:https://laramieevents.com/event/centennial-mens-breakfast/2027-02-06/
ATTACH;FMTTYPE=image/jpeg:https://laramieevents.com/wp-content/uploads/sites/3/2026/02/jhenning-breakfast-8200753_1280.jpg
END:VEVENT
BEGIN:VEVENT
DTSTART;TZID=America/Denver:20270306T080000
DTEND;TZID=America/Denver:20270306T100000
DTSTAMP:20260423T155645
CREATED:20260212T144025Z
LAST-MODIFIED:20260212T144025Z
UID:10008410-1804320000-1804327200@laramieevents.com
SUMMARY:Centennial Mens Breakfast
DESCRIPTION:The first Saturday of every month— Men’s Breakfast\nOld Corral @ 8 AM.\nAll valley men welcome
URL:https://laramieevents.com/event/centennial-mens-breakfast/2027-03-06/
ATTACH;FMTTYPE=image/jpeg:https://laramieevents.com/wp-content/uploads/sites/3/2026/02/jhenning-breakfast-8200753_1280.jpg
END:VEVENT
BEGIN:VEVENT
DTSTART;TZID=America/Denver:20270403T080000
DTEND;TZID=America/Denver:20270403T100000
DTSTAMP:20260423T155645
CREATED:20260212T144025Z
LAST-MODIFIED:20260212T144025Z
UID:10008411-1806739200-1806746400@laramieevents.com
SUMMARY:Centennial Mens Breakfast
DESCRIPTION:The first Saturday of every month— Men’s Breakfast\nOld Corral @ 8 AM.\nAll valley men welcome
URL:https://laramieevents.com/event/centennial-mens-breakfast/2027-04-03/
ATTACH;FMTTYPE=image/jpeg:https://laramieevents.com/wp-content/uploads/sites/3/2026/02/jhenning-breakfast-8200753_1280.jpg
END:VEVENT
BEGIN:VEVENT
DTSTART;TZID=America/Denver:20270501T080000
DTEND;TZID=America/Denver:20270501T100000
DTSTAMP:20260423T155645
CREATED:20260212T144025Z
LAST-MODIFIED:20260212T144025Z
UID:10008412-1809158400-1809165600@laramieevents.com
SUMMARY:Centennial Mens Breakfast
DESCRIPTION:The first Saturday of every month— Men’s Breakfast\nOld Corral @ 8 AM.\nAll valley men welcome
URL:https://laramieevents.com/event/centennial-mens-breakfast/2027-05-01/
ATTACH;FMTTYPE=image/jpeg:https://laramieevents.com/wp-content/uploads/sites/3/2026/02/jhenning-breakfast-8200753_1280.jpg
END:VEVENT
BEGIN:VEVENT
DTSTART;TZID=America/Denver:20270605T080000
DTEND;TZID=America/Denver:20270605T100000
DTSTAMP:20260423T155645
CREATED:20260212T144025Z
LAST-MODIFIED:20260212T144025Z
UID:10008413-1812182400-1812189600@laramieevents.com
SUMMARY:Centennial Mens Breakfast
DESCRIPTION:The first Saturday of every month— Men’s Breakfast\nOld Corral @ 8 AM.\nAll valley men welcome
URL:https://laramieevents.com/event/centennial-mens-breakfast/2027-06-05/
ATTACH;FMTTYPE=image/jpeg:https://laramieevents.com/wp-content/uploads/sites/3/2026/02/jhenning-breakfast-8200753_1280.jpg
END:VEVENT
BEGIN:VEVENT
DTSTART;TZID=America/Denver:20270703T080000
DTEND;TZID=America/Denver:20270703T100000
DTSTAMP:20260423T155645
CREATED:20260212T144025Z
LAST-MODIFIED:20260212T144025Z
UID:10008414-1814601600-1814608800@laramieevents.com
SUMMARY:Centennial Mens Breakfast
DESCRIPTION:The first Saturday of every month— Men’s Breakfast\nOld Corral @ 8 AM.\nAll valley men welcome
URL:https://laramieevents.com/event/centennial-mens-breakfast/2027-07-03/
ATTACH;FMTTYPE=image/jpeg:https://laramieevents.com/wp-content/uploads/sites/3/2026/02/jhenning-breakfast-8200753_1280.jpg
END:VEVENT
BEGIN:VEVENT
DTSTART;TZID=America/Denver:20270807T080000
DTEND;TZID=America/Denver:20270807T100000
DTSTAMP:20260423T155645
CREATED:20260212T144025Z
LAST-MODIFIED:20260212T144025Z
UID:10008415-1817625600-1817632800@laramieevents.com
SUMMARY:Centennial Mens Breakfast
DESCRIPTION:The first Saturday of every month— Men’s Breakfast\nOld Corral @ 8 AM.\nAll valley men welcome
URL:https://laramieevents.com/event/centennial-mens-breakfast/2027-08-07/
ATTACH;FMTTYPE=image/jpeg:https://laramieevents.com/wp-content/uploads/sites/3/2026/02/jhenning-breakfast-8200753_1280.jpg
END:VEVENT
BEGIN:VEVENT
DTSTART;TZID=America/Denver:20270904T080000
DTEND;TZID=America/Denver:20270904T100000
DTSTAMP:20260423T155645
CREATED:20260212T144025Z
LAST-MODIFIED:20260212T144025Z
UID:10008416-1820044800-1820052000@laramieevents.com
SUMMARY:Centennial Mens Breakfast
DESCRIPTION:The first Saturday of every month— Men’s Breakfast\nOld Corral @ 8 AM.\nAll valley men welcome
URL:https://laramieevents.com/event/centennial-mens-breakfast/2027-09-04/
ATTACH;FMTTYPE=image/jpeg:https://laramieevents.com/wp-content/uploads/sites/3/2026/02/jhenning-breakfast-8200753_1280.jpg
END:VEVENT
BEGIN:VEVENT
DTSTART;TZID=America/Denver:20271002T080000
DTEND;TZID=America/Denver:20271002T100000
DTSTAMP:20260423T155645
CREATED:20260212T144025Z
LAST-MODIFIED:20260212T144025Z
UID:10008417-1822464000-1822471200@laramieevents.com
SUMMARY:Centennial Mens Breakfast
DESCRIPTION:The first Saturday of every month— Men’s Breakfast\nOld Corral @ 8 AM.\nAll valley men welcome
URL:https://laramieevents.com/event/centennial-mens-breakfast/2027-10-02/
ATTACH;FMTTYPE=image/jpeg:https://laramieevents.com/wp-content/uploads/sites/3/2026/02/jhenning-breakfast-8200753_1280.jpg
END:VEVENT
BEGIN:VEVENT
DTSTART;TZID=America/Denver:20271106T080000
DTEND;TZID=America/Denver:20271106T100000
DTSTAMP:20260423T155645
CREATED:20260212T144025Z
LAST-MODIFIED:20260212T144025Z
UID:10008418-1825488000-1825495200@laramieevents.com
SUMMARY:Centennial Mens Breakfast
DESCRIPTION:The first Saturday of every month— Men’s Breakfast\nOld Corral @ 8 AM.\nAll valley men welcome
URL:https://laramieevents.com/event/centennial-mens-breakfast/2027-11-06/
ATTACH;FMTTYPE=image/jpeg:https://laramieevents.com/wp-content/uploads/sites/3/2026/02/jhenning-breakfast-8200753_1280.jpg
END:VEVENT
BEGIN:VEVENT
DTSTART;TZID=America/Denver:20271204T080000
DTEND;TZID=America/Denver:20271204T100000
DTSTAMP:20260423T155645
CREATED:20260212T144025Z
LAST-MODIFIED:20260212T144025Z
UID:10008419-1827907200-1827914400@laramieevents.com
SUMMARY:Centennial Mens Breakfast
DESCRIPTION:The first Saturday of every month— Men’s Breakfast\nOld Corral @ 8 AM.\nAll valley men welcome
URL:https://laramieevents.com/event/centennial-mens-breakfast/2027-12-04/
ATTACH;FMTTYPE=image/jpeg:https://laramieevents.com/wp-content/uploads/sites/3/2026/02/jhenning-breakfast-8200753_1280.jpg
END:VEVENT
BEGIN:VEVENT
DTSTART;TZID=America/Denver:20280101T080000
DTEND;TZID=America/Denver:20280101T100000
DTSTAMP:20260423T155645
CREATED:20260212T144025Z
LAST-MODIFIED:20260212T144025Z
UID:10008420-1830326400-1830333600@laramieevents.com
SUMMARY:Centennial Mens Breakfast
DESCRIPTION:The first Saturday of every month— Men’s Breakfast\nOld Corral @ 8 AM.\nAll valley men welcome
URL:https://laramieevents.com/event/centennial-mens-breakfast/2028-01-01/
ATTACH;FMTTYPE=image/jpeg:https://laramieevents.com/wp-content/uploads/sites/3/2026/02/jhenning-breakfast-8200753_1280.jpg
END:VEVENT
BEGIN:VEVENT
DTSTART;TZID=America/Denver:20280205T080000
DTEND;TZID=America/Denver:20280205T100000
DTSTAMP:20260423T155645
CREATED:20260212T144025Z
LAST-MODIFIED:20260212T144025Z
UID:10008421-1833350400-1833357600@laramieevents.com
SUMMARY:Centennial Mens Breakfast
DESCRIPTION:The first Saturday of every month— Men’s Breakfast\nOld Corral @ 8 AM.\nAll valley men welcome
URL:https://laramieevents.com/event/centennial-mens-breakfast/2028-02-05/
ATTACH;FMTTYPE=image/jpeg:https://laramieevents.com/wp-content/uploads/sites/3/2026/02/jhenning-breakfast-8200753_1280.jpg
END:VEVENT
BEGIN:VEVENT
DTSTART;TZID=America/Denver:20280304T080000
DTEND;TZID=America/Denver:20280304T100000
DTSTAMP:20260423T155645
CREATED:20260212T144025Z
LAST-MODIFIED:20260212T144025Z
UID:10008422-1835769600-1835776800@laramieevents.com
SUMMARY:Centennial Mens Breakfast
DESCRIPTION:The first Saturday of every month— Men’s Breakfast\nOld Corral @ 8 AM.\nAll valley men welcome
URL:https://laramieevents.com/event/centennial-mens-breakfast/2028-03-04/
ATTACH;FMTTYPE=image/jpeg:https://laramieevents.com/wp-content/uploads/sites/3/2026/02/jhenning-breakfast-8200753_1280.jpg
END:VEVENT
BEGIN:VEVENT
DTSTART;TZID=America/Denver:20280401T080000
DTEND;TZID=America/Denver:20280401T100000
DTSTAMP:20260423T155645
CREATED:20260212T144025Z
LAST-MODIFIED:20260212T144025Z
UID:10008423-1838188800-1838196000@laramieevents.com
SUMMARY:Centennial Mens Breakfast
DESCRIPTION:The first Saturday of every month— Men’s Breakfast\nOld Corral @ 8 AM.\nAll valley men welcome
URL:https://laramieevents.com/event/centennial-mens-breakfast/2028-04-01/
ATTACH;FMTTYPE=image/jpeg:https://laramieevents.com/wp-content/uploads/sites/3/2026/02/jhenning-breakfast-8200753_1280.jpg
END:VEVENT
BEGIN:VEVENT
DTSTART;TZID=America/Denver:20280506T080000
DTEND;TZID=America/Denver:20280506T100000
DTSTAMP:20260423T155645
CREATED:20260212T144025Z
LAST-MODIFIED:20260212T144025Z
UID:10008424-1841212800-1841220000@laramieevents.com
SUMMARY:Centennial Mens Breakfast
DESCRIPTION:The first Saturday of every month— Men’s Breakfast\nOld Corral @ 8 AM.\nAll valley men welcome
URL:https://laramieevents.com/event/centennial-mens-breakfast/2028-05-06/
ATTACH;FMTTYPE=image/jpeg:https://laramieevents.com/wp-content/uploads/sites/3/2026/02/jhenning-breakfast-8200753_1280.jpg
END:VEVENT
BEGIN:VEVENT
DTSTART;TZID=America/Denver:20280603T080000
DTEND;TZID=America/Denver:20280603T100000
DTSTAMP:20260423T155645
CREATED:20260212T144025Z
LAST-MODIFIED:20260212T144025Z
UID:10008425-1843632000-1843639200@laramieevents.com
SUMMARY:Centennial Mens Breakfast
DESCRIPTION:The first Saturday of every month— Men’s Breakfast\nOld Corral @ 8 AM.\nAll valley men welcome
URL:https://laramieevents.com/event/centennial-mens-breakfast/2028-06-03/
ATTACH;FMTTYPE=image/jpeg:https://laramieevents.com/wp-content/uploads/sites/3/2026/02/jhenning-breakfast-8200753_1280.jpg
END:VEVENT
BEGIN:VEVENT
DTSTART;TZID=America/Denver:20280701T080000
DTEND;TZID=America/Denver:20280701T100000
DTSTAMP:20260423T155645
CREATED:20260212T144025Z
LAST-MODIFIED:20260212T144025Z
UID:10008426-1846051200-1846058400@laramieevents.com
SUMMARY:Centennial Mens Breakfast
DESCRIPTION:The first Saturday of every month— Men’s Breakfast\nOld Corral @ 8 AM.\nAll valley men welcome
URL:https://laramieevents.com/event/centennial-mens-breakfast/2028-07-01/
ATTACH;FMTTYPE=image/jpeg:https://laramieevents.com/wp-content/uploads/sites/3/2026/02/jhenning-breakfast-8200753_1280.jpg
END:VEVENT
BEGIN:VEVENT
DTSTART;TZID=America/Denver:20280805T080000
DTEND;TZID=America/Denver:20280805T100000
DTSTAMP:20260423T155645
CREATED:20260212T144025Z
LAST-MODIFIED:20260212T144025Z
UID:10008427-1849075200-1849082400@laramieevents.com
SUMMARY:Centennial Mens Breakfast
DESCRIPTION:The first Saturday of every month— Men’s Breakfast\nOld Corral @ 8 AM.\nAll valley men welcome
URL:https://laramieevents.com/event/centennial-mens-breakfast/2028-08-05/
ATTACH;FMTTYPE=image/jpeg:https://laramieevents.com/wp-content/uploads/sites/3/2026/02/jhenning-breakfast-8200753_1280.jpg
END:VEVENT
BEGIN:VEVENT
DTSTART;TZID=America/Denver:20280902T080000
DTEND;TZID=America/Denver:20280902T100000
DTSTAMP:20260423T155645
CREATED:20260212T144025Z
LAST-MODIFIED:20260212T144025Z
UID:10008428-1851494400-1851501600@laramieevents.com
SUMMARY:Centennial Mens Breakfast
DESCRIPTION:The first Saturday of every month— Men’s Breakfast\nOld Corral @ 8 AM.\nAll valley men welcome
URL:https://laramieevents.com/event/centennial-mens-breakfast/2028-09-02/
ATTACH;FMTTYPE=image/jpeg:https://laramieevents.com/wp-content/uploads/sites/3/2026/02/jhenning-breakfast-8200753_1280.jpg
END:VEVENT
BEGIN:VEVENT
DTSTART;TZID=America/Denver:20281007T080000
DTEND;TZID=America/Denver:20281007T100000
DTSTAMP:20260423T155645
CREATED:20260212T144025Z
LAST-MODIFIED:20260212T144025Z
UID:10008429-1854518400-1854525600@laramieevents.com
SUMMARY:Centennial Mens Breakfast
DESCRIPTION:The first Saturday of every month— Men’s Breakfast\nOld Corral @ 8 AM.\nAll valley men welcome
URL:https://laramieevents.com/event/centennial-mens-breakfast/2028-10-07/
ATTACH;FMTTYPE=image/jpeg:https://laramieevents.com/wp-content/uploads/sites/3/2026/02/jhenning-breakfast-8200753_1280.jpg
END:VEVENT
END:VCALENDAR