BEGIN:VCALENDAR
VERSION:2.0
PRODID:-//Laramie Events - ECPv6.15.17.1//NONSGML v1.0//EN
CALSCALE:GREGORIAN
METHOD:PUBLISH
X-ORIGINAL-URL:https://laramieevents.com
X-WR-CALDESC:Events for Laramie Events
REFRESH-INTERVAL;VALUE=DURATION:PT1H
X-Robots-Tag:noindex
X-PUBLISHED-TTL:PT1H
BEGIN:VTIMEZONE
TZID:America/Denver
BEGIN:DAYLIGHT
TZOFFSETFROM:-0700
TZOFFSETTO:-0600
TZNAME:MDT
DTSTART:20250309T090000
END:DAYLIGHT
BEGIN:STANDARD
TZOFFSETFROM:-0600
TZOFFSETTO:-0700
TZNAME:MST
DTSTART:20251102T080000
END:STANDARD
BEGIN:DAYLIGHT
TZOFFSETFROM:-0700
TZOFFSETTO:-0600
TZNAME:MDT
DTSTART:20260308T090000
END:DAYLIGHT
BEGIN:STANDARD
TZOFFSETFROM:-0600
TZOFFSETTO:-0700
TZNAME:MST
DTSTART:20261101T080000
END:STANDARD
BEGIN:DAYLIGHT
TZOFFSETFROM:-0700
TZOFFSETTO:-0600
TZNAME:MDT
DTSTART:20270314T090000
END:DAYLIGHT
BEGIN:STANDARD
TZOFFSETFROM:-0600
TZOFFSETTO:-0700
TZNAME:MST
DTSTART:20271107T080000
END:STANDARD
END:VTIMEZONE
BEGIN:VEVENT
DTSTART;TZID=America/Denver:20260104T163000
DTEND;TZID=America/Denver:20260104T180000
DTSTAMP:20260423T195015
CREATED:20250220T010050Z
LAST-MODIFIED:20250220T010050Z
UID:10003356-1767544200-1767549600@laramieevents.com
SUMMARY:Laramie Connections Free Sunday Dinner
DESCRIPTION:From the organizers:\n4:30 pm Sundays @ First Baptist Church\nEveryone is welcome to come and enjoy a hot meal Sunday evenings along with great company.  While regular meal offerings are closed on the weekends we are happy to step in and offer a free meal gathering. \nOur meal is provided by the Laramie Soup Kitchen\, Laramie Interfaith and Eppson Center being closed on the weekends.
URL:https://laramieevents.com/event/laramie-connections-free-sunday-dinner/2026-01-04/
ATTACH;FMTTYPE=image/png:https://laramieevents.com/wp-content/uploads/sites/3/2025/02/family-dinner-3407701_1280.png
END:VEVENT
BEGIN:VEVENT
DTSTART;TZID=America/Denver:20260110T093000
DTEND;TZID=America/Denver:20260110T120000
DTSTAMP:20260423T195015
CREATED:20251231T195528Z
LAST-MODIFIED:20251231T195528Z
UID:10007768-1768037400-1768046400@laramieevents.com
SUMMARY:Laramie Elks Hoop Shoot Free Throw Contest
DESCRIPTION:On January 10\, 2026\, Laramie Elks Lodge #582 is hosting the Annual Hoop Shoot Free Throw Contest at the Laramie Community Recreation Center\, 920 Boulder Drive.  The Hoop Shoot is FREE and open to Boys & Girls Ages 8 to 13.  Registration begins at 9:30 a.m. with the contest beginning at 10:00 a.m. \nThrough the Hoop Shoot program\, the Elks have been unleashing grit for more than 50 years.  Local winners have a chance to compete at the State Competition in Casper\, Wyoming and potentially the National Hoop Shoot Competition in Chicago\, Illinois\, in April.  Regardless\, the Hoop Shoot journey begins right here in Laramie\, Wyoming.  We hope to see you there on January 10!  \nFor more information\, please contact the Laramie Elks Lodge at 307.742.2024 or email the Lodge Secretary at laramieelks582@gmail.com.
URL:https://laramieevents.com/event/laramie-elks-hoop-shoot-free-throw-contest/
ATTACH;FMTTYPE=image/jpeg:https://laramieevents.com/wp-content/uploads/sites/3/2025/12/image001.jpg
END:VEVENT
BEGIN:VEVENT
DTSTART;TZID=America/Denver:20260111T163000
DTEND;TZID=America/Denver:20260111T180000
DTSTAMP:20260423T195015
CREATED:20250220T010050Z
LAST-MODIFIED:20250220T010050Z
UID:10003357-1768149000-1768154400@laramieevents.com
SUMMARY:Laramie Connections Free Sunday Dinner
DESCRIPTION:From the organizers:\n4:30 pm Sundays @ First Baptist Church\nEveryone is welcome to come and enjoy a hot meal Sunday evenings along with great company.  While regular meal offerings are closed on the weekends we are happy to step in and offer a free meal gathering. \nOur meal is provided by the Laramie Soup Kitchen\, Laramie Interfaith and Eppson Center being closed on the weekends.
URL:https://laramieevents.com/event/laramie-connections-free-sunday-dinner/2026-01-11/
ATTACH;FMTTYPE=image/png:https://laramieevents.com/wp-content/uploads/sites/3/2025/02/family-dinner-3407701_1280.png
END:VEVENT
BEGIN:VEVENT
DTSTART;VALUE=DATE:20260113
DTEND;VALUE=DATE:20260114
DTSTAMP:20260423T195015
CREATED:20251230T161159Z
LAST-MODIFIED:20251230T161212Z
UID:10007766-1768262400-1768348799@laramieevents.com
SUMMARY:Open House/Project Discussion: Laramie Urban Renewal Agency
DESCRIPTION:From the city \nCome join us for an open house hosted by the Laramie Urban Renewal Agency on January 13th! Whether you’re a member of the public or live near the proposed project area\, anybody is welcome to attend! The purpose of the Open House is to explore establishing a plan and project for land on the West Side (see map below) to be developed. The Open House will be at the Lincoln Community Center on 365 W Grand Ave and will have two sessions available: session one from 11 AM – 1 PM and session two from 4 PM – 6 PM. These are drop-in sessions – no sign-up required. Come join us and share your thoughts with the Urban Renewal Agency!
URL:https://laramieevents.com/event/open-house-project-discussion-laramie-urban-renewal-agency/
ATTACH;FMTTYPE=image/jpeg:https://laramieevents.com/wp-content/uploads/sites/3/2025/12/607593714_1284286920395071_4255851386239348251_n.jpg
END:VEVENT
BEGIN:VEVENT
DTSTART;VALUE=DATE:20260117
DTEND;VALUE=DATE:20260118
DTSTAMP:20260423T195015
CREATED:20260108T003529Z
LAST-MODIFIED:20260108T003529Z
UID:10007774-1768608000-1768694399@laramieevents.com
SUMMARY:Bounce Cancer Walk & Cowgirls BBall Game
DESCRIPTION:From Ivinson Memorial Hospital: \nJoin us for the Bounce Cancer Walk at the Arena Auditorium next Saturday\, January 17\, benefitting the Meredith and Jeannie Ray Cancer Center!\nRegistration is $35 for adults or $30 for kids and includes:\n Admission to the pregame walk\n Lunch + Bounce Cancer Beanie\n Ticket to Cowgirls v Airforce game\nRegister at: gowyo.com/bouncecancer
URL:https://laramieevents.com/event/bounce-cancer-walk-cowgirls-bball-game/
ATTACH;FMTTYPE=image/jpeg:https://laramieevents.com/wp-content/uploads/sites/3/2026/01/608643398_1704249944296500_1687265293538256360_n.jpg
END:VEVENT
BEGIN:VEVENT
DTSTART;TZID=America/Denver:20260118T163000
DTEND;TZID=America/Denver:20260118T180000
DTSTAMP:20260423T195015
CREATED:20250220T010050Z
LAST-MODIFIED:20250220T010050Z
UID:10003358-1768753800-1768759200@laramieevents.com
SUMMARY:Laramie Connections Free Sunday Dinner
DESCRIPTION:From the organizers:\n4:30 pm Sundays @ First Baptist Church\nEveryone is welcome to come and enjoy a hot meal Sunday evenings along with great company.  While regular meal offerings are closed on the weekends we are happy to step in and offer a free meal gathering. \nOur meal is provided by the Laramie Soup Kitchen\, Laramie Interfaith and Eppson Center being closed on the weekends.
URL:https://laramieevents.com/event/laramie-connections-free-sunday-dinner/2026-01-18/
ATTACH;FMTTYPE=image/png:https://laramieevents.com/wp-content/uploads/sites/3/2025/02/family-dinner-3407701_1280.png
END:VEVENT
BEGIN:VEVENT
DTSTART;TZID=America/Denver:20260120T130000
DTEND;TZID=America/Denver:20260120T170000
DTSTAMP:20260423T195015
CREATED:20250423T234803Z
LAST-MODIFIED:20250423T234803Z
UID:10003618-1768914000-1768928400@laramieevents.com
SUMMARY:Basic Life Support Certification-CPR/Cardiovascular Care AND Recertification
DESCRIPTION:From the event organizer: \nThe American Heart Association’s BLS Course has been updat­ed to reflect new science in the 2015 AHA Guidelines Update for CPR and Emergency Car­dio­vas­cu­lar Care. This course builds a foundation of lifesaving BLS skills\, emphasizing the importance of continuous\, high-quality CPR.Sign up at ivinsonshopital.org/education \n  \nRegister for certification or re certification at this link \nUpcoming Recurrences For REGISTRATION\nTuesday\, May 20\, 2025 1:00pm – 5:00pm \nSaturday\, June 7\, 2025 1:00pm – 5:00pm \nTuesday\, June 17\, 2025 1:00pm – 5:00pm \nTuesday\, July 22\, 2025 1:00pm – 5:00pm \nTuesday\, August 19\, 2025 1:00pm – 5:00pm \nTuesday\, September 16\, 2025 1:00pm – 5:00pm \nTuesday\, October 21\, 2025 1:00pm – 5:00pm \n  \nSee recertification dates at this link
URL:https://laramieevents.com/event/basic-life-support-certification-cpr-cardiovascular-care-and-recertification/2026-01-20/
ATTACH;FMTTYPE=image/png:https://laramieevents.com/wp-content/uploads/sites/3/2025/04/download-5.png
END:VEVENT
BEGIN:VEVENT
DTSTART;TZID=America/Denver:20260120T190000
DTEND;TZID=America/Denver:20260120T210000
DTSTAMP:20260423T195015
CREATED:20260108T055947Z
LAST-MODIFIED:20260108T055947Z
UID:10007775-1768935600-1768942800@laramieevents.com
SUMMARY:History Of Pole Mountain Including Military Installations
DESCRIPTION:From the event organizers: \n\nOn Tuesday\, January 20th\, please join the Albany County Historical Society at 7:00pm at the Alice Hardie Stevens Center at 6th & University in Laramie. Dave Marcum will present a program about the History of Pole Mountain Including Military Installations. The Pole Mountain area of the Medicine Bow National Forest is located north of Interstate 80 between Laramie and Cheyenne in Albany County. While we currently know the area primarily for recreational use and the uniqueness of its terrain\, in the past the area was utilized by the military. Dave will present an overview of various military activities that occurred in the Pole Mountain area from 1900-1970. Free admission. Everyone is welcome! Refreshments will be served.
URL:https://laramieevents.com/event/history-of-pole-mountain-including-military-installations/
ATTACH;FMTTYPE=image/png:https://laramieevents.com/wp-content/uploads/sites/3/2026/01/Capture.png
END:VEVENT
BEGIN:VEVENT
DTSTART;TZID=America/Denver:20260125T163000
DTEND;TZID=America/Denver:20260125T180000
DTSTAMP:20260423T195015
CREATED:20250220T010050Z
LAST-MODIFIED:20250220T010050Z
UID:10003359-1769358600-1769364000@laramieevents.com
SUMMARY:Laramie Connections Free Sunday Dinner
DESCRIPTION:From the organizers:\n4:30 pm Sundays @ First Baptist Church\nEveryone is welcome to come and enjoy a hot meal Sunday evenings along with great company.  While regular meal offerings are closed on the weekends we are happy to step in and offer a free meal gathering. \nOur meal is provided by the Laramie Soup Kitchen\, Laramie Interfaith and Eppson Center being closed on the weekends.
URL:https://laramieevents.com/event/laramie-connections-free-sunday-dinner/2026-01-25/
ATTACH;FMTTYPE=image/png:https://laramieevents.com/wp-content/uploads/sites/3/2025/02/family-dinner-3407701_1280.png
END:VEVENT
BEGIN:VEVENT
DTSTART;TZID=America/Denver:20260130T200000
DTEND;TZID=America/Denver:20260130T230000
DTSTAMP:20260423T195015
CREATED:20260105T004835Z
LAST-MODIFIED:20260105T004835Z
UID:10007765-1769803200-1769814000@laramieevents.com
SUMMARY:The Fretliners with Box of Rocks
DESCRIPTION:The Fretliners are a genuine and powerful bluegrass quartet recognized for their songwriting and undeniable chemistry. Their newfound camaraderie produces an energy that is as infectious on stage as it is on record. So much so that in the summer of 2023\, they won both band competitions at Telluride Bluegrass and Rockygrass Festivals – a feat that had only been accomplished once before. That September\, they released their debut eponymous album to acclaim and adoration. \nThe show will be opened by the incredibly talented\, Laramie local\, Box of Rocks.
URL:https://laramieevents.com/event/the-fretliners-with-box-of-rocks/
LOCATION:Gryphon Theatre\, 710 E Garfield St Studio #333\, Laramie\, WY\, 82070\, United States
CATEGORIES:Live Music
ATTACH;FMTTYPE=image/jpeg:https://laramieevents.com/wp-content/uploads/sites/3/2025/12/FretlinersBoR4x5-1-scaled.jpg
END:VEVENT
END:VCALENDAR