BEGIN:VCALENDAR
VERSION:2.0
PRODID:-//Laramie Events - ECPv6.15.17.1//NONSGML v1.0//EN
CALSCALE:GREGORIAN
METHOD:PUBLISH
X-WR-CALNAME:Laramie Events
X-ORIGINAL-URL:https://laramieevents.com
X-WR-CALDESC:Events for Laramie Events
REFRESH-INTERVAL;VALUE=DURATION:PT1H
X-Robots-Tag:noindex
X-PUBLISHED-TTL:PT1H
BEGIN:VTIMEZONE
TZID:America/Denver
BEGIN:DAYLIGHT
TZOFFSETFROM:-0700
TZOFFSETTO:-0600
TZNAME:MDT
DTSTART:20230312T090000
END:DAYLIGHT
BEGIN:STANDARD
TZOFFSETFROM:-0600
TZOFFSETTO:-0700
TZNAME:MST
DTSTART:20231105T080000
END:STANDARD
BEGIN:DAYLIGHT
TZOFFSETFROM:-0700
TZOFFSETTO:-0600
TZNAME:MDT
DTSTART:20240310T090000
END:DAYLIGHT
BEGIN:STANDARD
TZOFFSETFROM:-0600
TZOFFSETTO:-0700
TZNAME:MST
DTSTART:20241103T080000
END:STANDARD
BEGIN:DAYLIGHT
TZOFFSETFROM:-0700
TZOFFSETTO:-0600
TZNAME:MDT
DTSTART:20250309T090000
END:DAYLIGHT
BEGIN:STANDARD
TZOFFSETFROM:-0600
TZOFFSETTO:-0700
TZNAME:MST
DTSTART:20251102T080000
END:STANDARD
BEGIN:DAYLIGHT
TZOFFSETFROM:-0700
TZOFFSETTO:-0600
TZNAME:MDT
DTSTART:20260308T090000
END:DAYLIGHT
BEGIN:STANDARD
TZOFFSETFROM:-0600
TZOFFSETTO:-0700
TZNAME:MST
DTSTART:20261101T080000
END:STANDARD
END:VTIMEZONE
BEGIN:VEVENT
DTSTART;TZID=America/Denver:20241231T173000
DTEND;TZID=America/Denver:20250101T010000
DTSTAMP:20260424T191543
CREATED:20241227T165322Z
LAST-MODIFIED:20241227T165322Z
UID:10003278-1735666200-1735693200@laramieevents.com
SUMMARY:
DESCRIPTION:The American Legion in Laramie will hold a 1920’s Casino Night on NYE from 530 to 1pm with poker games\, prizes and food. You’re encouraged to come in costume. Proceeds go to the LHS Rodeo team.
URL:https://laramieevents.com/event/6262/
ATTACH;FMTTYPE=image/jpeg:https://laramieevents.com/wp-content/uploads/sites/3/2024/12/471495016_9063492193710023_110002039129517360_n.jpg
END:VEVENT
BEGIN:VEVENT
DTSTART;TZID=America/Denver:20241231T210000
DTEND;TZID=America/Denver:20250101T020000
DTSTAMP:20260424T191543
CREATED:20241227T165059Z
LAST-MODIFIED:20241227T165059Z
UID:10003277-1735678800-1735696800@laramieevents.com
SUMMARY:New Years Eve Celebration At Front St. Tavern
DESCRIPTION:from the organizers: \nGet ready for a night of fun and memorable night of live music and good vibes as House of Cards takes the stage at Front Street Tavern in Laramie\, WY! We’ll keep the energy high with a mix of recognizable cover songs you know and love\, plus a few of our own to spice things up.\n Date: New Year’s Eve Location: Front Street Tavern\, Laramie\, WY Time: 9:00 PM – Midnight and beyond!\nJoin us as we ring in the new year with live music\, dancing\, and great company. Bring your friends and let’s make this a night to remember!\n No cover charge – Just bring your party spirit! \nSee less
URL:https://laramieevents.com/event/new-years-eve-celebration-at-front-st-tavern/
ATTACH;FMTTYPE=image/jpeg:https://laramieevents.com/wp-content/uploads/sites/3/2024/12/470222752_9030411986997018_9057479333525825786_n.jpg
END:VEVENT
BEGIN:VEVENT
DTSTART;TZID=America/Denver:20250104T080000
DTEND;TZID=America/Denver:20250105T140000
DTSTAMP:20260424T191543
CREATED:20241126T152814Z
LAST-MODIFIED:20241223T211010Z
UID:10003270-1735977600-1736085600@laramieevents.com
SUMMARY:Lake Hattie Ice Fishing Derby And The Trifishta
DESCRIPTION:Registration Tickets available at the West Laramie Fly Store. More details in the fliers below \n  \nThe Lions Clubs of Wyoming is happy to announce the first annual Trifishta! Enter all 3 derbies for a chance to win $600!\nDerby 1  Laramie Plains Ice Fishing DerbyDerby 2  Kemmerer Ice Fishing DerbyDerby 3  Pinedale Lions Big Fish Winter Derby\nPassports and signatures are required to verify chance to win. Pick up your passport with the Laramie Plains Lions Ice Fishing Derby.\nNeed a ticket to the Laramie Plains Ice Fishing Derby? Pick up your tickets at the West Laramie Fly Store in Laramie\, WY.
URL:https://laramieevents.com/event/lake-hattie-ice-fishing-derby/
ATTACH;FMTTYPE=image/jpeg:https://laramieevents.com/wp-content/uploads/sites/3/2024/11/468450207_995655835916284_1941498281936381386_n.jpg
END:VEVENT
BEGIN:VEVENT
DTSTART;TZID=America/Denver:20250121T190000
DTEND;TZID=America/Denver:20250121T203000
DTSTAMP:20260424T191543
CREATED:20250404T155103Z
LAST-MODIFIED:20250404T155103Z
UID:10003289-1737486000-1737491400@laramieevents.com
SUMMARY:Albany County Historical Society public program
DESCRIPTION:Barbara Bogart\, longtime oral historian\, will discuss the value of capturing memories as a way to enrich our understanding of the local past.
URL:https://laramieevents.com/event/albany-county-historical-society-public-program/
LOCATION:Alice Hardie Stevens Center\, 603 E Ivinson\, Laramie\, WY\, 82070\, United States
END:VEVENT
BEGIN:VEVENT
DTSTART;TZID=America/Denver:20250124T110000
DTEND;TZID=America/Denver:20250124T160000
DTSTAMP:20260424T191543
CREATED:20250108T045835Z
LAST-MODIFIED:20250108T045835Z
UID:10003282-1737716400-1737734400@laramieevents.com
SUMMARY:January TEFAP/Commodities Food Distribution
DESCRIPTION:Interfaith will be holding a TEFAP (commodities) distribution at our location at 712 Canby St.The Emergency Food Assistance Program is a federal program that provides food free of charge to families in the lowest income brackets. We cannot guarantee what food will be included in the TEFAP delivery.\nThe income guidelines for the distribution are as follows:Household of 1: $2\,322.00 monthly; $27\,861.00 annuallyHousehold of 2: $3\,151.00 monthly; $37\,814.00 annuallyHousehold of 3: $3\,981.00 monthly; $47\,767.00 annuallyHousehold of 4: $4\,810.00 monthly; $57\,720.00 annuallyHousehold of 5: $5\,639.00 monthly; $67\,673.00 annuallyHousehold of 6: $6\,469.00 monthly; $77\,626.00 annuallyHousehold of 7: $7\,298.00 monthly; $87\,579.00 annuallyHousehold of 8: $8\,128.00 monthly; $97\,532.00 annuallyHousehold of 9: $8\,957.00 monthly; $107\,485.00 annuallyHousehold of 10: $9\,787.00 monthly; $117\,438.00 annuallyEach additional member: + $1\,245.00; +$9\,953.00 annually
URL:https://laramieevents.com/event/january-tefap-commodities-food-distribution/
ATTACH;FMTTYPE=image/jpeg:https://laramieevents.com/wp-content/uploads/sites/3/2025/01/472514093_590128003655887_4112156480503909504_n-1.jpg
END:VEVENT
BEGIN:VEVENT
DTSTART;TZID=America/Denver:20250125T080000
DTEND;TZID=America/Denver:20250125T170000
DTSTAMP:20260424T191543
CREATED:20250404T155104Z
LAST-MODIFIED:20250404T155104Z
UID:10003284-1737792000-1737824400@laramieevents.com
SUMMARY:Hospice of Laramie Wine Gala
DESCRIPTION:Support Hospice of Laramie at a red-carpet evening of wine\, hors d’oeuvres\, a silent and live auction\, wine pull\, and other fun activities! \nWine Tasting (beer\, spirits and non-alcoholic bubby available\, too). Hors D’oeuvres catered by Nick’s Cowboy Catering. \nTicket Information: \nIf you purchase an In-Person Ticket\, get ready for an elegant evening of wine\, mead\, and other beverages. You will have the opportunity to participate in the exciting silent auction on-site. Non-alcoholic beverages\, as well as non-alcoholic wines will be available. Each ticket holder will receive a commemorative wine glass. Purchase tickets at: https://hospiceoflaramie.networkforgood.com/events/79338-hospice-of-laramie-wine-gala-2025 \nAttire: Wyoming Business or break out your best red-carpet look! \nUnable to attend in-person? Enjoy from home by purchasing an At-Home Ticket (must be purchased in advance) – You will stop by the Hospice House at 1754 Centennial Dr\, Laramie WY\, 82070 between 11:30am and 7:00pm on Friday 1/24/25 to pick up your goodies! If these times don’t work for you\, please call or text Maegan at (307) 399-6474 and we will make other arrangements! Your package includes a commemorative wine glass\, a grazing box from the Grazing Cowboy and wine. You’ll also have the option to participate in the silent auction online during the live event. \nVIP Tickets: You will receive early entry to the event (5:15 pm)\, a VIP swag bag\, and a special commemorative wine glass to show thanks for your committed support. VIP entry requires a commitment of $35 monthly donation for the coming year. \nWhat to expect at the Event: \nEvent Night Payments: Cashless payments are preferred for the silent auction and will also be accepted for the wine pull & other donations. Don’t forget your credit/debit card and smartphone so you don’t miss out on any of the fun! Cash/Check payments can be used for wine pull\, games\, and the cash bar. Talk to event volunteers if you need assistance or have questions about payments. \nSilent and Live Auction Bidding: Lots of great items and packages donated by local partner businesses and Laramie community members will be available through the silent auction starting at 6 p.m. All silent auction bidding will take place digitally through the app. Live auction will\, unfortunately\, not be available to our at-home ticket holders. Make sure to bring your phone to the event and get set up to bid on your favorite items! Need help or don’t have a smart phone? Event volunteers will be happy to assist! \nWine Pull: Don’t miss our exciting wine pull! For just $25 you will draw a number\, letting you take home a mystery bottle of wine at the end of the evening. There are some very fancy wines as well as some classics. These wines were all generously donated by local individuals and businesses! \nOther Activities: The night will also include fun and interactive games to raise money for Hospice of Laramie patients. You aren’t going to want to miss out! \nCash Bar (Donation-Based): In addition to the wine & mead\, a limited amount of other beer and spirits will be available at our cash bar. \nYour participation at the Gala not only gives you the opportunity to win fantastic auction items but also supports our vital mission of compassionate care for those preparing for and at the end of life. Thank you for being a part of our extended family\, and for supporting our mission of compassionate care. \nWe can’t wait to see you at the Gala!
URL:https://laramieevents.com/event/hospice-of-laramie-wine-gala-2/2025-01-25/1/
LOCATION:Alice Hardie Stevens Center\, 603 E Ivinson\, Laramie\, WY\, 82070\, United States
CATEGORIES:Fundraiser
ATTACH;FMTTYPE=image/png:https://laramieevents.com/wp-content/uploads/sites/3/2025/01/2025-WG-logo.png
END:VEVENT
BEGIN:VEVENT
DTSTART;TZID=America/Denver:20250125T180000
DTEND;TZID=America/Denver:20250125T210000
DTSTAMP:20260424T191543
CREATED:20250404T155104Z
LAST-MODIFIED:20250404T155104Z
UID:10003285-1737828000-1737838800@laramieevents.com
SUMMARY:Hospice of Laramie Wine Gala
DESCRIPTION:Support Hospice of Laramie at a red-carpet evening of wine\, hors d’oeuvres\, a silent and live auction\, wine pull\, and other fun activities! \nWine Tasting (beer\, spirits and non-alcoholic bubby available\, too). Hors D’oeuvres catered by Nick’s Cowboy Catering. \nTicket Information: \nIf you purchase an In-Person Ticket\, get ready for an elegant evening of wine\, mead\, and other beverages. You will have the opportunity to participate in the exciting silent auction on-site. Non-alcoholic beverages\, as well as non-alcoholic wines will be available. Each ticket holder will receive a commemorative wine glass. Purchase tickets at: https://hospiceoflaramie.networkforgood.com/events/79338-hospice-of-laramie-wine-gala-2025 \nAttire: Wyoming Business or break out your best red-carpet look! \nUnable to attend in-person? Enjoy from home by purchasing an At-Home Ticket (must be purchased in advance) – You will stop by the Hospice House at 1754 Centennial Dr\, Laramie WY\, 82070 between 11:30am and 7:00pm on Friday 1/24/25 to pick up your goodies! If these times don’t work for you\, please call or text Maegan at (307) 399-6474 and we will make other arrangements! Your package includes a commemorative wine glass\, a grazing box from the Grazing Cowboy and wine. You’ll also have the option to participate in the silent auction online during the live event. \nVIP Tickets: You will receive early entry to the event (5:15 pm)\, a VIP swag bag\, and a special commemorative wine glass to show thanks for your committed support. VIP entry requires a commitment of $35 monthly donation for the coming year. \nWhat to expect at the Event: \nEvent Night Payments: Cashless payments are preferred for the silent auction and will also be accepted for the wine pull & other donations. Don’t forget your credit/debit card and smartphone so you don’t miss out on any of the fun! Cash/Check payments can be used for wine pull\, games\, and the cash bar. Talk to event volunteers if you need assistance or have questions about payments. \nSilent and Live Auction Bidding: Lots of great items and packages donated by local partner businesses and Laramie community members will be available through the silent auction starting at 6 p.m. All silent auction bidding will take place digitally through the app. Live auction will\, unfortunately\, not be available to our at-home ticket holders. Make sure to bring your phone to the event and get set up to bid on your favorite items! Need help or don’t have a smart phone? Event volunteers will be happy to assist! \nWine Pull: Don’t miss our exciting wine pull! For just $25 you will draw a number\, letting you take home a mystery bottle of wine at the end of the evening. There are some very fancy wines as well as some classics. These wines were all generously donated by local individuals and businesses! \nOther Activities: The night will also include fun and interactive games to raise money for Hospice of Laramie patients. You aren’t going to want to miss out! \nCash Bar (Donation-Based): In addition to the wine & mead\, a limited amount of other beer and spirits will be available at our cash bar. \nYour participation at the Gala not only gives you the opportunity to win fantastic auction items but also supports our vital mission of compassionate care for those preparing for and at the end of life. Thank you for being a part of our extended family\, and for supporting our mission of compassionate care. \nWe can’t wait to see you at the Gala!
URL:https://laramieevents.com/event/hospice-of-laramie-wine-gala-2/2025-01-25/2/
LOCATION:Alice Hardie Stevens Center\, 603 E Ivinson\, Laramie\, WY\, 82070\, United States
CATEGORIES:Fundraiser
ATTACH;FMTTYPE=image/png:https://laramieevents.com/wp-content/uploads/sites/3/2025/01/2025-WG-logo.png
END:VEVENT
BEGIN:VEVENT
DTSTART;TZID=America/Denver:20250131T200000
DTEND;TZID=America/Denver:20250131T233000
DTSTAMP:20260424T191543
CREATED:20250404T155103Z
LAST-MODIFIED:20250404T155103Z
UID:10003287-1738353600-1738366200@laramieevents.com
SUMMARY:De Gringos Y Gremmies (Laramie)\, Black Dots (Denver)\, and Dead Key (Ft Collins)\, live at the Duck!
DESCRIPTION:De Gringos Y Gremmies (Laramie)\, Black Dots (Denver)\, and Dead Key (Ft Collins)\, live at the Ruffed Up Duck! 310 S 5th St\, Laramie\, WY 82070. $7 suggested donation for the bands.
URL:https://laramieevents.com/event/de-gringos-y-gremmies-laramie-black-dots-denver-and-dead-key-ft-collins-live-at-the-duck/
LOCATION:Ruffed Up Duck Saloon\, 310 S 5th St\, Laramie\, WY\, 82070\, United States
CATEGORIES:Live Music
ATTACH;FMTTYPE=image/jpeg:https://laramieevents.com/wp-content/uploads/sites/3/2025/01/473624320_1366946298056026_2331707416277189420_n.jpg
ORGANIZER;CN="De Gringos Y Gremmies":MAILTO:degringosygremmies@gmail.com
END:VEVENT
END:VCALENDAR