BEGIN:VCALENDAR
VERSION:2.0
PRODID:-//Laramie Events - ECPv6.15.17.1//NONSGML v1.0//EN
CALSCALE:GREGORIAN
METHOD:PUBLISH
X-WR-CALNAME:Laramie Events
X-ORIGINAL-URL:https://laramieevents.com
X-WR-CALDESC:Events for Laramie Events
REFRESH-INTERVAL;VALUE=DURATION:PT1H
X-Robots-Tag:noindex
X-PUBLISHED-TTL:PT1H
BEGIN:VTIMEZONE
TZID:America/Denver
BEGIN:DAYLIGHT
TZOFFSETFROM:-0700
TZOFFSETTO:-0600
TZNAME:MDT
DTSTART:20230312T090000
END:DAYLIGHT
BEGIN:STANDARD
TZOFFSETFROM:-0600
TZOFFSETTO:-0700
TZNAME:MST
DTSTART:20231105T080000
END:STANDARD
BEGIN:DAYLIGHT
TZOFFSETFROM:-0700
TZOFFSETTO:-0600
TZNAME:MDT
DTSTART:20240310T090000
END:DAYLIGHT
BEGIN:STANDARD
TZOFFSETFROM:-0600
TZOFFSETTO:-0700
TZNAME:MST
DTSTART:20241103T080000
END:STANDARD
BEGIN:DAYLIGHT
TZOFFSETFROM:-0700
TZOFFSETTO:-0600
TZNAME:MDT
DTSTART:20250309T090000
END:DAYLIGHT
BEGIN:STANDARD
TZOFFSETFROM:-0600
TZOFFSETTO:-0700
TZNAME:MST
DTSTART:20251102T080000
END:STANDARD
BEGIN:DAYLIGHT
TZOFFSETFROM:-0700
TZOFFSETTO:-0600
TZNAME:MDT
DTSTART:20260308T090000
END:DAYLIGHT
BEGIN:STANDARD
TZOFFSETFROM:-0600
TZOFFSETTO:-0700
TZNAME:MST
DTSTART:20261101T080000
END:STANDARD
END:VTIMEZONE
BEGIN:VEVENT
DTSTART;TZID=America/Denver:20241201T100000
DTEND;TZID=America/Denver:20241201T160000
DTSTAMP:20260424T210344
CREATED:20241121T025917Z
LAST-MODIFIED:20241121T025917Z
UID:10003263-1733047200-1733068800@laramieevents.com
SUMMARY:Holiday Artists Market
DESCRIPTION:From the organizers: \n\nWhere? North & South Gyms at the Laramie Plains Civic Center. Enter on Custer and Garfield Streets. Special thanks to our partners and sponsors\, which have allowed us to host (and expand!) this year’s market for its third year! Learn more with our profile link or by visiting lpccwy.org/artistmarket
URL:https://laramieevents.com/event/holiday-artists-market/
ATTACH;FMTTYPE=image/jpeg:https://laramieevents.com/wp-content/uploads/sites/3/2024/11/467828461_1101911088606561_1570682031089577419_n.jpg
END:VEVENT
BEGIN:VEVENT
DTSTART;TZID=America/Denver:20241204T160000
DTEND;TZID=America/Denver:20241204T180000
DTSTAMP:20260424T210344
CREATED:20241121T182940Z
LAST-MODIFIED:20241121T182940Z
UID:10003264-1733328000-1733335200@laramieevents.com
SUMMARY:Ornament Craft Night To Benefit Family Promise
DESCRIPTION:From Laramie Range Ford: \nJoin us on December 4th for our second annual ornament craft night!  Come get creative for a good cause. Your ornaments will decorate the tree in our showroom and we’ll donate $5 to Family Promise of Albany County for every ornament made! We’ll also have a hot cocoa bar for you to enjoy while you craft your masterpiece!
URL:https://laramieevents.com/event/ornament-craft-night-to-benefit-family-promise/
ATTACH;FMTTYPE=image/jpeg:https://laramieevents.com/wp-content/uploads/sites/3/2024/11/467862587_578922014888963_5348693475385646871_n-1.jpg
END:VEVENT
BEGIN:VEVENT
DTSTART;TZID=America/Denver:20241206T070000
DTEND;TZID=America/Denver:20241206T203000
DTSTAMP:20260424T210344
CREATED:20250404T155105Z
LAST-MODIFIED:20250404T155105Z
UID:10003255-1733468400-1733517000@laramieevents.com
SUMMARY:Christmas at The Gryphon 2024
DESCRIPTION:Christmas at The Gryphon is a non-traditional musical celebration of Christ. It is a free\, annual benefit concert\, inviting all of Laramie to join together in celebrating the season and raising funds in support of vulnerable populations within our community. You are cordially invited to join us at the Gryphon Theatre (710 E. Garfield St.)\, warm up with treats and cocoa\, and then sit back to enjoy the music and do some good for your Laramie friends and neighbors by generously donating to this year’s beneficiary\, ‘Albany Advisory Council on Trafficking’. \n  \n“We are a nonprofit\, community task force that combats human trafficking. From prevention to survivor care\, we address this evil through multiple services for survivors of human trafficking and our community. \n   \nOur mission is to maintain and coordinate a multidisciplinary\, community response to all human trafficking in Albany County WY. Using a collaborative approach\, utilizing community resources\, while simultaneously addressing each area of focus within the epidemic of human trafficking.”  \n– Albany Advisory Council on Trafficking \n  \nFind our more about Albany Advisory Council on Trafficking here: \nhttps://www.aactwy.org/ \n  \nDoors open at 6:30p.m. \nShow begins at 7:00p.m. \n  \nGive today:  \nhttps://www.aactwy.org/donate \nLivestream is also available here: \nhttps://www.youtube.com/live/kEfA8Iroe-8?si=nCiVPtLJdJ9s4SWA
URL:https://laramieevents.com/event/christmas-at-the-gryphon-2024/
CATEGORIES:Family,Fundraiser,Kid Friendly,Live Music
ATTACH;FMTTYPE=image/jpeg:https://laramieevents.com/wp-content/uploads/sites/3/2024/10/CATG-2024-Poster-Resize.jpg
ORGANIZER;CN="Whitewater Christian Church":MAILTO:info@whitewaterchristian.com
END:VEVENT
BEGIN:VEVENT
DTSTART;TZID=America/Denver:20241206T160000
DTEND;TZID=America/Denver:20241206T200000
DTSTAMP:20260424T210344
CREATED:20241029T023822Z
LAST-MODIFIED:20241029T023822Z
UID:10003252-1733500800-1733515200@laramieevents.com
SUMMARY:Thunderground Sound Studios Open House!
DESCRIPTION:Folks\, lots has changed here at Thunderground Sound Studios since we first opened our doors at our current location in 2007. So\, we are excited to invite you to our open house event. Come explore our cutting-edge studio\, enjoy great company\, and take advantage of an exclusive deal available only to attendees!\n\nWhat’s Happening• Guided tours of the studio\, new recording platform and tons of new recording gear• Cocktails and appetizers to enjoy while you mingle• Special offer: Save 50% on booking studio time when you attend!!\n\nThis is the perfect opportunity for musicians to discover the heart of Laramie’s sound scene. One of our goals here at Thunderground has always been to bring musicians together that might not have crossed paths otherwise. We still embrace that goal.\n\nRSVP by visiting Facebook at https://www.facebook.com/share/DEFa1fuqAPfiEnbc/\nDon’t miss out! Bring your friends along for a fun and informative evening.\n\nThe entrance is located in the alley between Coal Creek Coffee and D&L Music.
URL:https://laramieevents.com/event/thunderground-sound-studios-open-house/
LOCATION:Thunderground Sound Studios\, 114 East Grand Ave.\, (downstairs)\, Laramie\, WY\, 82070\, United States
CATEGORIES:Live Music
ATTACH;FMTTYPE=image/png:https://laramieevents.com/wp-content/uploads/sites/3/2024/10/tss-logo.png
ORGANIZER;CN="Thunderground Sound Studios":MAILTO:tinker@uwyo.edu
END:VEVENT
BEGIN:VEVENT
DTSTART;TZID=America/Denver:20241207T080000
DTEND;TZID=America/Denver:20241207T110000
DTSTAMP:20260424T210344
CREATED:20240215T193455Z
LAST-MODIFIED:20240215T193455Z
UID:10000848-1733558400-1733569200@laramieevents.com
SUMMARY:18th Annual Breakfast with Santa
DESCRIPTION:Enjoy breakfast\, cookie decorating\, and get a photo taken with Santa. \nProceeds from ticket sales benefit Laramie Interfaith.
URL:https://laramieevents.com/event/18th-annual-breakfast-with-santa/
LOCATION:Laramie Plains Civic Center\, 710 E Garfield\, Laramie\, WY\, 82070\, United States
CATEGORIES:Fundraiser,Kid Friendly
ATTACH;FMTTYPE=image/gif:https://laramieevents.com/wp-content/uploads/sites/3/2021/10/Breakfast-with-Santa.gif
END:VEVENT
BEGIN:VEVENT
DTSTART;TZID=America/Denver:20241207T080000
DTEND;TZID=America/Denver:20241207T170000
DTSTAMP:20260424T210344
CREATED:20230928T013442Z
LAST-MODIFIED:20230928T013442Z
UID:10000694-1733558400-1733590800@laramieevents.com
SUMMARY:UW Art Museum Art Buffet
DESCRIPTION:From The Museum: \nJoin us Saturday\, Oct 7 at 10AM at the University of Wyoming Art Museum for Art Buffet – free and open to all ages! For the October session we’ll be viewing and discussing images of the Red Desert in the exhibition The New West and creating a torn paper landscape in the studio. Adults are required to stay with their children for the duration of the program. Email UWArtEd@uwyo.edu with questions. See you in Nov and Dec\, too! (the flier has more details)
URL:https://laramieevents.com/event/uw-art-museum-art-buffet/2024-12-07/
ATTACH;FMTTYPE=image/jpeg:https://laramieevents.com/wp-content/uploads/sites/3/2023/09/383202665_10101414543580642_4805707184644237173_n.jpg
END:VEVENT
BEGIN:VEVENT
DTSTART;TZID=America/Denver:20241207T090000
DTEND;TZID=America/Denver:20241207T120000
DTSTAMP:20260424T210344
CREATED:20241122T035708Z
LAST-MODIFIED:20241122T035708Z
UID:10003269-1733562000-1733572800@laramieevents.com
SUMMARY:Christmas Cookie Bazaar
DESCRIPTION:From The United Presbyterian Church \nUPC’s Annual Christmas Cookie Sale and Bazaar will be held Saturday\, December 7 from 9 to noon. Come shop for a variety of holiday cookies for hosting\, as gifts\, or just as a sweet treat! If you’re a baker who would like to contribute cookies\, please be in touch with UPC at 742-2061. \n  \n 
URL:https://laramieevents.com/event/christmas-cookie-bazaar/
ATTACH;FMTTYPE=image/jpeg:https://laramieevents.com/wp-content/uploads/sites/3/2024/11/466494845_868723358789605_9018703422013501668_n-1.jpg
END:VEVENT
BEGIN:VEVENT
DTSTART;TZID=America/Denver:20241207T090000
DTEND;TZID=America/Denver:20241207T170000
DTSTAMP:20260424T210344
CREATED:20241122T032858Z
LAST-MODIFIED:20241122T032858Z
UID:10003268-1733562000-1733590800@laramieevents.com
SUMMARY:Snowy Mountain Christmas Bazaar
DESCRIPTION:From the event organizers: \nJoin us for our 7th Annual Snowy Mountain Christmas Bazaar at Black Fox on Welsh. December 7th from 9am-5pm.Local artists\, Santa\, and many more fun activities! Keep checking back for more updates.
URL:https://laramieevents.com/event/snowy-mountain-christmas-bazaar/
ATTACH;FMTTYPE=image/jpeg:https://laramieevents.com/wp-content/uploads/sites/3/2024/11/458302319_10161194448955589_6561639405710015649_n.jpg
END:VEVENT
BEGIN:VEVENT
DTSTART;TZID=America/Denver:20241207T123000
DTEND;TZID=America/Denver:20241207T143000
DTSTAMP:20260424T210344
CREATED:20250404T155104Z
LAST-MODIFIED:20250404T155104Z
UID:10003272-1733574600-1733581800@laramieevents.com
SUMMARY:Falcons on Ice
DESCRIPTION:Snowy Range Academy’s Student Counsel is hosting Falcons On Ice! This event is open to the public and fun for the whole family. \n$5/ person suggested donation includes: admission and skate rentals. \nPizza\, root beer\, and cake pops will be available for purchase. Students must be accompanied by and adult. \n 
URL:https://laramieevents.com/event/falcons-on-ice/
LOCATION:Laramie Ice & Events Center\, 3510 E Garfield\, Laramie\, WY\, 82070\, United States
CATEGORIES:Family,Fundraiser,Kid Friendly
ATTACH;FMTTYPE=image/png:https://laramieevents.com/wp-content/uploads/sites/3/2024/12/Capture.png
END:VEVENT
BEGIN:VEVENT
DTSTART;TZID=America/Denver:20241214T090000
DTEND;TZID=America/Denver:20241214T153000
DTSTAMP:20260424T210344
CREATED:20241001T023120Z
LAST-MODIFIED:20241001T023435Z
UID:10003230-1734166800-1734190200@laramieevents.com
SUMMARY:Christmas In Centennial
DESCRIPTION:From the organizers: \nReady for some holiday cheer? You are invited to a whole day of activities for the family as part of the 21st Annual Christmas in Centennial holiday celebration!\nSaturday\, December 14\, 20249am to 3:30pmCentennial\, Wyoming\n Shop the holiday market full of local vendors at the school 9-3:30pm Make a gift with Mrs. Claus at Santa’s Workshop at the library 9am-1pm Have breakfast with Santa at the Post Book sale at library 9am-5pm Christmas cards and letters postmark with “Elf Station” when mailed from the Centennial Post Office 3 restaurants and 1 gift shop Enjoy some holiday cheer on the mountainside
URL:https://laramieevents.com/event/christmas-in-centennial/
ATTACH;FMTTYPE=image/jpeg:https://laramieevents.com/wp-content/uploads/sites/3/2024/09/457273608_473999982185407_3675045005388346175_n.jpg
END:VEVENT
BEGIN:VEVENT
DTSTART;TZID=America/Denver:20241214T100000
DTEND;TZID=America/Denver:20241214T140000
DTSTAMP:20260424T210344
CREATED:20241121T015820Z
LAST-MODIFIED:20241121T015820Z
UID:10003262-1734170400-1734184800@laramieevents.com
SUMMARY:Gift Wrapping Fundraiser
DESCRIPTION:See the flier for more details \n 
URL:https://laramieevents.com/event/gift-wrapping-fundraiser/
ATTACH;FMTTYPE=image/jpeg:https://laramieevents.com/wp-content/uploads/sites/3/2024/11/467690991_545484934904746_4015583775003842821_n-1.jpg
END:VEVENT
BEGIN:VEVENT
DTSTART;TZID=America/Denver:20241214T140000
DTEND;TZID=America/Denver:20241214T160000
DTSTAMP:20260424T210344
CREATED:20241021T005155Z
LAST-MODIFIED:20241021T005155Z
UID:10003245-1734184800-1734192000@laramieevents.com
SUMMARY:Albany Co. Public Library Winter Fest
DESCRIPTION:From the organizers: \nCelebrate the holiday season at ACPL’s first annual Winter Fest. This is a free event for the whole family. Games\, crafts\, fun and a hot cocoa bar 2 to 4pm at the library on south 8th December 14th
URL:https://laramieevents.com/event/albany-co-public-library-winter-fest/
ATTACH;FMTTYPE=image/jpeg:https://laramieevents.com/wp-content/uploads/sites/3/2024/10/463875118_930964662399640_6280367356572944420_n.jpg
END:VEVENT
BEGIN:VEVENT
DTSTART;TZID=America/Denver:20241214T190000
DTEND;TZID=America/Denver:20241214T210000
DTSTAMP:20260424T210344
CREATED:20241021T144807Z
LAST-MODIFIED:20241021T144807Z
UID:10003246-1734202800-1734210000@laramieevents.com
SUMMARY:Dashing Through The Decades\, A Winter Show Production
DESCRIPTION:From the event organizers: \nJoin High Altitude Skating Club skaters as they skate through the Decades. Featuring music from the 1920s to the Present and popular Christmas songs.
URL:https://laramieevents.com/event/dashing-through-the-decades-a-winter-show-production/
ATTACH;FMTTYPE=image/jpeg:https://laramieevents.com/wp-content/uploads/sites/3/2024/10/461933974_495818243297998_1094752450672135300_n.jpg
END:VEVENT
BEGIN:VEVENT
DTSTART;TZID=America/Denver:20241218T170000
DTEND;TZID=America/Denver:20241218T190000
DTSTAMP:20260424T210344
CREATED:20250404T155105Z
LAST-MODIFIED:20250404T155105Z
UID:10003256-1734541200-1734548400@laramieevents.com
SUMMARY:Soup and Solstice
DESCRIPTION:Join us for warm bowls and full hearts on a cold winter night at Feeding Laramie Valley’s 3rd Annual Soup Cook-Off and fundraiser! Sample scrumptious soups and vote for Albany County’s Best Soup of Soups\, mix it up at the cocoa bar\, and shop fantastic finds from handcrafted artisanal bowls and mugs to local treasures in the silent auction! Free to attend and all proceeds benefit Feeding Laramie Valley’s food security programs. Eat well\, have fun\, and do good! \nWe invite chefs of all ages and experience levels to enter their soups in the cook-off! See the website for details!
URL:https://laramieevents.com/event/soup-and-solstice/
LOCATION:LaBonte Park\, 968 N. 9th St.\, Laramie\, WY\, 82072\, United States
CATEGORIES:Family,Food,Fundraiser,Kid Friendly
ATTACH;FMTTYPE=image/png:https://laramieevents.com/wp-content/uploads/sites/3/2024/11/Soup-and-Solstice-2024-Instagram-Post.png
END:VEVENT
BEGIN:VEVENT
DTSTART;TZID=America/Denver:20241225T110000
DTEND;TZID=America/Denver:20241225T130000
DTSTAMP:20260424T210344
CREATED:20241217T172953Z
LAST-MODIFIED:20241217T172953Z
UID:10003273-1735124400-1735131600@laramieevents.com
SUMMARY:Free Community Christmas Dinner
DESCRIPTION:The entire community is invited out to the Elks Lodge\, 103 S 2nd Christmas Day 11am to 1pm for a free Christmas Dinner \n  \n 
URL:https://laramieevents.com/event/free-community-christmas-dinner/
ATTACH;FMTTYPE=image/jpeg:https://laramieevents.com/wp-content/uploads/sites/3/2024/12/dinner-7585935_1280.jpg
END:VEVENT
BEGIN:VEVENT
DTSTART;TZID=America/Denver:20241231T173000
DTEND;TZID=America/Denver:20250101T010000
DTSTAMP:20260424T210344
CREATED:20241227T165322Z
LAST-MODIFIED:20241227T165322Z
UID:10003278-1735666200-1735693200@laramieevents.com
SUMMARY:
DESCRIPTION:The American Legion in Laramie will hold a 1920’s Casino Night on NYE from 530 to 1pm with poker games\, prizes and food. You’re encouraged to come in costume. Proceeds go to the LHS Rodeo team.
URL:https://laramieevents.com/event/6262/
ATTACH;FMTTYPE=image/jpeg:https://laramieevents.com/wp-content/uploads/sites/3/2024/12/471495016_9063492193710023_110002039129517360_n.jpg
END:VEVENT
BEGIN:VEVENT
DTSTART;TZID=America/Denver:20241231T210000
DTEND;TZID=America/Denver:20250101T020000
DTSTAMP:20260424T210344
CREATED:20241227T165059Z
LAST-MODIFIED:20241227T165059Z
UID:10003277-1735678800-1735696800@laramieevents.com
SUMMARY:New Years Eve Celebration At Front St. Tavern
DESCRIPTION:from the organizers: \nGet ready for a night of fun and memorable night of live music and good vibes as House of Cards takes the stage at Front Street Tavern in Laramie\, WY! We’ll keep the energy high with a mix of recognizable cover songs you know and love\, plus a few of our own to spice things up.\n Date: New Year’s Eve Location: Front Street Tavern\, Laramie\, WY Time: 9:00 PM – Midnight and beyond!\nJoin us as we ring in the new year with live music\, dancing\, and great company. Bring your friends and let’s make this a night to remember!\n No cover charge – Just bring your party spirit! \nSee less
URL:https://laramieevents.com/event/new-years-eve-celebration-at-front-st-tavern/
ATTACH;FMTTYPE=image/jpeg:https://laramieevents.com/wp-content/uploads/sites/3/2024/12/470222752_9030411986997018_9057479333525825786_n.jpg
END:VEVENT
END:VCALENDAR