BEGIN:VCALENDAR
VERSION:2.0
PRODID:-//Laramie Events - ECPv6.15.17.1//NONSGML v1.0//EN
CALSCALE:GREGORIAN
METHOD:PUBLISH
X-ORIGINAL-URL:https://laramieevents.com
X-WR-CALDESC:Events for Laramie Events
REFRESH-INTERVAL;VALUE=DURATION:PT1H
X-Robots-Tag:noindex
X-PUBLISHED-TTL:PT1H
BEGIN:VTIMEZONE
TZID:America/Denver
BEGIN:DAYLIGHT
TZOFFSETFROM:-0700
TZOFFSETTO:-0600
TZNAME:MDT
DTSTART:20270314T090000
END:DAYLIGHT
BEGIN:STANDARD
TZOFFSETFROM:-0600
TZOFFSETTO:-0700
TZNAME:MST
DTSTART:20271107T080000
END:STANDARD
BEGIN:DAYLIGHT
TZOFFSETFROM:-0700
TZOFFSETTO:-0600
TZNAME:MDT
DTSTART:20280312T090000
END:DAYLIGHT
BEGIN:STANDARD
TZOFFSETFROM:-0600
TZOFFSETTO:-0700
TZNAME:MST
DTSTART:20281105T080000
END:STANDARD
BEGIN:DAYLIGHT
TZOFFSETFROM:-0700
TZOFFSETTO:-0600
TZNAME:MDT
DTSTART:20290311T090000
END:DAYLIGHT
BEGIN:STANDARD
TZOFFSETFROM:-0600
TZOFFSETTO:-0700
TZNAME:MST
DTSTART:20291104T080000
END:STANDARD
END:VTIMEZONE
BEGIN:VEVENT
DTSTART;TZID=America/Denver:20280311T130000
DTEND;TZID=America/Denver:20280311T140000
DTSTAMP:20260425T223123
CREATED:20260212T203649Z
LAST-MODIFIED:20260212T203649Z
UID:10008567-1836392400-1836396000@laramieevents.com
SUMMARY:Kids Lego Time At Albany Co. Public Library in Laramie
DESCRIPTION:From the event organizer: \nCalling all Lego builders! We provide the Legos\, you provide the imagination. Program for children in grades K-6th. Every Saturday 1-2pm in the Laramie Library’s Wyoming Room
URL:https://laramieevents.com/event/kids-lego-time-at-albany-co-public-library-in-laramie/2028-03-11/
END:VEVENT
BEGIN:VEVENT
DTSTART;TZID=America/Denver:20280312T163000
DTEND;TZID=America/Denver:20280312T180000
DTSTAMP:20260425T223123
CREATED:20250220T010050Z
LAST-MODIFIED:20250220T010050Z
UID:10003470-1836491400-1836496800@laramieevents.com
SUMMARY:Laramie Connections Free Sunday Dinner
DESCRIPTION:From the organizers:\n4:30 pm Sundays @ First Baptist Church\nEveryone is welcome to come and enjoy a hot meal Sunday evenings along with great company.  While regular meal offerings are closed on the weekends we are happy to step in and offer a free meal gathering. \nOur meal is provided by the Laramie Soup Kitchen\, Laramie Interfaith and Eppson Center being closed on the weekends.
URL:https://laramieevents.com/event/laramie-connections-free-sunday-dinner/2028-03-12/
ATTACH;FMTTYPE=image/png:https://laramieevents.com/wp-content/uploads/sites/3/2025/02/family-dinner-3407701_1280.png
END:VEVENT
BEGIN:VEVENT
DTSTART;VALUE=DATE:20280313
DTEND;VALUE=DATE:20280314
DTSTAMP:20260425T223123
CREATED:20260212T143232Z
LAST-MODIFIED:20260212T143232Z
UID:10008092-1836518400-1836604799@laramieevents.com
SUMMARY:Weekly Yoga At The Centennial Public Library
DESCRIPTION:The Centennial Public Library will offer yoga twice a week with two different styles of yoga. Vinyasa flow 9 to 10am Mondays and Restorative/Yoga Nidra Thursdays 6 to 7pm. The classes will take place at the library and the suggested donation is $10 to $15 per class. See the flyer for more info on what each yoga class is.
URL:https://laramieevents.com/event/weekly-yoga-at-the-centennial-public-library/2028-03-13/
ATTACH;FMTTYPE=image/jpeg:https://laramieevents.com/wp-content/uploads/sites/3/2026/02/unnamed-2.jpg
END:VEVENT
BEGIN:VEVENT
DTSTART;TZID=America/Denver:20280313T180000
DTEND;TZID=America/Denver:20280313T200000
DTSTAMP:20260425T223123
CREATED:20260413T134457Z
LAST-MODIFIED:20260413T135407Z
UID:10010232-1836583200-1836590400@laramieevents.com
SUMMARY:Veterans Talking To Veterans
DESCRIPTION:Its a group for veterans by veterans to support mental health and help them in their post military career. They meet Mondays 6 to 8pm at the American Legion in Laramie. They work through trauma\, PTSD and more. All veterans are welcome.  Email dmhljh@gmail.com for more info.
URL:https://laramieevents.com/event/veterans-talking-to-veterans/2028-03-13/
ATTACH;FMTTYPE=image/png:https://laramieevents.com/wp-content/uploads/sites/3/2026/04/IMG_20260413_073321-1.png
END:VEVENT
BEGIN:VEVENT
DTSTART;VALUE=DATE:20280316
DTEND;VALUE=DATE:20280317
DTSTAMP:20260425T223123
CREATED:20260212T143232Z
LAST-MODIFIED:20260212T143232Z
UID:10008093-1836777600-1836863999@laramieevents.com
SUMMARY:Weekly Yoga At The Centennial Public Library
DESCRIPTION:The Centennial Public Library will offer yoga twice a week with two different styles of yoga. Vinyasa flow 9 to 10am Mondays and Restorative/Yoga Nidra Thursdays 6 to 7pm. The classes will take place at the library and the suggested donation is $10 to $15 per class. See the flyer for more info on what each yoga class is.
URL:https://laramieevents.com/event/weekly-yoga-at-the-centennial-public-library/2028-03-16/
ATTACH;FMTTYPE=image/jpeg:https://laramieevents.com/wp-content/uploads/sites/3/2026/02/unnamed-2.jpg
END:VEVENT
BEGIN:VEVENT
DTSTART;TZID=America/Denver:20280318T130000
DTEND;TZID=America/Denver:20280318T140000
DTSTAMP:20260425T223123
CREATED:20260212T203649Z
LAST-MODIFIED:20260212T203649Z
UID:10008568-1836997200-1837000800@laramieevents.com
SUMMARY:Kids Lego Time At Albany Co. Public Library in Laramie
DESCRIPTION:From the event organizer: \nCalling all Lego builders! We provide the Legos\, you provide the imagination. Program for children in grades K-6th. Every Saturday 1-2pm in the Laramie Library’s Wyoming Room
URL:https://laramieevents.com/event/kids-lego-time-at-albany-co-public-library-in-laramie/2028-03-18/
END:VEVENT
BEGIN:VEVENT
DTSTART;TZID=America/Denver:20280319T133000
DTEND;TZID=America/Denver:20280319T143000
DTSTAMP:20260425T223123
CREATED:20260418T055915Z
LAST-MODIFIED:20260418T055915Z
UID:10010445-1837085400-1837089000@laramieevents.com
SUMMARY:Walk With A Doc!
DESCRIPTION:Walk with a Doc is a national organization focused on encouraging healthy physical activity while reversing the consequences of a sedentary lifestyle.  It is coordinated locally in Laramie by Ivinson Memorial Hospital \n\n\n\n\nwhat to expect\nAt each meet-up simply come in and we’ll get you signed-in. Next we’ll hear from a local healthcare provider about a health-related topic\, and then it’s on to walking! (Don’t worry — we’ll do some quick stretches first!) \n\n\n\n\ntime + location\n\n1st and 3rd Sunday of each month\n1:30 PM — 2:30 PM\nUniversity of Wyoming Field House (October-April) + Washington Park (May-September)\nFree to everyone
URL:https://laramieevents.com/event/walk-with-a-doc-2/2028-03-19/
ATTACH;FMTTYPE=image/jpeg:https://laramieevents.com/wp-content/uploads/sites/3/2026/04/44_2017_shutterstock_436609324_dcf7d7dc6df8adc8071fe96b7a378182.jpg
END:VEVENT
BEGIN:VEVENT
DTSTART;TZID=America/Denver:20280319T163000
DTEND;TZID=America/Denver:20280319T180000
DTSTAMP:20260425T223123
CREATED:20250220T010050Z
LAST-MODIFIED:20250220T010050Z
UID:10003471-1837096200-1837101600@laramieevents.com
SUMMARY:Laramie Connections Free Sunday Dinner
DESCRIPTION:From the organizers:\n4:30 pm Sundays @ First Baptist Church\nEveryone is welcome to come and enjoy a hot meal Sunday evenings along with great company.  While regular meal offerings are closed on the weekends we are happy to step in and offer a free meal gathering. \nOur meal is provided by the Laramie Soup Kitchen\, Laramie Interfaith and Eppson Center being closed on the weekends.
URL:https://laramieevents.com/event/laramie-connections-free-sunday-dinner/2028-03-19/
ATTACH;FMTTYPE=image/png:https://laramieevents.com/wp-content/uploads/sites/3/2025/02/family-dinner-3407701_1280.png
END:VEVENT
BEGIN:VEVENT
DTSTART;VALUE=DATE:20280320
DTEND;VALUE=DATE:20280321
DTSTAMP:20260425T223123
CREATED:20260212T143232Z
LAST-MODIFIED:20260212T143232Z
UID:10008094-1837123200-1837209599@laramieevents.com
SUMMARY:Weekly Yoga At The Centennial Public Library
DESCRIPTION:The Centennial Public Library will offer yoga twice a week with two different styles of yoga. Vinyasa flow 9 to 10am Mondays and Restorative/Yoga Nidra Thursdays 6 to 7pm. The classes will take place at the library and the suggested donation is $10 to $15 per class. See the flyer for more info on what each yoga class is.
URL:https://laramieevents.com/event/weekly-yoga-at-the-centennial-public-library/2028-03-20/
ATTACH;FMTTYPE=image/jpeg:https://laramieevents.com/wp-content/uploads/sites/3/2026/02/unnamed-2.jpg
END:VEVENT
BEGIN:VEVENT
DTSTART;TZID=America/Denver:20280320T180000
DTEND;TZID=America/Denver:20280320T200000
DTSTAMP:20260425T223123
CREATED:20260413T134457Z
LAST-MODIFIED:20260413T135407Z
UID:10010233-1837188000-1837195200@laramieevents.com
SUMMARY:Veterans Talking To Veterans
DESCRIPTION:Its a group for veterans by veterans to support mental health and help them in their post military career. They meet Mondays 6 to 8pm at the American Legion in Laramie. They work through trauma\, PTSD and more. All veterans are welcome.  Email dmhljh@gmail.com for more info.
URL:https://laramieevents.com/event/veterans-talking-to-veterans/2028-03-20/
ATTACH;FMTTYPE=image/png:https://laramieevents.com/wp-content/uploads/sites/3/2026/04/IMG_20260413_073321-1.png
END:VEVENT
BEGIN:VEVENT
DTSTART;TZID=America/Denver:20280321T130000
DTEND;TZID=America/Denver:20280321T170000
DTSTAMP:20260425T223123
CREATED:20250423T234803Z
LAST-MODIFIED:20250423T234803Z
UID:10003644-1837256400-1837270800@laramieevents.com
SUMMARY:Basic Life Support Certification-CPR/Cardiovascular Care AND Recertification
DESCRIPTION:From the event organizer: \nThe American Heart Association’s BLS Course has been updat­ed to reflect new science in the 2015 AHA Guidelines Update for CPR and Emergency Car­dio­vas­cu­lar Care. This course builds a foundation of lifesaving BLS skills\, emphasizing the importance of continuous\, high-quality CPR.Sign up at ivinsonshopital.org/education \n  \nRegister for certification or re certification at this link \nUpcoming Recurrences For REGISTRATION\nTuesday\, May 20\, 2025 1:00pm – 5:00pm \nSaturday\, June 7\, 2025 1:00pm – 5:00pm \nTuesday\, June 17\, 2025 1:00pm – 5:00pm \nTuesday\, July 22\, 2025 1:00pm – 5:00pm \nTuesday\, August 19\, 2025 1:00pm – 5:00pm \nTuesday\, September 16\, 2025 1:00pm – 5:00pm \nTuesday\, October 21\, 2025 1:00pm – 5:00pm \n  \nSee recertification dates at this link
URL:https://laramieevents.com/event/basic-life-support-certification-cpr-cardiovascular-care-and-recertification/2028-03-21/
ATTACH;FMTTYPE=image/png:https://laramieevents.com/wp-content/uploads/sites/3/2025/04/download-5.png
END:VEVENT
BEGIN:VEVENT
DTSTART;VALUE=DATE:20280323
DTEND;VALUE=DATE:20280324
DTSTAMP:20260425T223123
CREATED:20260212T143232Z
LAST-MODIFIED:20260212T143232Z
UID:10008095-1837382400-1837468799@laramieevents.com
SUMMARY:Weekly Yoga At The Centennial Public Library
DESCRIPTION:The Centennial Public Library will offer yoga twice a week with two different styles of yoga. Vinyasa flow 9 to 10am Mondays and Restorative/Yoga Nidra Thursdays 6 to 7pm. The classes will take place at the library and the suggested donation is $10 to $15 per class. See the flyer for more info on what each yoga class is.
URL:https://laramieevents.com/event/weekly-yoga-at-the-centennial-public-library/2028-03-23/
ATTACH;FMTTYPE=image/jpeg:https://laramieevents.com/wp-content/uploads/sites/3/2026/02/unnamed-2.jpg
END:VEVENT
BEGIN:VEVENT
DTSTART;TZID=America/Denver:20280325T130000
DTEND;TZID=America/Denver:20280325T140000
DTSTAMP:20260425T223123
CREATED:20260212T203649Z
LAST-MODIFIED:20260212T203649Z
UID:10008569-1837602000-1837605600@laramieevents.com
SUMMARY:Kids Lego Time At Albany Co. Public Library in Laramie
DESCRIPTION:From the event organizer: \nCalling all Lego builders! We provide the Legos\, you provide the imagination. Program for children in grades K-6th. Every Saturday 1-2pm in the Laramie Library’s Wyoming Room
URL:https://laramieevents.com/event/kids-lego-time-at-albany-co-public-library-in-laramie/2028-03-25/
END:VEVENT
BEGIN:VEVENT
DTSTART;TZID=America/Denver:20280326T163000
DTEND;TZID=America/Denver:20280326T180000
DTSTAMP:20260425T223123
CREATED:20250220T010050Z
LAST-MODIFIED:20250220T010050Z
UID:10003472-1837701000-1837706400@laramieevents.com
SUMMARY:Laramie Connections Free Sunday Dinner
DESCRIPTION:From the organizers:\n4:30 pm Sundays @ First Baptist Church\nEveryone is welcome to come and enjoy a hot meal Sunday evenings along with great company.  While regular meal offerings are closed on the weekends we are happy to step in and offer a free meal gathering. \nOur meal is provided by the Laramie Soup Kitchen\, Laramie Interfaith and Eppson Center being closed on the weekends.
URL:https://laramieevents.com/event/laramie-connections-free-sunday-dinner/2028-03-26/
ATTACH;FMTTYPE=image/png:https://laramieevents.com/wp-content/uploads/sites/3/2025/02/family-dinner-3407701_1280.png
END:VEVENT
BEGIN:VEVENT
DTSTART;VALUE=DATE:20280327
DTEND;VALUE=DATE:20280328
DTSTAMP:20260425T223123
CREATED:20260212T143232Z
LAST-MODIFIED:20260212T143232Z
UID:10008096-1837728000-1837814399@laramieevents.com
SUMMARY:Weekly Yoga At The Centennial Public Library
DESCRIPTION:The Centennial Public Library will offer yoga twice a week with two different styles of yoga. Vinyasa flow 9 to 10am Mondays and Restorative/Yoga Nidra Thursdays 6 to 7pm. The classes will take place at the library and the suggested donation is $10 to $15 per class. See the flyer for more info on what each yoga class is.
URL:https://laramieevents.com/event/weekly-yoga-at-the-centennial-public-library/2028-03-27/
ATTACH;FMTTYPE=image/jpeg:https://laramieevents.com/wp-content/uploads/sites/3/2026/02/unnamed-2.jpg
END:VEVENT
BEGIN:VEVENT
DTSTART;TZID=America/Denver:20280327T180000
DTEND;TZID=America/Denver:20280327T200000
DTSTAMP:20260425T223123
CREATED:20260413T134457Z
LAST-MODIFIED:20260413T135407Z
UID:10010234-1837792800-1837800000@laramieevents.com
SUMMARY:Veterans Talking To Veterans
DESCRIPTION:Its a group for veterans by veterans to support mental health and help them in their post military career. They meet Mondays 6 to 8pm at the American Legion in Laramie. They work through trauma\, PTSD and more. All veterans are welcome.  Email dmhljh@gmail.com for more info.
URL:https://laramieevents.com/event/veterans-talking-to-veterans/2028-03-27/
ATTACH;FMTTYPE=image/png:https://laramieevents.com/wp-content/uploads/sites/3/2026/04/IMG_20260413_073321-1.png
END:VEVENT
BEGIN:VEVENT
DTSTART;VALUE=DATE:20280330
DTEND;VALUE=DATE:20280331
DTSTAMP:20260425T223123
CREATED:20260212T143232Z
LAST-MODIFIED:20260212T143232Z
UID:10008097-1837987200-1838073599@laramieevents.com
SUMMARY:Weekly Yoga At The Centennial Public Library
DESCRIPTION:The Centennial Public Library will offer yoga twice a week with two different styles of yoga. Vinyasa flow 9 to 10am Mondays and Restorative/Yoga Nidra Thursdays 6 to 7pm. The classes will take place at the library and the suggested donation is $10 to $15 per class. See the flyer for more info on what each yoga class is.
URL:https://laramieevents.com/event/weekly-yoga-at-the-centennial-public-library/2028-03-30/
ATTACH;FMTTYPE=image/jpeg:https://laramieevents.com/wp-content/uploads/sites/3/2026/02/unnamed-2.jpg
END:VEVENT
BEGIN:VEVENT
DTSTART;TZID=America/Denver:20280401T080000
DTEND;TZID=America/Denver:20280401T100000
DTSTAMP:20260425T223123
CREATED:20260212T144025Z
LAST-MODIFIED:20260212T144025Z
UID:10008423-1838188800-1838196000@laramieevents.com
SUMMARY:Centennial Mens Breakfast
DESCRIPTION:The first Saturday of every month— Men’s Breakfast\nOld Corral @ 8 AM.\nAll valley men welcome
URL:https://laramieevents.com/event/centennial-mens-breakfast/2028-04-01/
ATTACH;FMTTYPE=image/jpeg:https://laramieevents.com/wp-content/uploads/sites/3/2026/02/jhenning-breakfast-8200753_1280.jpg
END:VEVENT
BEGIN:VEVENT
DTSTART;TZID=America/Denver:20280401T130000
DTEND;TZID=America/Denver:20280401T140000
DTSTAMP:20260425T223123
CREATED:20260212T203649Z
LAST-MODIFIED:20260212T203649Z
UID:10008570-1838206800-1838210400@laramieevents.com
SUMMARY:Kids Lego Time At Albany Co. Public Library in Laramie
DESCRIPTION:From the event organizer: \nCalling all Lego builders! We provide the Legos\, you provide the imagination. Program for children in grades K-6th. Every Saturday 1-2pm in the Laramie Library’s Wyoming Room
URL:https://laramieevents.com/event/kids-lego-time-at-albany-co-public-library-in-laramie/2028-04-01/
END:VEVENT
BEGIN:VEVENT
DTSTART;TZID=America/Denver:20280402T133000
DTEND;TZID=America/Denver:20280402T143000
DTSTAMP:20260425T223123
CREATED:20260418T055915Z
LAST-MODIFIED:20260418T055915Z
UID:10010446-1838295000-1838298600@laramieevents.com
SUMMARY:Walk With A Doc!
DESCRIPTION:Walk with a Doc is a national organization focused on encouraging healthy physical activity while reversing the consequences of a sedentary lifestyle.  It is coordinated locally in Laramie by Ivinson Memorial Hospital \n\n\n\n\nwhat to expect\nAt each meet-up simply come in and we’ll get you signed-in. Next we’ll hear from a local healthcare provider about a health-related topic\, and then it’s on to walking! (Don’t worry — we’ll do some quick stretches first!) \n\n\n\n\ntime + location\n\n1st and 3rd Sunday of each month\n1:30 PM — 2:30 PM\nUniversity of Wyoming Field House (October-April) + Washington Park (May-September)\nFree to everyone
URL:https://laramieevents.com/event/walk-with-a-doc-2/2028-04-02/
ATTACH;FMTTYPE=image/jpeg:https://laramieevents.com/wp-content/uploads/sites/3/2026/04/44_2017_shutterstock_436609324_dcf7d7dc6df8adc8071fe96b7a378182.jpg
END:VEVENT
BEGIN:VEVENT
DTSTART;TZID=America/Denver:20280402T163000
DTEND;TZID=America/Denver:20280402T180000
DTSTAMP:20260425T223123
CREATED:20250220T010050Z
LAST-MODIFIED:20250220T010050Z
UID:10003473-1838305800-1838311200@laramieevents.com
SUMMARY:Laramie Connections Free Sunday Dinner
DESCRIPTION:From the organizers:\n4:30 pm Sundays @ First Baptist Church\nEveryone is welcome to come and enjoy a hot meal Sunday evenings along with great company.  While regular meal offerings are closed on the weekends we are happy to step in and offer a free meal gathering. \nOur meal is provided by the Laramie Soup Kitchen\, Laramie Interfaith and Eppson Center being closed on the weekends.
URL:https://laramieevents.com/event/laramie-connections-free-sunday-dinner/2028-04-02/
ATTACH;FMTTYPE=image/png:https://laramieevents.com/wp-content/uploads/sites/3/2025/02/family-dinner-3407701_1280.png
END:VEVENT
BEGIN:VEVENT
DTSTART;VALUE=DATE:20280403
DTEND;VALUE=DATE:20280404
DTSTAMP:20260425T223123
CREATED:20260212T143232Z
LAST-MODIFIED:20260212T143232Z
UID:10008098-1838332800-1838419199@laramieevents.com
SUMMARY:Weekly Yoga At The Centennial Public Library
DESCRIPTION:The Centennial Public Library will offer yoga twice a week with two different styles of yoga. Vinyasa flow 9 to 10am Mondays and Restorative/Yoga Nidra Thursdays 6 to 7pm. The classes will take place at the library and the suggested donation is $10 to $15 per class. See the flyer for more info on what each yoga class is.
URL:https://laramieevents.com/event/weekly-yoga-at-the-centennial-public-library/2028-04-03/
ATTACH;FMTTYPE=image/jpeg:https://laramieevents.com/wp-content/uploads/sites/3/2026/02/unnamed-2.jpg
END:VEVENT
BEGIN:VEVENT
DTSTART;TZID=America/Denver:20280403T180000
DTEND;TZID=America/Denver:20280403T200000
DTSTAMP:20260425T223123
CREATED:20260413T134457Z
LAST-MODIFIED:20260413T135407Z
UID:10010235-1838397600-1838404800@laramieevents.com
SUMMARY:Veterans Talking To Veterans
DESCRIPTION:Its a group for veterans by veterans to support mental health and help them in their post military career. They meet Mondays 6 to 8pm at the American Legion in Laramie. They work through trauma\, PTSD and more. All veterans are welcome.  Email dmhljh@gmail.com for more info.
URL:https://laramieevents.com/event/veterans-talking-to-veterans/2028-04-03/
ATTACH;FMTTYPE=image/png:https://laramieevents.com/wp-content/uploads/sites/3/2026/04/IMG_20260413_073321-1.png
END:VEVENT
BEGIN:VEVENT
DTSTART;TZID=America/Denver:20280405T170000
DTEND;TZID=America/Denver:20280405T183000
DTSTAMP:20260425T223123
CREATED:20260211T193640Z
LAST-MODIFIED:20260211T193640Z
UID:10007839-1838566800-1838572200@laramieevents.com
SUMMARY:Cancer Crusaders Club
DESCRIPTION:From Ivinson Memorial Hospital \nWe are tackling cancer together. Anyone whose life has been touched by cancer is invited. We meet the first Wednesday of every month at 5:15 PM. You can join us virtually via Zoom or in person at the Cancer Center Education Room. For directions or Zoom link\, please contact Cindy Garnich: (307) 755-4464
URL:https://laramieevents.com/event/cancer-crusaders-club/2028-04-05/
ATTACH;FMTTYPE=image/png:https://laramieevents.com/wp-content/uploads/sites/3/2026/02/htchnm-awareness-5730258_1280.png
END:VEVENT
BEGIN:VEVENT
DTSTART;VALUE=DATE:20280406
DTEND;VALUE=DATE:20280407
DTSTAMP:20260425T223123
CREATED:20260212T143232Z
LAST-MODIFIED:20260212T143232Z
UID:10008099-1838592000-1838678399@laramieevents.com
SUMMARY:Weekly Yoga At The Centennial Public Library
DESCRIPTION:The Centennial Public Library will offer yoga twice a week with two different styles of yoga. Vinyasa flow 9 to 10am Mondays and Restorative/Yoga Nidra Thursdays 6 to 7pm. The classes will take place at the library and the suggested donation is $10 to $15 per class. See the flyer for more info on what each yoga class is.
URL:https://laramieevents.com/event/weekly-yoga-at-the-centennial-public-library/2028-04-06/
ATTACH;FMTTYPE=image/jpeg:https://laramieevents.com/wp-content/uploads/sites/3/2026/02/unnamed-2.jpg
END:VEVENT
BEGIN:VEVENT
DTSTART;TZID=America/Denver:20280408T130000
DTEND;TZID=America/Denver:20280408T140000
DTSTAMP:20260425T223123
CREATED:20260212T203649Z
LAST-MODIFIED:20260212T203649Z
UID:10008571-1838811600-1838815200@laramieevents.com
SUMMARY:Kids Lego Time At Albany Co. Public Library in Laramie
DESCRIPTION:From the event organizer: \nCalling all Lego builders! We provide the Legos\, you provide the imagination. Program for children in grades K-6th. Every Saturday 1-2pm in the Laramie Library’s Wyoming Room
URL:https://laramieevents.com/event/kids-lego-time-at-albany-co-public-library-in-laramie/2028-04-08/
END:VEVENT
BEGIN:VEVENT
DTSTART;TZID=America/Denver:20280409T163000
DTEND;TZID=America/Denver:20280409T180000
DTSTAMP:20260425T223123
CREATED:20250220T010050Z
LAST-MODIFIED:20250220T010050Z
UID:10003474-1838910600-1838916000@laramieevents.com
SUMMARY:Laramie Connections Free Sunday Dinner
DESCRIPTION:From the organizers:\n4:30 pm Sundays @ First Baptist Church\nEveryone is welcome to come and enjoy a hot meal Sunday evenings along with great company.  While regular meal offerings are closed on the weekends we are happy to step in and offer a free meal gathering. \nOur meal is provided by the Laramie Soup Kitchen\, Laramie Interfaith and Eppson Center being closed on the weekends.
URL:https://laramieevents.com/event/laramie-connections-free-sunday-dinner/2028-04-09/
ATTACH;FMTTYPE=image/png:https://laramieevents.com/wp-content/uploads/sites/3/2025/02/family-dinner-3407701_1280.png
END:VEVENT
BEGIN:VEVENT
DTSTART;VALUE=DATE:20280410
DTEND;VALUE=DATE:20280411
DTSTAMP:20260425T223124
CREATED:20260212T143232Z
LAST-MODIFIED:20260212T143232Z
UID:10008100-1838937600-1839023999@laramieevents.com
SUMMARY:Weekly Yoga At The Centennial Public Library
DESCRIPTION:The Centennial Public Library will offer yoga twice a week with two different styles of yoga. Vinyasa flow 9 to 10am Mondays and Restorative/Yoga Nidra Thursdays 6 to 7pm. The classes will take place at the library and the suggested donation is $10 to $15 per class. See the flyer for more info on what each yoga class is.
URL:https://laramieevents.com/event/weekly-yoga-at-the-centennial-public-library/2028-04-10/
ATTACH;FMTTYPE=image/jpeg:https://laramieevents.com/wp-content/uploads/sites/3/2026/02/unnamed-2.jpg
END:VEVENT
BEGIN:VEVENT
DTSTART;TZID=America/Denver:20280410T180000
DTEND;TZID=America/Denver:20280410T200000
DTSTAMP:20260425T223124
CREATED:20260413T134457Z
LAST-MODIFIED:20260413T135407Z
UID:10010236-1839002400-1839009600@laramieevents.com
SUMMARY:Veterans Talking To Veterans
DESCRIPTION:Its a group for veterans by veterans to support mental health and help them in their post military career. They meet Mondays 6 to 8pm at the American Legion in Laramie. They work through trauma\, PTSD and more. All veterans are welcome.  Email dmhljh@gmail.com for more info.
URL:https://laramieevents.com/event/veterans-talking-to-veterans/2028-04-10/
ATTACH;FMTTYPE=image/png:https://laramieevents.com/wp-content/uploads/sites/3/2026/04/IMG_20260413_073321-1.png
END:VEVENT
BEGIN:VEVENT
DTSTART;VALUE=DATE:20280413
DTEND;VALUE=DATE:20280414
DTSTAMP:20260425T223124
CREATED:20260212T143232Z
LAST-MODIFIED:20260212T143232Z
UID:10008101-1839196800-1839283199@laramieevents.com
SUMMARY:Weekly Yoga At The Centennial Public Library
DESCRIPTION:The Centennial Public Library will offer yoga twice a week with two different styles of yoga. Vinyasa flow 9 to 10am Mondays and Restorative/Yoga Nidra Thursdays 6 to 7pm. The classes will take place at the library and the suggested donation is $10 to $15 per class. See the flyer for more info on what each yoga class is.
URL:https://laramieevents.com/event/weekly-yoga-at-the-centennial-public-library/2028-04-13/
ATTACH;FMTTYPE=image/jpeg:https://laramieevents.com/wp-content/uploads/sites/3/2026/02/unnamed-2.jpg
END:VEVENT
END:VCALENDAR