BEGIN:VCALENDAR
VERSION:2.0
PRODID:-//Laramie Events - ECPv6.15.17.1//NONSGML v1.0//EN
CALSCALE:GREGORIAN
METHOD:PUBLISH
X-WR-CALNAME:Laramie Events
X-ORIGINAL-URL:https://laramieevents.com
X-WR-CALDESC:Events for Laramie Events
REFRESH-INTERVAL;VALUE=DURATION:PT1H
X-Robots-Tag:noindex
X-PUBLISHED-TTL:PT1H
BEGIN:VTIMEZONE
TZID:America/Denver
BEGIN:DAYLIGHT
TZOFFSETFROM:-0700
TZOFFSETTO:-0600
TZNAME:MDT
DTSTART:20250309T090000
END:DAYLIGHT
BEGIN:STANDARD
TZOFFSETFROM:-0600
TZOFFSETTO:-0700
TZNAME:MST
DTSTART:20251102T080000
END:STANDARD
BEGIN:DAYLIGHT
TZOFFSETFROM:-0700
TZOFFSETTO:-0600
TZNAME:MDT
DTSTART:20260308T090000
END:DAYLIGHT
BEGIN:STANDARD
TZOFFSETFROM:-0600
TZOFFSETTO:-0700
TZNAME:MST
DTSTART:20261101T080000
END:STANDARD
BEGIN:DAYLIGHT
TZOFFSETFROM:-0700
TZOFFSETTO:-0600
TZNAME:MDT
DTSTART:20270314T090000
END:DAYLIGHT
BEGIN:STANDARD
TZOFFSETFROM:-0600
TZOFFSETTO:-0700
TZNAME:MST
DTSTART:20271107T080000
END:STANDARD
END:VTIMEZONE
BEGIN:VEVENT
DTSTART;TZID=America/Denver:20260712T163000
DTEND;TZID=America/Denver:20260712T180000
DTSTAMP:20260424T020523
CREATED:20250220T010050Z
LAST-MODIFIED:20250220T010050Z
UID:10003383-1783873800-1783879200@laramieevents.com
SUMMARY:Laramie Connections Free Sunday Dinner
DESCRIPTION:From the organizers:\n4:30 pm Sundays @ First Baptist Church\nEveryone is welcome to come and enjoy a hot meal Sunday evenings along with great company.  While regular meal offerings are closed on the weekends we are happy to step in and offer a free meal gathering. \nOur meal is provided by the Laramie Soup Kitchen\, Laramie Interfaith and Eppson Center being closed on the weekends.
URL:https://laramieevents.com/event/laramie-connections-free-sunday-dinner/2026-07-12/
ATTACH;FMTTYPE=image/png:https://laramieevents.com/wp-content/uploads/sites/3/2025/02/family-dinner-3407701_1280.png
END:VEVENT
BEGIN:VEVENT
DTSTART;VALUE=DATE:20260713
DTEND;VALUE=DATE:20260714
DTSTAMP:20260424T020523
CREATED:20260212T143232Z
LAST-MODIFIED:20260212T143232Z
UID:10007918-1783900800-1783987199@laramieevents.com
SUMMARY:Weekly Yoga At The Centennial Public Library
DESCRIPTION:The Centennial Public Library will offer yoga twice a week with two different styles of yoga. Vinyasa flow 9 to 10am Mondays and Restorative/Yoga Nidra Thursdays 6 to 7pm. The classes will take place at the library and the suggested donation is $10 to $15 per class. See the flyer for more info on what each yoga class is.
URL:https://laramieevents.com/event/weekly-yoga-at-the-centennial-public-library/2026-07-13/
ATTACH;FMTTYPE=image/jpeg:https://laramieevents.com/wp-content/uploads/sites/3/2026/02/unnamed-2.jpg
END:VEVENT
BEGIN:VEVENT
DTSTART;TZID=America/Denver:20260713T160000
DTEND;TZID=America/Denver:20260713T183000
DTSTAMP:20260424T020523
CREATED:20260407T140520Z
LAST-MODIFIED:20260407T141215Z
UID:10010025-1783958400-1783967400@laramieevents.com
SUMMARY:Cancer: Thriving And Surviving Workshop
DESCRIPTION:If you’re newly diagnosed\, going through treatment\, a friend\, family member or caregiver or someone going through cancer\, this group is for you to learn some ways to stay healthy\, active and positive while dealing with physical and mental challenge of being a cancer patient\, cancer survivor or the family member of someone whos dealt with this disease. See the flyer below for more info. \n \n 
URL:https://laramieevents.com/event/cancer-thriving-and-surviving-workshop/2026-07-13/
ATTACH;FMTTYPE=image/jpeg:https://laramieevents.com/wp-content/uploads/sites/3/2026/04/CANCER-THRIVING_page-0001-1-scaled.jpg
END:VEVENT
BEGIN:VEVENT
DTSTART;TZID=America/Denver:20260713T180000
DTEND;TZID=America/Denver:20260713T200000
DTSTAMP:20260424T020523
CREATED:20260413T134457Z
LAST-MODIFIED:20260413T135407Z
UID:10010145-1783965600-1783972800@laramieevents.com
SUMMARY:Veterans Talking To Veterans
DESCRIPTION:Its a group for veterans by veterans to support mental health and help them in their post military career. They meet Mondays 6 to 8pm at the American Legion in Laramie. They work through trauma\, PTSD and more. All veterans are welcome.  Email dmhljh@gmail.com for more info.
URL:https://laramieevents.com/event/veterans-talking-to-veterans/2026-07-13/
ATTACH;FMTTYPE=image/png:https://laramieevents.com/wp-content/uploads/sites/3/2026/04/IMG_20260413_073321-1.png
END:VEVENT
BEGIN:VEVENT
DTSTART;TZID=America/Denver:20260715T160000
DTEND;TZID=America/Denver:20260715T183000
DTSTAMP:20260424T020523
CREATED:20260407T143135Z
LAST-MODIFIED:20260407T143135Z
UID:10010080-1784131200-1784140200@laramieevents.com
SUMMARY:HealthyU-Support Group For Chronic Health Conditions
DESCRIPTION:If you have a chronic health condition or take care of someone who does\, this 6 week workshop will help you work on problem solving\, healthy eating\, how to say active despite any limitations and more. See the flyer below for more info and email healthy@uwyo.edu to register or for more info
URL:https://laramieevents.com/event/healthyu-support-group-for-chronic-health-conditions/2026-07-15/
ATTACH;FMTTYPE=image/jpeg:https://laramieevents.com/wp-content/uploads/sites/3/2026/04/NOW-IS-THE-TIME-TO-TAKE-CHARGE-OF-YOUR-HEALTH_page-0001-1-scaled.jpg
END:VEVENT
BEGIN:VEVENT
DTSTART;VALUE=DATE:20260716
DTEND;VALUE=DATE:20260717
DTSTAMP:20260424T020523
CREATED:20260212T143232Z
LAST-MODIFIED:20260212T143232Z
UID:10007919-1784160000-1784246399@laramieevents.com
SUMMARY:Weekly Yoga At The Centennial Public Library
DESCRIPTION:The Centennial Public Library will offer yoga twice a week with two different styles of yoga. Vinyasa flow 9 to 10am Mondays and Restorative/Yoga Nidra Thursdays 6 to 7pm. The classes will take place at the library and the suggested donation is $10 to $15 per class. See the flyer for more info on what each yoga class is.
URL:https://laramieevents.com/event/weekly-yoga-at-the-centennial-public-library/2026-07-16/
ATTACH;FMTTYPE=image/jpeg:https://laramieevents.com/wp-content/uploads/sites/3/2026/02/unnamed-2.jpg
END:VEVENT
BEGIN:VEVENT
DTSTART;TZID=America/Denver:20260718T130000
DTEND;TZID=America/Denver:20260718T140000
DTSTAMP:20260424T020523
CREATED:20260212T203649Z
LAST-MODIFIED:20260212T203649Z
UID:10008481-1784379600-1784383200@laramieevents.com
SUMMARY:Kids Lego Time At Albany Co. Public Library in Laramie
DESCRIPTION:From the event organizer: \nCalling all Lego builders! We provide the Legos\, you provide the imagination. Program for children in grades K-6th. Every Saturday 1-2pm in the Laramie Library’s Wyoming Room
URL:https://laramieevents.com/event/kids-lego-time-at-albany-co-public-library-in-laramie/2026-07-18/
END:VEVENT
BEGIN:VEVENT
DTSTART;TZID=America/Denver:20260719T163000
DTEND;TZID=America/Denver:20260719T180000
DTSTAMP:20260424T020523
CREATED:20250220T010050Z
LAST-MODIFIED:20250220T010050Z
UID:10003384-1784478600-1784484000@laramieevents.com
SUMMARY:Laramie Connections Free Sunday Dinner
DESCRIPTION:From the organizers:\n4:30 pm Sundays @ First Baptist Church\nEveryone is welcome to come and enjoy a hot meal Sunday evenings along with great company.  While regular meal offerings are closed on the weekends we are happy to step in and offer a free meal gathering. \nOur meal is provided by the Laramie Soup Kitchen\, Laramie Interfaith and Eppson Center being closed on the weekends.
URL:https://laramieevents.com/event/laramie-connections-free-sunday-dinner/2026-07-19/
ATTACH;FMTTYPE=image/png:https://laramieevents.com/wp-content/uploads/sites/3/2025/02/family-dinner-3407701_1280.png
END:VEVENT
BEGIN:VEVENT
DTSTART;VALUE=DATE:20260720
DTEND;VALUE=DATE:20260721
DTSTAMP:20260424T020523
CREATED:20260212T143232Z
LAST-MODIFIED:20260212T143232Z
UID:10007920-1784505600-1784591999@laramieevents.com
SUMMARY:Weekly Yoga At The Centennial Public Library
DESCRIPTION:The Centennial Public Library will offer yoga twice a week with two different styles of yoga. Vinyasa flow 9 to 10am Mondays and Restorative/Yoga Nidra Thursdays 6 to 7pm. The classes will take place at the library and the suggested donation is $10 to $15 per class. See the flyer for more info on what each yoga class is.
URL:https://laramieevents.com/event/weekly-yoga-at-the-centennial-public-library/2026-07-20/
ATTACH;FMTTYPE=image/jpeg:https://laramieevents.com/wp-content/uploads/sites/3/2026/02/unnamed-2.jpg
END:VEVENT
BEGIN:VEVENT
DTSTART;TZID=America/Denver:20260720T160000
DTEND;TZID=America/Denver:20260720T183000
DTSTAMP:20260424T020523
CREATED:20260407T140520Z
LAST-MODIFIED:20260407T141215Z
UID:10010026-1784563200-1784572200@laramieevents.com
SUMMARY:Cancer: Thriving And Surviving Workshop
DESCRIPTION:If you’re newly diagnosed\, going through treatment\, a friend\, family member or caregiver or someone going through cancer\, this group is for you to learn some ways to stay healthy\, active and positive while dealing with physical and mental challenge of being a cancer patient\, cancer survivor or the family member of someone whos dealt with this disease. See the flyer below for more info. \n \n 
URL:https://laramieevents.com/event/cancer-thriving-and-surviving-workshop/2026-07-20/
ATTACH;FMTTYPE=image/jpeg:https://laramieevents.com/wp-content/uploads/sites/3/2026/04/CANCER-THRIVING_page-0001-1-scaled.jpg
END:VEVENT
BEGIN:VEVENT
DTSTART;TZID=America/Denver:20260720T180000
DTEND;TZID=America/Denver:20260720T200000
DTSTAMP:20260424T020523
CREATED:20260413T134457Z
LAST-MODIFIED:20260413T135407Z
UID:10010146-1784570400-1784577600@laramieevents.com
SUMMARY:Veterans Talking To Veterans
DESCRIPTION:Its a group for veterans by veterans to support mental health and help them in their post military career. They meet Mondays 6 to 8pm at the American Legion in Laramie. They work through trauma\, PTSD and more. All veterans are welcome.  Email dmhljh@gmail.com for more info.
URL:https://laramieevents.com/event/veterans-talking-to-veterans/2026-07-20/
ATTACH;FMTTYPE=image/png:https://laramieevents.com/wp-content/uploads/sites/3/2026/04/IMG_20260413_073321-1.png
END:VEVENT
BEGIN:VEVENT
DTSTART;TZID=America/Denver:20260721T130000
DTEND;TZID=America/Denver:20260721T170000
DTSTAMP:20260424T020523
CREATED:20250423T234803Z
LAST-MODIFIED:20250423T234803Z
UID:10003624-1784638800-1784653200@laramieevents.com
SUMMARY:Basic Life Support Certification-CPR/Cardiovascular Care AND Recertification
DESCRIPTION:From the event organizer: \nThe American Heart Association’s BLS Course has been updat­ed to reflect new science in the 2015 AHA Guidelines Update for CPR and Emergency Car­dio­vas­cu­lar Care. This course builds a foundation of lifesaving BLS skills\, emphasizing the importance of continuous\, high-quality CPR.Sign up at ivinsonshopital.org/education \n  \nRegister for certification or re certification at this link \nUpcoming Recurrences For REGISTRATION\nTuesday\, May 20\, 2025 1:00pm – 5:00pm \nSaturday\, June 7\, 2025 1:00pm – 5:00pm \nTuesday\, June 17\, 2025 1:00pm – 5:00pm \nTuesday\, July 22\, 2025 1:00pm – 5:00pm \nTuesday\, August 19\, 2025 1:00pm – 5:00pm \nTuesday\, September 16\, 2025 1:00pm – 5:00pm \nTuesday\, October 21\, 2025 1:00pm – 5:00pm \n  \nSee recertification dates at this link
URL:https://laramieevents.com/event/basic-life-support-certification-cpr-cardiovascular-care-and-recertification/2026-07-21/
ATTACH;FMTTYPE=image/png:https://laramieevents.com/wp-content/uploads/sites/3/2025/04/download-5.png
END:VEVENT
BEGIN:VEVENT
DTSTART;TZID=America/Denver:20260722T160000
DTEND;TZID=America/Denver:20260722T183000
DTSTAMP:20260424T020523
CREATED:20260407T143135Z
LAST-MODIFIED:20260407T143135Z
UID:10010081-1784736000-1784745000@laramieevents.com
SUMMARY:HealthyU-Support Group For Chronic Health Conditions
DESCRIPTION:If you have a chronic health condition or take care of someone who does\, this 6 week workshop will help you work on problem solving\, healthy eating\, how to say active despite any limitations and more. See the flyer below for more info and email healthy@uwyo.edu to register or for more info
URL:https://laramieevents.com/event/healthyu-support-group-for-chronic-health-conditions/2026-07-22/
ATTACH;FMTTYPE=image/jpeg:https://laramieevents.com/wp-content/uploads/sites/3/2026/04/NOW-IS-THE-TIME-TO-TAKE-CHARGE-OF-YOUR-HEALTH_page-0001-1-scaled.jpg
END:VEVENT
BEGIN:VEVENT
DTSTART;VALUE=DATE:20260723
DTEND;VALUE=DATE:20260724
DTSTAMP:20260424T020523
CREATED:20260212T143232Z
LAST-MODIFIED:20260212T143232Z
UID:10007921-1784764800-1784851199@laramieevents.com
SUMMARY:Weekly Yoga At The Centennial Public Library
DESCRIPTION:The Centennial Public Library will offer yoga twice a week with two different styles of yoga. Vinyasa flow 9 to 10am Mondays and Restorative/Yoga Nidra Thursdays 6 to 7pm. The classes will take place at the library and the suggested donation is $10 to $15 per class. See the flyer for more info on what each yoga class is.
URL:https://laramieevents.com/event/weekly-yoga-at-the-centennial-public-library/2026-07-23/
ATTACH;FMTTYPE=image/jpeg:https://laramieevents.com/wp-content/uploads/sites/3/2026/02/unnamed-2.jpg
END:VEVENT
BEGIN:VEVENT
DTSTART;TZID=America/Denver:20260725T130000
DTEND;TZID=America/Denver:20260725T140000
DTSTAMP:20260424T020523
CREATED:20260212T203649Z
LAST-MODIFIED:20260212T203649Z
UID:10008482-1784984400-1784988000@laramieevents.com
SUMMARY:Kids Lego Time At Albany Co. Public Library in Laramie
DESCRIPTION:From the event organizer: \nCalling all Lego builders! We provide the Legos\, you provide the imagination. Program for children in grades K-6th. Every Saturday 1-2pm in the Laramie Library’s Wyoming Room
URL:https://laramieevents.com/event/kids-lego-time-at-albany-co-public-library-in-laramie/2026-07-25/
END:VEVENT
BEGIN:VEVENT
DTSTART;TZID=America/Denver:20260726T133000
DTEND;TZID=America/Denver:20260726T143000
DTSTAMP:20260424T020523
CREATED:20260418T055915Z
LAST-MODIFIED:20260418T055915Z
UID:10010402-1785072600-1785076200@laramieevents.com
SUMMARY:Walk With A Doc!
DESCRIPTION:Walk with a Doc is a national organization focused on encouraging healthy physical activity while reversing the consequences of a sedentary lifestyle.  It is coordinated locally in Laramie by Ivinson Memorial Hospital \n\n\n\n\nwhat to expect\nAt each meet-up simply come in and we’ll get you signed-in. Next we’ll hear from a local healthcare provider about a health-related topic\, and then it’s on to walking! (Don’t worry — we’ll do some quick stretches first!) \n\n\n\n\ntime + location\n\n1st and 3rd Sunday of each month\n1:30 PM — 2:30 PM\nUniversity of Wyoming Field House (October-April) + Washington Park (May-September)\nFree to everyone
URL:https://laramieevents.com/event/walk-with-a-doc-2/2026-07-26/
ATTACH;FMTTYPE=image/jpeg:https://laramieevents.com/wp-content/uploads/sites/3/2026/04/44_2017_shutterstock_436609324_dcf7d7dc6df8adc8071fe96b7a378182.jpg
END:VEVENT
BEGIN:VEVENT
DTSTART;TZID=America/Denver:20260726T163000
DTEND;TZID=America/Denver:20260726T180000
DTSTAMP:20260424T020523
CREATED:20250220T010050Z
LAST-MODIFIED:20250220T010050Z
UID:10003385-1785083400-1785088800@laramieevents.com
SUMMARY:Laramie Connections Free Sunday Dinner
DESCRIPTION:From the organizers:\n4:30 pm Sundays @ First Baptist Church\nEveryone is welcome to come and enjoy a hot meal Sunday evenings along with great company.  While regular meal offerings are closed on the weekends we are happy to step in and offer a free meal gathering. \nOur meal is provided by the Laramie Soup Kitchen\, Laramie Interfaith and Eppson Center being closed on the weekends.
URL:https://laramieevents.com/event/laramie-connections-free-sunday-dinner/2026-07-26/
ATTACH;FMTTYPE=image/png:https://laramieevents.com/wp-content/uploads/sites/3/2025/02/family-dinner-3407701_1280.png
END:VEVENT
BEGIN:VEVENT
DTSTART;VALUE=DATE:20260727
DTEND;VALUE=DATE:20260728
DTSTAMP:20260424T020523
CREATED:20260212T143232Z
LAST-MODIFIED:20260212T143232Z
UID:10007922-1785110400-1785196799@laramieevents.com
SUMMARY:Weekly Yoga At The Centennial Public Library
DESCRIPTION:The Centennial Public Library will offer yoga twice a week with two different styles of yoga. Vinyasa flow 9 to 10am Mondays and Restorative/Yoga Nidra Thursdays 6 to 7pm. The classes will take place at the library and the suggested donation is $10 to $15 per class. See the flyer for more info on what each yoga class is.
URL:https://laramieevents.com/event/weekly-yoga-at-the-centennial-public-library/2026-07-27/
ATTACH;FMTTYPE=image/jpeg:https://laramieevents.com/wp-content/uploads/sites/3/2026/02/unnamed-2.jpg
END:VEVENT
BEGIN:VEVENT
DTSTART;TZID=America/Denver:20260727T160000
DTEND;TZID=America/Denver:20260727T183000
DTSTAMP:20260424T020523
CREATED:20260407T140520Z
LAST-MODIFIED:20260407T141215Z
UID:10010027-1785168000-1785177000@laramieevents.com
SUMMARY:Cancer: Thriving And Surviving Workshop
DESCRIPTION:If you’re newly diagnosed\, going through treatment\, a friend\, family member or caregiver or someone going through cancer\, this group is for you to learn some ways to stay healthy\, active and positive while dealing with physical and mental challenge of being a cancer patient\, cancer survivor or the family member of someone whos dealt with this disease. See the flyer below for more info. \n \n 
URL:https://laramieevents.com/event/cancer-thriving-and-surviving-workshop/2026-07-27/
ATTACH;FMTTYPE=image/jpeg:https://laramieevents.com/wp-content/uploads/sites/3/2026/04/CANCER-THRIVING_page-0001-1-scaled.jpg
END:VEVENT
BEGIN:VEVENT
DTSTART;TZID=America/Denver:20260727T180000
DTEND;TZID=America/Denver:20260727T200000
DTSTAMP:20260424T020523
CREATED:20260413T134457Z
LAST-MODIFIED:20260413T135407Z
UID:10010147-1785175200-1785182400@laramieevents.com
SUMMARY:Veterans Talking To Veterans
DESCRIPTION:Its a group for veterans by veterans to support mental health and help them in their post military career. They meet Mondays 6 to 8pm at the American Legion in Laramie. They work through trauma\, PTSD and more. All veterans are welcome.  Email dmhljh@gmail.com for more info.
URL:https://laramieevents.com/event/veterans-talking-to-veterans/2026-07-27/
ATTACH;FMTTYPE=image/png:https://laramieevents.com/wp-content/uploads/sites/3/2026/04/IMG_20260413_073321-1.png
END:VEVENT
BEGIN:VEVENT
DTSTART;TZID=America/Denver:20260729T160000
DTEND;TZID=America/Denver:20260729T183000
DTSTAMP:20260424T020523
CREATED:20260407T143135Z
LAST-MODIFIED:20260407T143135Z
UID:10010082-1785340800-1785349800@laramieevents.com
SUMMARY:HealthyU-Support Group For Chronic Health Conditions
DESCRIPTION:If you have a chronic health condition or take care of someone who does\, this 6 week workshop will help you work on problem solving\, healthy eating\, how to say active despite any limitations and more. See the flyer below for more info and email healthy@uwyo.edu to register or for more info
URL:https://laramieevents.com/event/healthyu-support-group-for-chronic-health-conditions/2026-07-29/
ATTACH;FMTTYPE=image/jpeg:https://laramieevents.com/wp-content/uploads/sites/3/2026/04/NOW-IS-THE-TIME-TO-TAKE-CHARGE-OF-YOUR-HEALTH_page-0001-1-scaled.jpg
END:VEVENT
BEGIN:VEVENT
DTSTART;VALUE=DATE:20260730
DTEND;VALUE=DATE:20260731
DTSTAMP:20260424T020523
CREATED:20260212T143232Z
LAST-MODIFIED:20260212T143232Z
UID:10007923-1785369600-1785455999@laramieevents.com
SUMMARY:Weekly Yoga At The Centennial Public Library
DESCRIPTION:The Centennial Public Library will offer yoga twice a week with two different styles of yoga. Vinyasa flow 9 to 10am Mondays and Restorative/Yoga Nidra Thursdays 6 to 7pm. The classes will take place at the library and the suggested donation is $10 to $15 per class. See the flyer for more info on what each yoga class is.
URL:https://laramieevents.com/event/weekly-yoga-at-the-centennial-public-library/2026-07-30/
ATTACH;FMTTYPE=image/jpeg:https://laramieevents.com/wp-content/uploads/sites/3/2026/02/unnamed-2.jpg
END:VEVENT
BEGIN:VEVENT
DTSTART;TZID=America/Denver:20260801T080000
DTEND;TZID=America/Denver:20260801T100000
DTSTAMP:20260424T020523
CREATED:20260212T144025Z
LAST-MODIFIED:20260212T144025Z
UID:10008403-1785571200-1785578400@laramieevents.com
SUMMARY:Centennial Mens Breakfast
DESCRIPTION:The first Saturday of every month— Men’s Breakfast\nOld Corral @ 8 AM.\nAll valley men welcome
URL:https://laramieevents.com/event/centennial-mens-breakfast/2026-08-01/
ATTACH;FMTTYPE=image/jpeg:https://laramieevents.com/wp-content/uploads/sites/3/2026/02/jhenning-breakfast-8200753_1280.jpg
END:VEVENT
BEGIN:VEVENT
DTSTART;TZID=America/Denver:20260801T130000
DTEND;TZID=America/Denver:20260801T140000
DTSTAMP:20260424T020523
CREATED:20260212T203649Z
LAST-MODIFIED:20260212T203649Z
UID:10008483-1785589200-1785592800@laramieevents.com
SUMMARY:Kids Lego Time At Albany Co. Public Library in Laramie
DESCRIPTION:From the event organizer: \nCalling all Lego builders! We provide the Legos\, you provide the imagination. Program for children in grades K-6th. Every Saturday 1-2pm in the Laramie Library’s Wyoming Room
URL:https://laramieevents.com/event/kids-lego-time-at-albany-co-public-library-in-laramie/2026-08-01/
END:VEVENT
BEGIN:VEVENT
DTSTART;TZID=America/Denver:20260802T163000
DTEND;TZID=America/Denver:20260802T180000
DTSTAMP:20260424T020523
CREATED:20250220T010050Z
LAST-MODIFIED:20250220T010050Z
UID:10003386-1785688200-1785693600@laramieevents.com
SUMMARY:Laramie Connections Free Sunday Dinner
DESCRIPTION:From the organizers:\n4:30 pm Sundays @ First Baptist Church\nEveryone is welcome to come and enjoy a hot meal Sunday evenings along with great company.  While regular meal offerings are closed on the weekends we are happy to step in and offer a free meal gathering. \nOur meal is provided by the Laramie Soup Kitchen\, Laramie Interfaith and Eppson Center being closed on the weekends.
URL:https://laramieevents.com/event/laramie-connections-free-sunday-dinner/2026-08-02/
ATTACH;FMTTYPE=image/png:https://laramieevents.com/wp-content/uploads/sites/3/2025/02/family-dinner-3407701_1280.png
END:VEVENT
BEGIN:VEVENT
DTSTART;VALUE=DATE:20260803
DTEND;VALUE=DATE:20260804
DTSTAMP:20260424T020523
CREATED:20260212T143232Z
LAST-MODIFIED:20260212T143232Z
UID:10007924-1785715200-1785801599@laramieevents.com
SUMMARY:Weekly Yoga At The Centennial Public Library
DESCRIPTION:The Centennial Public Library will offer yoga twice a week with two different styles of yoga. Vinyasa flow 9 to 10am Mondays and Restorative/Yoga Nidra Thursdays 6 to 7pm. The classes will take place at the library and the suggested donation is $10 to $15 per class. See the flyer for more info on what each yoga class is.
URL:https://laramieevents.com/event/weekly-yoga-at-the-centennial-public-library/2026-08-03/
ATTACH;FMTTYPE=image/jpeg:https://laramieevents.com/wp-content/uploads/sites/3/2026/02/unnamed-2.jpg
END:VEVENT
BEGIN:VEVENT
DTSTART;TZID=America/Denver:20260803T160000
DTEND;TZID=America/Denver:20260803T183000
DTSTAMP:20260424T020523
CREATED:20260407T140520Z
LAST-MODIFIED:20260407T141215Z
UID:10010028-1785772800-1785781800@laramieevents.com
SUMMARY:Cancer: Thriving And Surviving Workshop
DESCRIPTION:If you’re newly diagnosed\, going through treatment\, a friend\, family member or caregiver or someone going through cancer\, this group is for you to learn some ways to stay healthy\, active and positive while dealing with physical and mental challenge of being a cancer patient\, cancer survivor or the family member of someone whos dealt with this disease. See the flyer below for more info. \n \n 
URL:https://laramieevents.com/event/cancer-thriving-and-surviving-workshop/2026-08-03/
ATTACH;FMTTYPE=image/jpeg:https://laramieevents.com/wp-content/uploads/sites/3/2026/04/CANCER-THRIVING_page-0001-1-scaled.jpg
END:VEVENT
BEGIN:VEVENT
DTSTART;TZID=America/Denver:20260803T180000
DTEND;TZID=America/Denver:20260803T200000
DTSTAMP:20260424T020523
CREATED:20260413T134457Z
LAST-MODIFIED:20260413T135407Z
UID:10010148-1785780000-1785787200@laramieevents.com
SUMMARY:Veterans Talking To Veterans
DESCRIPTION:Its a group for veterans by veterans to support mental health and help them in their post military career. They meet Mondays 6 to 8pm at the American Legion in Laramie. They work through trauma\, PTSD and more. All veterans are welcome.  Email dmhljh@gmail.com for more info.
URL:https://laramieevents.com/event/veterans-talking-to-veterans/2026-08-03/
ATTACH;FMTTYPE=image/png:https://laramieevents.com/wp-content/uploads/sites/3/2026/04/IMG_20260413_073321-1.png
END:VEVENT
BEGIN:VEVENT
DTSTART;TZID=America/Denver:20260805T160000
DTEND;TZID=America/Denver:20260805T183000
DTSTAMP:20260424T020523
CREATED:20260407T143135Z
LAST-MODIFIED:20260407T143135Z
UID:10010083-1785945600-1785954600@laramieevents.com
SUMMARY:HealthyU-Support Group For Chronic Health Conditions
DESCRIPTION:If you have a chronic health condition or take care of someone who does\, this 6 week workshop will help you work on problem solving\, healthy eating\, how to say active despite any limitations and more. See the flyer below for more info and email healthy@uwyo.edu to register or for more info
URL:https://laramieevents.com/event/healthyu-support-group-for-chronic-health-conditions/2026-08-05/
ATTACH;FMTTYPE=image/jpeg:https://laramieevents.com/wp-content/uploads/sites/3/2026/04/NOW-IS-THE-TIME-TO-TAKE-CHARGE-OF-YOUR-HEALTH_page-0001-1-scaled.jpg
END:VEVENT
BEGIN:VEVENT
DTSTART;TZID=America/Denver:20260805T170000
DTEND;TZID=America/Denver:20260805T183000
DTSTAMP:20260424T020523
CREATED:20260211T193640Z
LAST-MODIFIED:20260211T193640Z
UID:10007819-1785949200-1785954600@laramieevents.com
SUMMARY:Cancer Crusaders Club
DESCRIPTION:From Ivinson Memorial Hospital \nWe are tackling cancer together. Anyone whose life has been touched by cancer is invited. We meet the first Wednesday of every month at 5:15 PM. You can join us virtually via Zoom or in person at the Cancer Center Education Room. For directions or Zoom link\, please contact Cindy Garnich: (307) 755-4464
URL:https://laramieevents.com/event/cancer-crusaders-club/2026-08-05/
ATTACH;FMTTYPE=image/png:https://laramieevents.com/wp-content/uploads/sites/3/2026/02/htchnm-awareness-5730258_1280.png
END:VEVENT
END:VCALENDAR