BEGIN:VCALENDAR
VERSION:2.0
PRODID:-//Laramie Events - ECPv6.15.17.1//NONSGML v1.0//EN
CALSCALE:GREGORIAN
METHOD:PUBLISH
X-WR-CALNAME:Laramie Events
X-ORIGINAL-URL:https://laramieevents.com
X-WR-CALDESC:Events for Laramie Events
REFRESH-INTERVAL;VALUE=DURATION:PT1H
X-Robots-Tag:noindex
X-PUBLISHED-TTL:PT1H
BEGIN:VTIMEZONE
TZID:America/Denver
BEGIN:DAYLIGHT
TZOFFSETFROM:-0700
TZOFFSETTO:-0600
TZNAME:MDT
DTSTART:20230312T090000
END:DAYLIGHT
BEGIN:STANDARD
TZOFFSETFROM:-0600
TZOFFSETTO:-0700
TZNAME:MST
DTSTART:20231105T080000
END:STANDARD
BEGIN:DAYLIGHT
TZOFFSETFROM:-0700
TZOFFSETTO:-0600
TZNAME:MDT
DTSTART:20240310T090000
END:DAYLIGHT
BEGIN:STANDARD
TZOFFSETFROM:-0600
TZOFFSETTO:-0700
TZNAME:MST
DTSTART:20241103T080000
END:STANDARD
BEGIN:DAYLIGHT
TZOFFSETFROM:-0700
TZOFFSETTO:-0600
TZNAME:MDT
DTSTART:20250309T090000
END:DAYLIGHT
BEGIN:STANDARD
TZOFFSETFROM:-0600
TZOFFSETTO:-0700
TZNAME:MST
DTSTART:20251102T080000
END:STANDARD
END:VTIMEZONE
BEGIN:VEVENT
DTSTART;TZID=America/Denver:20241022T080000
DTEND;TZID=America/Denver:20241022T170000
DTSTAMP:20260425T103218
CREATED:20241022T214227Z
LAST-MODIFIED:20241022T214227Z
UID:10003248-1729584000-1729616400@laramieevents.com
SUMMARY:Gymnastics showcase
DESCRIPTION:From event organizers: \nThe Wyoming School of Gymnastics\, 803 Skyline Drive\, will host a gymnastics showcase November 16th at 11am. No admission fee\, but donations accepted to support their booster club.
URL:https://laramieevents.com/event/gymnastics-showcase/
ATTACH;FMTTYPE=image/jpeg:https://laramieevents.com/wp-content/uploads/sites/3/2024/10/unnamed.jpg
END:VEVENT
BEGIN:VEVENT
DTSTART;TZID=America/Denver:20241022T170000
DTEND;TZID=America/Denver:20241022T180000
DTSTAMP:20260425T103218
CREATED:20240926T164607Z
LAST-MODIFIED:20240926T164607Z
UID:10003222-1729616400-1729620000@laramieevents.com
SUMMARY:Girl Scout Info Night!
DESCRIPTION:Life can be complicated\, but keeping your girl curious\, active and happy doesn’t have to be. Come see all that Laramie Girl Scouts has to offer your family and learn all about how you can get involved! Become a Girl Scout and open your world to a lifetime of friendship and fun! \n107 S 7th Street\, Laramie WY 82070
URL:https://laramieevents.com/event/girl-scout-info-night/2024-10-22/
CATEGORIES:Kid Friendly
ATTACH;FMTTYPE=image/png:https://laramieevents.com/wp-content/uploads/sites/3/2024/09/Square-Event-Graphic_1080p-x-1080p_Fillable.png
END:VEVENT
BEGIN:VEVENT
DTSTART;TZID=America/Denver:20241022T170000
DTEND;TZID=America/Denver:20241022T180000
DTSTAMP:20260425T103218
CREATED:20250404T155105Z
LAST-MODIFIED:20250404T155105Z
UID:10003234-1729616400-1729620000@laramieevents.com
SUMMARY:Girl Scout Info Night!
DESCRIPTION:Life can be complicated\, but keeping your girl curious\, active and happy doesn’t have to be. Come see all that Laramie Girl Scouts has to offer your family and learn all about how you can get involved\n\nAll girls 5yo thru 12th grade are invited to come learn about Girl Scouts and join a troop if they are ready!
URL:https://laramieevents.com/event/girl-scout-info-night-2/2024-10-22/
LOCATION:107 S 7th Street\, 107 S 7th Street\, Laramie\, MT\, 82070\, United States
CATEGORIES:Kid Friendly
ATTACH;FMTTYPE=image/png:https://laramieevents.com/wp-content/uploads/sites/3/2024/10/2024.10.22-Laramie.png
ORGANIZER;CN="Girl Scouts of Montana &amp%3B Wyoming":MAILTO:amyi@gsmw.org
END:VEVENT
BEGIN:VEVENT
DTSTART;TZID=America/Denver:20241023T180000
DTEND;TZID=America/Denver:20241023T210000
DTSTAMP:20260425T103218
CREATED:20241008T135542Z
LAST-MODIFIED:20241008T135542Z
UID:10003236-1729706400-1729717200@laramieevents.com
SUMMARY:Bras With A Cause
DESCRIPTION:From The Ivinson Memorial Hospital Foundation: \nFasten your cape and boots and join us on Wednesday\, October 23 from 6–9pm at the Alice Hardie Stevens Center for Bras With A Cause! The theme for this year’s Bra Entries is\, “Superhero Survivors.” \nAdmission Cost: $35; includes 2 drink tickets with admission.Bra Entry Cost: $35; includes 1 admission ticket. The deadline for bra entry is October 9 — don’t forget to include a picture! \nEnjoy food from the Grazing Cowboy and drinks from 3rd Street Bar. \nOnline Voting: All of the bra entries will be posted online to vote on in advance with $1 = 1 Vote. The Top 10 Bra Winners of that vote will be displayed more prominently at the event. All other Bra Entries will be displayed at the event for voting on Best in Show\, and feel free to come in a superhero costume. Purchase tickets\, register your bra\, or vote for a favorite at this link: https://charity.pledgeit.org/bwc2024
URL:https://laramieevents.com/event/bras-with-a-cause-2/
ATTACH;FMTTYPE=image/jpeg:https://laramieevents.com/wp-content/uploads/sites/3/2024/10/461326723_969753185165090_800021661224491647_n.jpg
END:VEVENT
BEGIN:VEVENT
DTSTART;TZID=America/Denver:20241024T173000
DTEND;TZID=America/Denver:20241024T193000
DTSTAMP:20260425T103218
CREATED:20241003T222703Z
LAST-MODIFIED:20241003T222703Z
UID:10003233-1729791000-1729798200@laramieevents.com
SUMMARY:Downtown Clinic's 25th Birthday Community Appreciation Event And Dinner
DESCRIPTION:From the organization: \nFor the past 25 years you have helped us build a community clinic that takes care of people\, and we can’t say thank you enough! At the Downtown Clinic\, we know that our impact is only possible because of supporters like you. To show our gratitude\, we’d love for you to join us at a special Community Appreciation Event at Altitude Chophouse! \nWe’ll be serving dinner\, offering a chance to reconnect with old friends and meet new ones\, and sharing some ongoing updates about the clinic. There will be a brief presentation around 6:15 p.m.\, that will highlight what we’ve accomplished together. \nPlease let us know by Oct. 16th if you can join us for a fun evening of celebration and gratitude.\ \nRSVP AT THIS LINK
URL:https://laramieevents.com/event/downtown-clinics-25th-birthday-community-appreciation-event-and-dinner/
END:VEVENT
BEGIN:VEVENT
DTSTART;TZID=America/Denver:20241024T183000
DTEND;TZID=America/Denver:20241024T193000
DTSTAMP:20260425T103218
CREATED:20240926T164607Z
LAST-MODIFIED:20240926T164607Z
UID:10003223-1729794600-1729798200@laramieevents.com
SUMMARY:Girl Scout Info Night!
DESCRIPTION:Life can be complicated\, but keeping your girl curious\, active and happy doesn’t have to be. Come see all that Laramie Girl Scouts has to offer your family and learn all about how you can get involved! Become a Girl Scout and open your world to a lifetime of friendship and fun! \n107 S 7th Street\, Laramie WY 82070
URL:https://laramieevents.com/event/girl-scout-info-night/2024-10-24/
CATEGORIES:Kid Friendly
ATTACH;FMTTYPE=image/png:https://laramieevents.com/wp-content/uploads/sites/3/2024/09/Square-Event-Graphic_1080p-x-1080p_Fillable.png
END:VEVENT
BEGIN:VEVENT
DTSTART;TZID=America/Denver:20241024T183000
DTEND;TZID=America/Denver:20241024T193000
DTSTAMP:20260425T103218
CREATED:20250404T155105Z
LAST-MODIFIED:20250404T155105Z
UID:10003235-1729794600-1729798200@laramieevents.com
SUMMARY:Girl Scout Info Night!
DESCRIPTION:Life can be complicated\, but keeping your girl curious\, active and happy doesn’t have to be. Come see all that Laramie Girl Scouts has to offer your family and learn all about how you can get involved\n\nAll girls 5yo thru 12th grade are invited to come learn about Girl Scouts and join a troop if they are ready!
URL:https://laramieevents.com/event/girl-scout-info-night-2/2024-10-24/
LOCATION:107 S 7th Street\, 107 S 7th Street\, Laramie\, MT\, 82070\, United States
CATEGORIES:Kid Friendly
ATTACH;FMTTYPE=image/png:https://laramieevents.com/wp-content/uploads/sites/3/2024/10/2024.10.22-Laramie.png
ORGANIZER;CN="Girl Scouts of Montana &amp%3B Wyoming":MAILTO:amyi@gsmw.org
END:VEVENT
BEGIN:VEVENT
DTSTART;TZID=America/Denver:20241024T183000
DTEND;TZID=America/Denver:20241024T210000
DTSTAMP:20260425T103218
CREATED:20241021T004953Z
LAST-MODIFIED:20241021T004953Z
UID:10003243-1729794600-1729803600@laramieevents.com
SUMMARY:Flicker Light Tours At Laramie Plains Museum (Oct 24 and 25)
DESCRIPTION:From the event organizers: \nCome experience the Laramie Plains Museum in a small group\, with local guides\, under the lights of electric candles. An exclusive\, atmospheric after-dark tour in the historic Ivinson Mansion. Experience the museum like never before!\nRefreshments provided after tours.Call 307-742-4448 to reserve your tickets now.\n$15/ticket for museum members$20/ticket for non-museum member
URL:https://laramieevents.com/event/flicker-light-tours-at-laramie-plains-museum-oct-24-and-25/2024-10-24/
ATTACH;FMTTYPE=image/jpeg:https://laramieevents.com/wp-content/uploads/sites/3/2024/10/462459350_947040874111166_4900414864172052288_n.jpg
END:VEVENT
BEGIN:VEVENT
DTSTART;TZID=America/Denver:20241025T173000
DTEND;TZID=America/Denver:20241025T193000
DTSTAMP:20260425T103218
CREATED:20241016T220728Z
LAST-MODIFIED:20241016T220728Z
UID:10003242-1729877400-1729884600@laramieevents.com
SUMMARY:Pumpkin Dunkin And Fall Festival
DESCRIPTION:From The city of Laramie and UniWyo Federal Credit Union \nJoin us for tons of family fun\, including our pumpkin patch in the pool! We’ll have games\, arts and crafts and so much more at the rec center on Boulder Drive\, Oct 25 530 to 730pm. It’s free with a membership or purchase of a day pass \n 
URL:https://laramieevents.com/event/pumpkin-dunkin-and-fall-festival/
ATTACH;FMTTYPE=image/jpeg:https://laramieevents.com/wp-content/uploads/sites/3/2024/10/461344701_934267762075039_8298773889671057961_n.jpg
END:VEVENT
BEGIN:VEVENT
DTSTART;TZID=America/Denver:20241025T183000
DTEND;TZID=America/Denver:20241025T203000
DTSTAMP:20260425T103218
CREATED:20241016T190501Z
LAST-MODIFIED:20241016T190501Z
UID:10003240-1729881000-1729888200@laramieevents.com
SUMMARY:Free Drive In Halloween Movie
DESCRIPTION:From The event organizers: \nJoin us for a sPoOkY drive in movie night at Laramie Range Ford\, 3609 Grand Ave Oct 25th 630 to 830pm ! The first 80 people to arrive will get a festive cotton candy bag and we’ll have complimentary popcorn you to enjoy throughout the movie. Stay warm and cozy with a cup of hot cocoa from the Human Bean. Feel free to come in costume! Doors open at 6:30 for you to get your spot\, movie starts at 7
URL:https://laramieevents.com/event/free-drive-in-halloween-movie/
ATTACH;FMTTYPE=image/jpeg:https://laramieevents.com/wp-content/uploads/sites/3/2024/10/463402031_552998980814600_2846635155936298369_n.jpg
END:VEVENT
BEGIN:VEVENT
DTSTART;TZID=America/Denver:20241025T183000
DTEND;TZID=America/Denver:20241025T213000
DTSTAMP:20260425T103218
CREATED:20241021T004953Z
LAST-MODIFIED:20241021T004953Z
UID:10003244-1729881000-1729891800@laramieevents.com
SUMMARY:Flicker Light Tours At Laramie Plains Museum (Oct 24 and 25)
DESCRIPTION:From the event organizers: \nCome experience the Laramie Plains Museum in a small group\, with local guides\, under the lights of electric candles. An exclusive\, atmospheric after-dark tour in the historic Ivinson Mansion. Experience the museum like never before!\nRefreshments provided after tours.Call 307-742-4448 to reserve your tickets now.\n$15/ticket for museum members$20/ticket for non-museum member
URL:https://laramieevents.com/event/flicker-light-tours-at-laramie-plains-museum-oct-24-and-25/2024-10-25/
ATTACH;FMTTYPE=image/jpeg:https://laramieevents.com/wp-content/uploads/sites/3/2024/10/462459350_947040874111166_4900414864172052288_n.jpg
END:VEVENT
BEGIN:VEVENT
DTSTART;TZID=America/Denver:20241026T093000
DTEND;TZID=America/Denver:20241026T140000
DTSTAMP:20260425T103218
CREATED:20240926T142859Z
LAST-MODIFIED:20240926T142859Z
UID:10003221-1729935000-1729951200@laramieevents.com
SUMMARY:Scaramie
DESCRIPTION:Downtown Laramie Trick Or Treating 10am to 12noon
URL:https://laramieevents.com/event/scaramie/
END:VEVENT
BEGIN:VEVENT
DTSTART;TZID=America/Denver:20241026T100000
DTEND;TZID=America/Denver:20241026T130000
DTSTAMP:20260425T103218
CREATED:20240918T015815Z
LAST-MODIFIED:20240926T155441Z
UID:10003219-1729936800-1729947600@laramieevents.com
SUMMARY:Haunted Basement: Dark Forest
DESCRIPTION:Haunted Basement Celebrates 10 Years of Spooky Fun in Laramie\, WY\n— Get ready for a spine-chilling experience as the Haunted Basement returns for its 10th year of terrifying fun! On Saturday\, October 26th\, from 10:00 AM to 1:00 PM\, brave souls are invited to explore the Haunted Basement\, located at 121 E. Grand Ave.\, Laramie\, WY. This annual event has become a staple of Halloween festivities in Laramie\, drawing thrill-seekers from all over the region.\nThis year marks a decade of fear-filled fun\, and we’re pulling out all the stops to make this year’s Haunted Basement the most memorable yet. From eerie sounds to creepy creatures lurking in the shadows\, every corner of the basement is designed to give visitors an unforgettable scare.\nIn addition to the Haunted Basement\, visitors can enjoy trick-or-treating as part of Downtown Laramie’s SCARAMIE event. It’s the perfect way for families to enjoy a full day of Halloween activities\, with plenty of candy and surprises in store.
URL:https://laramieevents.com/event/haunted-basement-dark-forest/
ATTACH;FMTTYPE=image/jpeg:https://laramieevents.com/wp-content/uploads/sites/3/2024/09/457640188_1055520529907874_7940647764754788111_n.jpg
END:VEVENT
BEGIN:VEVENT
DTSTART;TZID=America/Denver:20241026T100000
DTEND;TZID=America/Denver:20241026T160000
DTSTAMP:20260425T103218
CREATED:20241023T211003Z
LAST-MODIFIED:20241023T211003Z
UID:10003250-1729936800-1729958400@laramieevents.com
SUMMARY:National Drug Take Back Day
DESCRIPTION:From Pole Mountain Pharmacy \nThe NCPA is organizing a drug take-back event at Pole Mountain Pharmacy this Saturday\, October 26th. Swing by between 10 am and 4 pm to safely dispose of any expired or unwanted medication!
URL:https://laramieevents.com/event/national-drug-take-back-day/
ATTACH;FMTTYPE=image/jpeg:https://laramieevents.com/wp-content/uploads/sites/3/2024/10/464415079_18290633734230772_3686964143801457763_n.jpg
END:VEVENT
BEGIN:VEVENT
DTSTART;TZID=America/Denver:20241026T180000
DTEND;TZID=America/Denver:20241026T200000
DTSTAMP:20260425T103218
CREATED:20241024T020630Z
LAST-MODIFIED:20241024T020630Z
UID:10003251-1729965600-1729972800@laramieevents.com
SUMMARY:Spooky Family Skate night
DESCRIPTION:From the Event organizers\, Toyota Of Laramie \nLooking for some spooky fun for the whole family this weekend? Then join us on Saturday at the Laramie Ice and Event Center for High Altitude Skating Club‘s Spooky Family Skate Night from 6:00 – 8:00 p.m. We’re a proud sponsor and will once again be hosting a Costume Contest! You’ll have a chance to win a $25 gift card in four different categories\, so we hope to see you Saturday!
URL:https://laramieevents.com/event/spooky-family-skate-night-3/
ATTACH;FMTTYPE=image/jpeg:https://laramieevents.com/wp-content/uploads/sites/3/2024/10/464332327_957900266361602_3608484145956535165_n.jpg
END:VEVENT
BEGIN:VEVENT
DTSTART;TZID=America/Denver:20241028T190000
DTEND;TZID=America/Denver:20241028T210000
DTSTAMP:20260425T103218
CREATED:20241021T144924Z
LAST-MODIFIED:20241021T144924Z
UID:10003247-1730142000-1730149200@laramieevents.com
SUMMARY:Inside Out.. Exploring Emotions Through Song
DESCRIPTION:See the flier for more details
URL:https://laramieevents.com/event/inside-out-exploring-emotions-through-song/
ATTACH;FMTTYPE=image/jpeg:https://laramieevents.com/wp-content/uploads/sites/3/2024/10/464091769_1071523608312975_4338607010441108839_n.jpg
END:VEVENT
BEGIN:VEVENT
DTSTART;TZID=America/Denver:20241031T150000
DTEND;TZID=America/Denver:20241031T180000
DTSTAMP:20260425T103218
CREATED:20240927T155135Z
LAST-MODIFIED:20240927T155135Z
UID:10003227-1730386800-1730397600@laramieevents.com
SUMMARY:Trunk Or Treat
DESCRIPTION:trunk or treat takes place in the UW Plaza Oct 31st 3 to 6pm.
URL:https://laramieevents.com/event/trunk-or-treat/
ATTACH;FMTTYPE=image/jpeg:https://laramieevents.com/wp-content/uploads/sites/3/2024/09/Capture-3.jpg
END:VEVENT
BEGIN:VEVENT
DTSTART;TZID=America/Denver:20241031T173000
DTEND;TZID=America/Denver:20241031T193000
DTSTAMP:20260425T103218
CREATED:20241016T190505Z
LAST-MODIFIED:20241016T190517Z
UID:10003241-1730395800-1730403000@laramieevents.com
SUMMARY:WyoTech Trunk or Treat
DESCRIPTION:From the event organizers: \nWyoTech Trunk or Treat \nWyoTech is hosting their third annual Trunk or Treat! This is a free event dedicated to students being able to show off their decorated cars to the community\, while also sharing the fun of Halloween! The Trunk or Treat will be held on Halloween\, Thursday October 31st from 5:30-7:30pm\, in the Auto Shop\, located at 1767 Venture Drive. We are excited to continue the tradition of offering a fun event located on the West side of Laramie\, offering a safe place for the community to Trunk or Treat\, regardless of what the weather looks like outside! \nPlease contact Virginia Cook with any questions at vcook@wyotech.edu. \nWyoTech looks forward to seeing you! Happy Halloween! \n\nPrice: Free\nDate: Thursday October 31st\, 2024\nTime: 5:30 PM to 7:30 PM\nAddress: WyoTech\, 1767 Venture Drive\, Laramie\, WY 82070\nContact Info for Questions: Virginia Cook\, vcook@wyotech.edu \, (307) 350-1205
URL:https://laramieevents.com/event/wyotech-trunk-or-treat-2/
ATTACH;FMTTYPE=image/jpeg:https://laramieevents.com/wp-content/uploads/sites/3/2024/10/Capture-1.jpg
END:VEVENT
BEGIN:VEVENT
DTSTART;TZID=America/Denver:20241102T080000
DTEND;TZID=America/Denver:20241102T170000
DTSTAMP:20260425T103218
CREATED:20230928T013442Z
LAST-MODIFIED:20230928T013442Z
UID:10000693-1730534400-1730566800@laramieevents.com
SUMMARY:UW Art Museum Art Buffet
DESCRIPTION:From The Museum: \nJoin us Saturday\, Oct 7 at 10AM at the University of Wyoming Art Museum for Art Buffet – free and open to all ages! For the October session we’ll be viewing and discussing images of the Red Desert in the exhibition The New West and creating a torn paper landscape in the studio. Adults are required to stay with their children for the duration of the program. Email UWArtEd@uwyo.edu with questions. See you in Nov and Dec\, too! (the flier has more details)
URL:https://laramieevents.com/event/uw-art-museum-art-buffet/2024-11-02/
ATTACH;FMTTYPE=image/jpeg:https://laramieevents.com/wp-content/uploads/sites/3/2023/09/383202665_10101414543580642_4805707184644237173_n.jpg
END:VEVENT
BEGIN:VEVENT
DTSTART;TZID=America/Denver:20241102T140000
DTEND;TZID=America/Denver:20241102T153000
DTSTAMP:20260425T103218
CREATED:20241014T231252Z
LAST-MODIFIED:20241014T233026Z
UID:10003239-1730556000-1730561400@laramieevents.com
SUMMARY:Dia De Los Muertos Celebration
DESCRIPTION:Laramie Main Street is delighted to announce their inaugural Dia de Los Muertos event. Dia de Los Muertos\, also known as the Day of the Dead\, is a Mexican holiday that dates back 3\,000 years and honors the souls of deceased loved ones with food\, drink\, and celebration.  \nAna Castro\, the Program Coordinator for Laramie Main Street Alliance\, emphasizes the importance of this event for Downtown Laramie\, stating\, “The idea for this new event came from Main Street’s goal to bring more culturally relevant programming to the community. We wanted to find ways to connect Downtown with the people who live here but aren’t always visible–Laramie’s Downtown belongs to everyone!”  \nOn November 2nd\, from 12-4pm\, Laramie Main Street welcomes families and anyone who wants to celebrate or learn more about Dia de Los Muertos to Downtown Laramie. The downtown area between 1st and 2nd Street on Grand Ave. will be filled with festivities for all to enjoy and appreciate the holiday.  \nDia de Los Muertos Laramie will feature meaningful ofrendas (beautifully crafted altars in remembrance of our dead)\, a vibrant mariachi band\, fun arts and crafts\, street vendors\, and more. The movie Coco will also be shown the following day\, November 3rd\, at the Gryphon Theater. Doors will open at 2:30 pm with the movie starting at 3:00 pm.  \nLaramie Main Street is extremely grateful to hold this event and appreciates everyone who has lended a helping hand of support. Ana Castro highlights her gratitude\, saying\, “The overwhelming support from our community for this event has been truly heartwarming! With so many moving parts\, none of this would be possible without the contributions of our sponsors\, partners\, and dedicated volunteers. We are in awe of our community and cannot wait for everyone to experience this event!” 
URL:https://laramieevents.com/event/dia-de-los-muertos-celebration/
ATTACH;FMTTYPE=image/png:https://laramieevents.com/wp-content/uploads/sites/3/2024/10/Capture.png
END:VEVENT
BEGIN:VEVENT
DTSTART;TZID=America/Denver:20241102T170000
DTEND;TZID=America/Denver:20241102T170000
DTSTAMP:20260425T103218
CREATED:20241002T063006Z
LAST-MODIFIED:20241002T063006Z
UID:10003231-1730566800-1730566800@laramieevents.com
SUMMARY:Ladies night Out
DESCRIPTION:At the Albany County Fairgrounds Nov 2 at 5pm. \nLadies\, get ready for a Vegas themed party!!! We always have a great time at the Laramie Ladies Night Out and this year won’t be any different. Lots of great items to be won or bought\, Mully’s Meats will be catering and have a cash bar. If you bring a gift basket for our basket raffle you will be given a strip of raffle tickets for the raffle. last year ladies brought some amazing baskets (some valued over $300!!!) so there are some great baskets to be won. \nTickets at this link https://events.rmef.org/shop/laramie
URL:https://laramieevents.com/event/ladies-night-out/
ATTACH;FMTTYPE=image/jpeg:https://laramieevents.com/wp-content/uploads/sites/3/2024/10/459321027_933717915456140_7407919508456491260_n-scaled.jpg
END:VEVENT
BEGIN:VEVENT
DTSTART;TZID=America/Denver:20241103T143000
DTEND;TZID=America/Denver:20241103T170000
DTSTAMP:20260425T103218
CREATED:20241009T233412Z
LAST-MODIFIED:20241009T233412Z
UID:10003237-1730644200-1730653200@laramieevents.com
SUMMARY:Disney's "Coco" Movie Showing FREE At The Gryphon
DESCRIPTION:From the organizers: \nJoin us for this FREE family movie showing presented by Laramie Main Street’s Día de Muertos and the Gryphon Theatre!\nA boy named Miguel dreams of becoming a famous guitar player despite the misgivings of his close-knit family. When his lofty ambitions cause him to run afoul of a curse\, he must journey into the Land of the Dead to seek forgiveness from his ancestors.\nRun time is 109 minutes. Doors open at 2:30 PM
URL:https://laramieevents.com/event/disneys-coco-movie-showing-free-at-the-gryphon/
ATTACH;FMTTYPE=image/jpeg:https://laramieevents.com/wp-content/uploads/sites/3/2024/10/462368180_1066216785509325_656934362763950198_n-1.jpg
END:VEVENT
BEGIN:VEVENT
DTSTART;TZID=America/Denver:20241109T090000
DTEND;TZID=America/Denver:20241109T150000
DTSTAMP:20260425T103218
CREATED:20240927T154445Z
LAST-MODIFIED:20240927T154502Z
UID:10003225-1731142800-1731164400@laramieevents.com
SUMMARY:Eppson Center Holiday Bazaar
DESCRIPTION:The Eppson Center For Seniors will hold a holiday bazaar Nov 9th 9am to 3pm at the county fairgrounds. Along with some great holiday gifts for sale\, there will be food and drink for sale as well.
URL:https://laramieevents.com/event/eppson-center-holiday-bazaar/
ATTACH;FMTTYPE=image/jpeg:https://laramieevents.com/wp-content/uploads/sites/3/2024/09/Capture-1.jpg
END:VEVENT
BEGIN:VEVENT
DTSTART;TZID=America/Denver:20241109T173000
DTEND;TZID=America/Denver:20241109T220000
DTSTAMP:20260425T103218
CREATED:20241029T133838Z
LAST-MODIFIED:20241029T133838Z
UID:10003253-1731173400-1731189600@laramieevents.com
SUMMARY:Lady Plainsmen Soccer Bingo Fundraiser
DESCRIPTION:Support the LHS girls soccer game with a night of bingo… there will be prizes\, raffles and concessions. Its $25 per person with doors opening at 530\, games start at 630 and it happens at the Moose Lodge\, 409 S 3rd on Nov. 9th
URL:https://laramieevents.com/event/lady-plainsmen-soccer-bingo-fundraiser/
ATTACH;FMTTYPE=image/jpeg:https://laramieevents.com/wp-content/uploads/sites/3/2024/10/463977987_1073733551422048_4209576329855312271_n.jpg
END:VEVENT
BEGIN:VEVENT
DTSTART;TZID=America/Denver:20241113T180000
DTEND;TZID=America/Denver:20241113T210000
DTSTAMP:20260425T103218
CREATED:20241022T214324Z
LAST-MODIFIED:20241022T214324Z
UID:10003249-1731520800-1731531600@laramieevents.com
SUMMARY:First Responders Gratitude Banquet
DESCRIPTION:From the organizers: \nLaramie Range Ford is thrilled to be hosting our 3rd Annual Gratitude Banquet for First Responders\, Military Personnel\, Veterans\, Medical Workers and their families. We look forward to this opportunity to serve those who serve our community year round.\nCome enjoy an Italian style feast catered by our friend’s at Altitude Chophouse right here at the dealership\, Laramie Range Ford\, Nov. 13th 6 to 9pm\nPlease RSVP to L.Dia@laramierangeford.com by November 11th.\nOption 1: I’ll be there in person! Let us know how many people will be attending.\nOption 2: I’ll be picking up meals to go! Let us know how many meals you need and we’ll get them packaged for you.
URL:https://laramieevents.com/event/first-responders-gratitude-banquet/
ATTACH;FMTTYPE=image/jpeg:https://laramieevents.com/wp-content/uploads/sites/3/2024/10/Capture1111.jpg
END:VEVENT
BEGIN:VEVENT
DTSTART;TZID=America/Denver:20241114T190000
DTEND;TZID=America/Denver:20241114T203000
DTSTAMP:20260425T103218
CREATED:20241111T150642Z
LAST-MODIFIED:20241111T150642Z
UID:10003258-1731610800-1731616200@laramieevents.com
SUMMARY:Human Trafficking Awareness Training And Community Collaboration
DESCRIPTION:See the flier below for more info
URL:https://laramieevents.com/event/human-trafficking-awareness-training-and-community-collaboration/
ATTACH;FMTTYPE=image/png:https://laramieevents.com/wp-content/uploads/sites/3/2024/11/HT101-UW-24-FlyerASUW-2.png
END:VEVENT
BEGIN:VEVENT
DTSTART;VALUE=DATE:20241116
DTEND;VALUE=DATE:20241117
DTSTAMP:20260425T103218
CREATED:20241111T224902Z
LAST-MODIFIED:20241111T224902Z
UID:10003260-1731715200-1731801599@laramieevents.com
SUMMARY:Gymnastics Showcase
DESCRIPTION:See the flier below for more info. \n 
URL:https://laramieevents.com/event/gymnastics-showcase-2/
ATTACH;FMTTYPE=image/png:https://laramieevents.com/wp-content/uploads/sites/3/2024/11/Gym-Flyer.png
END:VEVENT
BEGIN:VEVENT
DTSTART;TZID=America/Denver:20241116T120000
DTEND;TZID=America/Denver:20241116T160000
DTSTAMP:20260425T103218
CREATED:20241003T022451Z
LAST-MODIFIED:20241003T022826Z
UID:10003232-1731758400-1731772800@laramieevents.com
SUMMARY:Home On The Range Animal Haven Family Fun Holiday Fair
DESCRIPTION:From the event organizers: \nA fun-filled day for families and friends. Enjoy crafts\, games\, discovery stations\, food\, coffee and more. First 100 kiddos will receive a special take home bag. Funding helps provide sanctuary for neglected\, abandoned\, and abused farm animals & the humans who interact with them \nGet tickets at this link
URL:https://laramieevents.com/event/home-on-the-range-animal-haven-family-fun-holiday-fair/
ATTACH;FMTTYPE=image/jpeg:https://laramieevents.com/wp-content/uploads/sites/3/2024/10/461267214_954001116768269_5582565489504991632_n.jpg
END:VEVENT
BEGIN:VEVENT
DTSTART;TZID=America/Denver:20241128T110000
DTEND;TZID=America/Denver:20241128T130000
DTSTAMP:20260425T103218
CREATED:20241120T032043Z
LAST-MODIFIED:20241120T032043Z
UID:10003261-1732791600-1732798800@laramieevents.com
SUMMARY:Laramie Community Thanksgiving Dinner
DESCRIPTION:From the organizers: \nThanksgiving is quickly approaching.  As you make your Thanksgiving plans\, please consider the Community Thanksgiving Dinner.  Come and dine in with members of the community\, zip through the curbside for a take out meal or call for a home delivered meal.  This is such an amazing annual tradition and this year is shaping up to be better then ever.  See the flier for times and more details. \n  \n \n 
URL:https://laramieevents.com/event/laramie-community-thanksgiving-dinner/
ATTACH;FMTTYPE=image/jpeg:https://laramieevents.com/wp-content/uploads/sites/3/2024/11/image0-1.jpeg
END:VEVENT
BEGIN:VEVENT
DTSTART;TZID=America/Denver:20241201T100000
DTEND;TZID=America/Denver:20241201T160000
DTSTAMP:20260425T103218
CREATED:20241121T025917Z
LAST-MODIFIED:20241121T025917Z
UID:10003263-1733047200-1733068800@laramieevents.com
SUMMARY:Holiday Artists Market
DESCRIPTION:From the organizers: \n\nWhere? North & South Gyms at the Laramie Plains Civic Center. Enter on Custer and Garfield Streets. Special thanks to our partners and sponsors\, which have allowed us to host (and expand!) this year’s market for its third year! Learn more with our profile link or by visiting lpccwy.org/artistmarket
URL:https://laramieevents.com/event/holiday-artists-market/
ATTACH;FMTTYPE=image/jpeg:https://laramieevents.com/wp-content/uploads/sites/3/2024/11/467828461_1101911088606561_1570682031089577419_n.jpg
END:VEVENT
END:VCALENDAR