BEGIN:VCALENDAR
VERSION:2.0
PRODID:-//Laramie Events - ECPv6.15.17.1//NONSGML v1.0//EN
CALSCALE:GREGORIAN
METHOD:PUBLISH
X-WR-CALNAME:Laramie Events
X-ORIGINAL-URL:https://laramieevents.com
X-WR-CALDESC:Events for Laramie Events
REFRESH-INTERVAL;VALUE=DURATION:PT1H
X-Robots-Tag:noindex
X-PUBLISHED-TTL:PT1H
BEGIN:VTIMEZONE
TZID:America/Denver
BEGIN:DAYLIGHT
TZOFFSETFROM:-0700
TZOFFSETTO:-0600
TZNAME:MDT
DTSTART:20250309T090000
END:DAYLIGHT
BEGIN:STANDARD
TZOFFSETFROM:-0600
TZOFFSETTO:-0700
TZNAME:MST
DTSTART:20251102T080000
END:STANDARD
BEGIN:DAYLIGHT
TZOFFSETFROM:-0700
TZOFFSETTO:-0600
TZNAME:MDT
DTSTART:20260308T090000
END:DAYLIGHT
BEGIN:STANDARD
TZOFFSETFROM:-0600
TZOFFSETTO:-0700
TZNAME:MST
DTSTART:20261101T080000
END:STANDARD
BEGIN:DAYLIGHT
TZOFFSETFROM:-0700
TZOFFSETTO:-0600
TZNAME:MDT
DTSTART:20270314T090000
END:DAYLIGHT
BEGIN:STANDARD
TZOFFSETFROM:-0600
TZOFFSETTO:-0700
TZNAME:MST
DTSTART:20271107T080000
END:STANDARD
END:VTIMEZONE
BEGIN:VEVENT
DTSTART;TZID=America/Denver:20260413T180000
DTEND;TZID=America/Denver:20260413T200000
DTSTAMP:20260423T172408
CREATED:20260413T134457Z
LAST-MODIFIED:20260413T135407Z
UID:10010132-1776103200-1776110400@laramieevents.com
SUMMARY:Veterans Talking To Veterans
DESCRIPTION:Its a group for veterans by veterans to support mental health and help them in their post military career. They meet Mondays 6 to 8pm at the American Legion in Laramie. They work through trauma\, PTSD and more. All veterans are welcome.  Email dmhljh@gmail.com for more info.
URL:https://laramieevents.com/event/veterans-talking-to-veterans/2026-04-13/
ATTACH;FMTTYPE=image/png:https://laramieevents.com/wp-content/uploads/sites/3/2026/04/IMG_20260413_073321-1.png
END:VEVENT
BEGIN:VEVENT
DTSTART;VALUE=DATE:20260413
DTEND;VALUE=DATE:20260414
DTSTAMP:20260423T172408
CREATED:20260212T143232Z
LAST-MODIFIED:20260212T143232Z
UID:10007892-1776038400-1776124799@laramieevents.com
SUMMARY:Weekly Yoga At The Centennial Public Library
DESCRIPTION:The Centennial Public Library will offer yoga twice a week with two different styles of yoga. Vinyasa flow 9 to 10am Mondays and Restorative/Yoga Nidra Thursdays 6 to 7pm. The classes will take place at the library and the suggested donation is $10 to $15 per class. See the flyer for more info on what each yoga class is.
URL:https://laramieevents.com/event/weekly-yoga-at-the-centennial-public-library/2026-04-13/
ATTACH;FMTTYPE=image/jpeg:https://laramieevents.com/wp-content/uploads/sites/3/2026/02/unnamed-2.jpg
END:VEVENT
BEGIN:VEVENT
DTSTART;TZID=America/Denver:20260412T163000
DTEND;TZID=America/Denver:20260412T180000
DTSTAMP:20260423T172408
CREATED:20250220T010050Z
LAST-MODIFIED:20250220T010050Z
UID:10003370-1776011400-1776016800@laramieevents.com
SUMMARY:Laramie Connections Free Sunday Dinner
DESCRIPTION:From the organizers:\n4:30 pm Sundays @ First Baptist Church\nEveryone is welcome to come and enjoy a hot meal Sunday evenings along with great company.  While regular meal offerings are closed on the weekends we are happy to step in and offer a free meal gathering. \nOur meal is provided by the Laramie Soup Kitchen\, Laramie Interfaith and Eppson Center being closed on the weekends.
URL:https://laramieevents.com/event/laramie-connections-free-sunday-dinner/2026-04-12/
ATTACH;FMTTYPE=image/png:https://laramieevents.com/wp-content/uploads/sites/3/2025/02/family-dinner-3407701_1280.png
END:VEVENT
BEGIN:VEVENT
DTSTART;TZID=America/Denver:20260411T130000
DTEND;TZID=America/Denver:20260411T140000
DTSTAMP:20260423T172408
CREATED:20260212T203649Z
LAST-MODIFIED:20260212T203649Z
UID:10008467-1775912400-1775916000@laramieevents.com
SUMMARY:Kids Lego Time At Albany Co. Public Library in Laramie
DESCRIPTION:From the event organizer: \nCalling all Lego builders! We provide the Legos\, you provide the imagination. Program for children in grades K-6th. Every Saturday 1-2pm in the Laramie Library’s Wyoming Room
URL:https://laramieevents.com/event/kids-lego-time-at-albany-co-public-library-in-laramie/2026-04-11/
END:VEVENT
BEGIN:VEVENT
DTSTART;TZID=America/Denver:20260411T110000
DTEND;TZID=America/Denver:20260411T140000
DTSTAMP:20260423T172408
CREATED:20260317T150333Z
LAST-MODIFIED:20260317T150333Z
UID:10009980-1775905200-1775916000@laramieevents.com
SUMMARY:Albany Co. Central SOUTH Station Open House\, Lunch And Silent Auction
DESCRIPTION:The fire station on Fort Sanders Road will hold an open house April 11th. It begins at 10am with classroom dedication followed by Lunch at 11am and the beginning of a silent auction. Email centralvfd_chief@albanycountyfd1.com if you have any questions.
URL:https://laramieevents.com/event/albany-co-central-south-station-open-house-lunch-and-silent-auction/
ATTACH;FMTTYPE=image/png:https://laramieevents.com/wp-content/uploads/sites/3/2026/03/Capture-1.png
END:VEVENT
BEGIN:VEVENT
DTSTART;TZID=America/Denver:20260411T090000
DTEND;TZID=America/Denver:20260411T150000
DTSTAMP:20260423T172408
CREATED:20260304T051340Z
LAST-MODIFIED:20260304T051340Z
UID:10009598-1775898000-1775919600@laramieevents.com
SUMMARY:Albany county 4H Spring Bazaar
DESCRIPTION:April 11th at the county fairgrounds from 9 to 3pm. \nIf you want to be a vendor email Albany4HBazaar@gmail.com
URL:https://laramieevents.com/event/albany-county-4h-spring-bazaar/
ATTACH;FMTTYPE=image/jpeg:https://laramieevents.com/wp-content/uploads/sites/3/2026/03/646267297_25898888686444703_2468988197542902465_n.jpg
END:VEVENT
BEGIN:VEVENT
DTSTART;VALUE=DATE:20260411
DTEND;VALUE=DATE:20260412
DTSTAMP:20260423T172408
CREATED:20260314T154020Z
LAST-MODIFIED:20260314T154020Z
UID:10009978-1775865600-1775951999@laramieevents.com
SUMMARY:Chancey Williams' "White Trash Bash
DESCRIPTION:Saturday April 11th at The Cowboy in Laramie \nGet tickets at this link
URL:https://laramieevents.com/event/chancey-williams-white-trash-bash-2/
ATTACH;FMTTYPE=image/png:https://laramieevents.com/wp-content/uploads/sites/3/2026/03/Screenshot-2026-03-14-093758-scaled.png
END:VEVENT
BEGIN:VEVENT
DTSTART;TZID=America/Denver:20260409T180000
DTEND;TZID=America/Denver:20260409T190000
DTSTAMP:20260423T172408
CREATED:20260212T210608Z
LAST-MODIFIED:20260212T210608Z
UID:10009152-1775757600-1775761200@laramieevents.com
SUMMARY:Murder Club: A True Crime Book Club
DESCRIPTION:From the organizers: \nThe books are available at the circulation desk at the Laramie Library \nMurder Club is meeting in person at the Laramie Branch of the library the 2nd and 4th Thursdays of the month . \nFor more information or if you would like to join us\, email Bailey @ bmurray@acplwy.org \nA book club for fans of Serial\, My Favorite Murder\, and Forensic Files – each month we’ll delve into infamous murders\, serial killers\, and other true crime topics.
URL:https://laramieevents.com/event/murder-club-a-true-crime-book-club/2026-04-09/
ATTACH;FMTTYPE=image/jpeg:https://laramieevents.com/wp-content/uploads/sites/3/2026/02/jarmoluk-old-books-436498_1280.jpg
END:VEVENT
BEGIN:VEVENT
DTSTART;TZID=America/Denver:20260409T140000
DTEND;TZID=America/Denver:20260409T150000
DTSTAMP:20260423T172408
CREATED:20260212T205459Z
LAST-MODIFIED:20260212T205459Z
UID:10009091-1775743200-1775746800@laramieevents.com
SUMMARY:Read With A Ranger
DESCRIPTION:From the library: \n\n\n\n\n\n\nWyoming State Parks\, in partnership with the Albany County Public Library\, presents Read with a Ranger! Stories\, activities\, snacks\, science\, history\, nature. Hosted at ACPL in Laramie. Programs oriented to children in grades K-5 the 2nd and 5th Thursdays of the month 2 to 3pm for kids in grades K through 5
URL:https://laramieevents.com/event/read-with-a-ranger/2026-04-09/
ATTACH;FMTTYPE=image/jpeg:https://laramieevents.com/wp-content/uploads/sites/3/2026/02/communication-76-books-2816681_1280.jpg
END:VEVENT
BEGIN:VEVENT
DTSTART;VALUE=DATE:20260409
DTEND;VALUE=DATE:20260410
DTSTAMP:20260423T172408
CREATED:20260212T143232Z
LAST-MODIFIED:20260212T143232Z
UID:10007891-1775692800-1775779199@laramieevents.com
SUMMARY:Weekly Yoga At The Centennial Public Library
DESCRIPTION:The Centennial Public Library will offer yoga twice a week with two different styles of yoga. Vinyasa flow 9 to 10am Mondays and Restorative/Yoga Nidra Thursdays 6 to 7pm. The classes will take place at the library and the suggested donation is $10 to $15 per class. See the flyer for more info on what each yoga class is.
URL:https://laramieevents.com/event/weekly-yoga-at-the-centennial-public-library/2026-04-09/
ATTACH;FMTTYPE=image/jpeg:https://laramieevents.com/wp-content/uploads/sites/3/2026/02/unnamed-2.jpg
END:VEVENT
BEGIN:VEVENT
DTSTART;TZID=America/Denver:20260407T190000
DTEND;TZID=America/Denver:20260407T200000
DTSTAMP:20260423T172408
CREATED:20260206T223110Z
LAST-MODIFIED:20260206T223110Z
UID:10007804-1775588400-1775592000@laramieevents.com
SUMMARY:Girl Scouts 101 - Caregiver Info Meeting!
DESCRIPTION:Get to Know Girl Scouts at our Info Night!Meet us on Zoom to get all your questions answered!\n\nRight now\, Girl Scouts are meeting furry friends at their local animal shelters\, giggling past lights-out at sleepovers\, and learning how their favorite roller coasters work. Above all else\, they’re having a blast—because they know bringing the fun is all about being their true selves\, trying new things\, and cheering each other on. Get ready to join the crew and bring a bit more happy to your life!\n\nGirl Scouts empowers girls to build confidence\, character\, and leadership through hands-on programs in life skills\, outdoor adventure\, entrepreneurship\, and STEM. Girls also have opportunities for community service\, faith-based growth through the P.R.A.Y. program\, and experiences that prepare them to make a positive impact in the world.\n\nGET THE LINK HERE:https://www.gsmw.org/…/get-the-scoop-on-girl-scouts.html
URL:https://laramieevents.com/event/girl-scouts-101-caregiver-info-meeting/2026-04-07/
CATEGORIES:Family
ATTACH;FMTTYPE=image/png:https://laramieevents.com/wp-content/uploads/sites/3/2026/02/Virtual_April.png
ORGANIZER;CN="Girl Scouts of Montana &amp%3B Wyoming":MAILTO:amyi@gsmw.org
END:VEVENT
BEGIN:VEVENT
DTSTART;TZID=America/Denver:20260406T080000
DTEND;TZID=America/Denver:20260406T170000
DTSTAMP:20260423T172408
CREATED:20260406T143728Z
LAST-MODIFIED:20260406T143728Z
UID:10010012-1775462400-1775494800@laramieevents.com
SUMMARY:Laramie Womans Club "Art\, Wine And Cheese Scholarship" Fundraiser
DESCRIPTION:You’re invited to this classy\, fun event for art\, wine and cheese while getting to view and purchase the wares of local artists\, crafters\, and authors. See the flyer for more info. \n \n 
URL:https://laramieevents.com/event/laramie-womans-club-art-wine-and-cheese-scholarship-fundraiser/
ATTACH;FMTTYPE=image/jpeg:https://laramieevents.com/wp-content/uploads/sites/3/2026/04/GFWC_page-0001-scaled.jpg
END:VEVENT
BEGIN:VEVENT
DTSTART;VALUE=DATE:20260406
DTEND;VALUE=DATE:20260407
DTSTAMP:20260423T172408
CREATED:20260212T143232Z
LAST-MODIFIED:20260212T143232Z
UID:10007890-1775433600-1775519999@laramieevents.com
SUMMARY:Weekly Yoga At The Centennial Public Library
DESCRIPTION:The Centennial Public Library will offer yoga twice a week with two different styles of yoga. Vinyasa flow 9 to 10am Mondays and Restorative/Yoga Nidra Thursdays 6 to 7pm. The classes will take place at the library and the suggested donation is $10 to $15 per class. See the flyer for more info on what each yoga class is.
URL:https://laramieevents.com/event/weekly-yoga-at-the-centennial-public-library/2026-04-06/
ATTACH;FMTTYPE=image/jpeg:https://laramieevents.com/wp-content/uploads/sites/3/2026/02/unnamed-2.jpg
END:VEVENT
BEGIN:VEVENT
DTSTART;TZID=America/Denver:20260405T163000
DTEND;TZID=America/Denver:20260405T180000
DTSTAMP:20260423T172408
CREATED:20250220T010050Z
LAST-MODIFIED:20250220T010050Z
UID:10003369-1775406600-1775412000@laramieevents.com
SUMMARY:Laramie Connections Free Sunday Dinner
DESCRIPTION:From the organizers:\n4:30 pm Sundays @ First Baptist Church\nEveryone is welcome to come and enjoy a hot meal Sunday evenings along with great company.  While regular meal offerings are closed on the weekends we are happy to step in and offer a free meal gathering. \nOur meal is provided by the Laramie Soup Kitchen\, Laramie Interfaith and Eppson Center being closed on the weekends.
URL:https://laramieevents.com/event/laramie-connections-free-sunday-dinner/2026-04-05/
ATTACH;FMTTYPE=image/png:https://laramieevents.com/wp-content/uploads/sites/3/2025/02/family-dinner-3407701_1280.png
END:VEVENT
BEGIN:VEVENT
DTSTART;TZID=America/Denver:20260404T130000
DTEND;TZID=America/Denver:20260404T140000
DTSTAMP:20260423T172408
CREATED:20260212T203649Z
LAST-MODIFIED:20260212T203649Z
UID:10008466-1775307600-1775311200@laramieevents.com
SUMMARY:Kids Lego Time At Albany Co. Public Library in Laramie
DESCRIPTION:From the event organizer: \nCalling all Lego builders! We provide the Legos\, you provide the imagination. Program for children in grades K-6th. Every Saturday 1-2pm in the Laramie Library’s Wyoming Room
URL:https://laramieevents.com/event/kids-lego-time-at-albany-co-public-library-in-laramie/2026-04-04/
END:VEVENT
BEGIN:VEVENT
DTSTART;TZID=America/Denver:20260404T100000
DTEND;TZID=America/Denver:20260404T110000
DTSTAMP:20260423T172408
CREATED:20260331T120808Z
LAST-MODIFIED:20260331T120808Z
UID:10009987-1775296800-1775300400@laramieevents.com
SUMMARY:Annual Kiwanis Club Easter Egg Hunt
DESCRIPTION:17th Annual Easter Egg Hunt Saturday\, April 4th.  It will be at Kiwanis Park in West Laramie.  The hunt starts promptly at 10:00 a.m.
URL:https://laramieevents.com/event/annual-kiwanis-club-easter-egg-hunt-2/
LOCATION:Kiwanis Park\, 150 N. Grant Street\, Laramie\, WY\, 82070\, United States
CATEGORIES:Family
ATTACH;FMTTYPE=image/jpeg:https://laramieevents.com/wp-content/uploads/sites/3/2026/03/Easter-Egg-Hunt-Boomerang-Ad-03282026.jpg
ORGANIZER;CN="Laramie Kiwanis Club":MAILTO:buzzard011@hotmail.com
END:VEVENT
BEGIN:VEVENT
DTSTART;TZID=America/Denver:20260404T080000
DTEND;TZID=America/Denver:20260404T100000
DTSTAMP:20260423T172408
CREATED:20260212T144025Z
LAST-MODIFIED:20260212T144025Z
UID:10008399-1775289600-1775296800@laramieevents.com
SUMMARY:Centennial Mens Breakfast
DESCRIPTION:The first Saturday of every month— Men’s Breakfast\nOld Corral @ 8 AM.\nAll valley men welcome
URL:https://laramieevents.com/event/centennial-mens-breakfast/2026-04-04/
ATTACH;FMTTYPE=image/jpeg:https://laramieevents.com/wp-content/uploads/sites/3/2026/02/jhenning-breakfast-8200753_1280.jpg
END:VEVENT
BEGIN:VEVENT
DTSTART;TZID=America/Denver:20260402T190000
DTEND;TZID=America/Denver:20260402T210000
DTSTAMP:20260423T172408
CREATED:20260130T014954Z
LAST-MODIFIED:20260130T014954Z
UID:10007792-1775156400-1775163600@laramieevents.com
SUMMARY:Open Jam Night at the Gryphon Theatre
DESCRIPTION:Calling all musicians for open jams at the Gryphon Theatre. \nBring an instrument. Full stage lights and sound. Drums and amps provided. \nIn partnership with UWYO Music Production Club. \n7:00 pm on the first Thursday of the month.
URL:https://laramieevents.com/event/open-jam-night-at-the-gryphon-theatre/2026-04-02/
LOCATION:Gryphon Theatre\, 710 E Garfield St Studio #333\, Laramie\, WY\, 82070\, United States
CATEGORIES:Live Music
ATTACH;FMTTYPE=image/png:https://laramieevents.com/wp-content/uploads/sites/3/2026/01/Open-Jams-Poster-OFF-CAMPUS-NO-QR.png
END:VEVENT
BEGIN:VEVENT
DTSTART;TZID=America/Denver:20260402T170000
DTEND;TZID=America/Denver:20260402T190000
DTSTAMP:20260423T172408
CREATED:20260310T134516Z
LAST-MODIFIED:20260310T134516Z
UID:10009973-1775149200-1775156400@laramieevents.com
SUMMARY:ACSD #1s Dual Language Immersion Program Informational Meeting And Lottery
DESCRIPTION:The ACSD#1 Dual Language Immersion Program\, DLI\, is a bilingual program where two languages are used for instruction\, English and Spanish. Students entering kindergarten are eligible to participate in the program. Students selected for the program will attend school where the program is located\, Slade Elementary. For more information regarding the selection process and the program\, please refer to the information below.\n\n \n\nHow does the lottery process work:\n\n \n\n 	Attend the informational meeting:\n\n 	April 2nd\, 2026\, 6PM\, Slade Elementary School\n\n\n \n 	Fill out the application that is linked below. Applications are due by 2PM on April 10th.\n\n 	Click here to complete the application.\n\n\n \n 	Students will be selected using a lottery system on April 13th.\n \n 	Parents/guardians of selected students will be contacted by Slade for further details following the completion of the lottery selection.\n\n \n\nMore information:\nInformational Flyer – English\nInformational Flyer – Spanish
URL:https://laramieevents.com/event/acsd-1s-dual-language-immersion-program-informational-meeting-and-lottery/
ATTACH;FMTTYPE=image/png:https://laramieevents.com/wp-content/uploads/sites/3/2026/03/download.png
END:VEVENT
BEGIN:VEVENT
DTSTART;TZID=America/Denver:20260402T110000
DTEND;TZID=America/Denver:20260402T133000
DTSTAMP:20260423T172408
CREATED:20260327T143833Z
LAST-MODIFIED:20260330T131718Z
UID:10009983-1775127600-1775136600@laramieevents.com
SUMMARY:Laramie Volunteer Fair
DESCRIPTION:Laramie Young Professionals will hold their Volunteer Fair April 2nd 11-2 in the Civic Center that aims to connect anyone\, not just LYP’s to their favorite non profit Abut 30 non profits will be on display.
URL:https://laramieevents.com/event/laramie-volunteer-fair/
END:VEVENT
BEGIN:VEVENT
DTSTART;VALUE=DATE:20260402
DTEND;VALUE=DATE:20260403
DTSTAMP:20260423T172408
CREATED:20260212T143232Z
LAST-MODIFIED:20260212T143232Z
UID:10007889-1775088000-1775174399@laramieevents.com
SUMMARY:Weekly Yoga At The Centennial Public Library
DESCRIPTION:The Centennial Public Library will offer yoga twice a week with two different styles of yoga. Vinyasa flow 9 to 10am Mondays and Restorative/Yoga Nidra Thursdays 6 to 7pm. The classes will take place at the library and the suggested donation is $10 to $15 per class. See the flyer for more info on what each yoga class is.
URL:https://laramieevents.com/event/weekly-yoga-at-the-centennial-public-library/2026-04-02/
ATTACH;FMTTYPE=image/jpeg:https://laramieevents.com/wp-content/uploads/sites/3/2026/02/unnamed-2.jpg
END:VEVENT
BEGIN:VEVENT
DTSTART;TZID=America/Denver:20260401T170000
DTEND;TZID=America/Denver:20260401T183000
DTSTAMP:20260423T172408
CREATED:20260211T193640Z
LAST-MODIFIED:20260211T193640Z
UID:10007815-1775062800-1775068200@laramieevents.com
SUMMARY:Cancer Crusaders Club
DESCRIPTION:From Ivinson Memorial Hospital \nWe are tackling cancer together. Anyone whose life has been touched by cancer is invited. We meet the first Wednesday of every month at 5:15 PM. You can join us virtually via Zoom or in person at the Cancer Center Education Room. For directions or Zoom link\, please contact Cindy Garnich: (307) 755-4464
URL:https://laramieevents.com/event/cancer-crusaders-club/2026-04-01/
ATTACH;FMTTYPE=image/png:https://laramieevents.com/wp-content/uploads/sites/3/2026/02/htchnm-awareness-5730258_1280.png
END:VEVENT
BEGIN:VEVENT
DTSTART;VALUE=DATE:20260330
DTEND;VALUE=DATE:20260331
DTSTAMP:20260423T172408
CREATED:20260212T143232Z
LAST-MODIFIED:20260212T143232Z
UID:10007888-1774828800-1774915199@laramieevents.com
SUMMARY:Weekly Yoga At The Centennial Public Library
DESCRIPTION:The Centennial Public Library will offer yoga twice a week with two different styles of yoga. Vinyasa flow 9 to 10am Mondays and Restorative/Yoga Nidra Thursdays 6 to 7pm. The classes will take place at the library and the suggested donation is $10 to $15 per class. See the flyer for more info on what each yoga class is.
URL:https://laramieevents.com/event/weekly-yoga-at-the-centennial-public-library/2026-03-30/
ATTACH;FMTTYPE=image/jpeg:https://laramieevents.com/wp-content/uploads/sites/3/2026/02/unnamed-2.jpg
END:VEVENT
BEGIN:VEVENT
DTSTART;TZID=America/Denver:20260329T183000
DTEND;TZID=America/Denver:20260329T210000
DTSTAMP:20260423T172408
CREATED:20260130T015032Z
LAST-MODIFIED:20260130T015032Z
UID:10007796-1774809000-1774818000@laramieevents.com
SUMMARY:Teenage Bottlerocket
DESCRIPTION:Doors: 5:30 pm \nShow: 6:30 pm \nTEENAGE BOTTLEROCKET \n-Ready to Roll \nRay Carlisle-vocals/guitar // Kody Templeman-vocals/guitar \nMiguel Chen-bass/vocals // Darren Chewka-drums/vocals \nTeenage Bottlerocket have always been about the essentials: fast songs\, fun shows\, and friends who feel more like family. With their new album Ready to Roll\, dropping this September on Pirates Press Records\, they’re leaning harder than ever into the punk rock values that started it all—no gimmicks\, no agenda\, just straight-up energy\, melody\, and mayhem.
URL:https://laramieevents.com/event/teenage-bottlerocket/
LOCATION:Gryphon Theatre\, 710 E Garfield St Studio #333\, Laramie\, WY\, 82070\, United States
CATEGORIES:Live Music
ATTACH;FMTTYPE=image/jpeg:https://laramieevents.com/wp-content/uploads/sites/3/2026/01/TBR4X5.jpg
END:VEVENT
BEGIN:VEVENT
DTSTART;TZID=America/Denver:20260329T163000
DTEND;TZID=America/Denver:20260329T180000
DTSTAMP:20260423T172408
CREATED:20250220T010050Z
LAST-MODIFIED:20250220T010050Z
UID:10003368-1774801800-1774807200@laramieevents.com
SUMMARY:Laramie Connections Free Sunday Dinner
DESCRIPTION:From the organizers:\n4:30 pm Sundays @ First Baptist Church\nEveryone is welcome to come and enjoy a hot meal Sunday evenings along with great company.  While regular meal offerings are closed on the weekends we are happy to step in and offer a free meal gathering. \nOur meal is provided by the Laramie Soup Kitchen\, Laramie Interfaith and Eppson Center being closed on the weekends.
URL:https://laramieevents.com/event/laramie-connections-free-sunday-dinner/2026-03-29/
ATTACH;FMTTYPE=image/png:https://laramieevents.com/wp-content/uploads/sites/3/2025/02/family-dinner-3407701_1280.png
END:VEVENT
BEGIN:VEVENT
DTSTART;TZID=America/Denver:20260328T130000
DTEND;TZID=America/Denver:20260328T140000
DTSTAMP:20260423T172408
CREATED:20260212T203649Z
LAST-MODIFIED:20260212T203649Z
UID:10008465-1774702800-1774706400@laramieevents.com
SUMMARY:Kids Lego Time At Albany Co. Public Library in Laramie
DESCRIPTION:From the event organizer: \nCalling all Lego builders! We provide the Legos\, you provide the imagination. Program for children in grades K-6th. Every Saturday 1-2pm in the Laramie Library’s Wyoming Room
URL:https://laramieevents.com/event/kids-lego-time-at-albany-co-public-library-in-laramie/2026-03-28/
END:VEVENT
BEGIN:VEVENT
DTSTART;TZID=America/Denver:20260327T200000
DTEND;TZID=America/Denver:20260327T230000
DTSTAMP:20260423T172408
CREATED:20260219T213313Z
LAST-MODIFIED:20260219T220116Z
UID:10009214-1774641600-1774652400@laramieevents.com
SUMMARY:3rd Annual Battle of the Bands
DESCRIPTION:Doors: 7:00 pm \nShow: 8:00 pm \nCome to the Gryphon Theatre on Friday\, March 27th\, for Laramie’s Battle of the Bands! Bands from around the area take their turn rocking the stage and battling for your praise. The Golden Gryphon and a slot at WhatFest 2026 are on the line. Who will win? \nShow your support for our up-and-coming musicians in the area and cheer them on as they go into battle!
URL:https://laramieevents.com/event/3rd-annual-battle-of-the-bands/
LOCATION:Gryphon Theatre\, 710 E Garfield St Studio #333\, Laramie\, WY\, 82070\, United States
CATEGORIES:Live Music
ATTACH;FMTTYPE=image/png:https://laramieevents.com/wp-content/uploads/sites/3/2026/02/image000001-1.png
END:VEVENT
BEGIN:VEVENT
DTSTART;TZID=America/Denver:20260327T183000
DTEND;TZID=America/Denver:20260327T213000
DTSTAMP:20260423T172408
CREATED:20260305T153844Z
LAST-MODIFIED:20260305T153844Z
UID:10009599-1774636200-1774647000@laramieevents.com
SUMMARY:The Wild and Working Lands Film Festival
DESCRIPTION:The Wild and Working Lands Film Festival brings the university campus and community together to better understand our current world and work toward a future where people and natural environments prosper together.Discover films inspired by our surrounding ecoregion – including wild\, rural\, and urban areas of the Great Plains\, Rocky Mountains\, and high-desert sagebrush steppe – as well as stories from afar that can inform our experience in the American West. Thursday\, March 26th at the Gryphon Theatre Doors: 6:30PM | Films: 7PM Free and open to the publicLearn more at https://www.uwyo.edu/haub/events/film-festival
URL:https://laramieevents.com/event/the-wild-and-working-lands-film-festival-2/
ATTACH;FMTTYPE=image/jpeg:https://laramieevents.com/wp-content/uploads/sites/3/2026/03/628187871_1509900777575143_4327805018661370603_n.jpg
END:VEVENT
BEGIN:VEVENT
DTSTART;TZID=America/Denver:20260326T063000
DTEND;TZID=America/Denver:20260326T220000
DTSTAMP:20260423T172408
CREATED:20260206T210407Z
LAST-MODIFIED:20260206T210407Z
UID:10007809-1774506600-1774562400@laramieevents.com
SUMMARY:The Wild And Working Lands Film Festival
DESCRIPTION:The Wild and Working Lands Film Festival brings the university campus and community together to better understand our current world and work toward a future where people and natural environments prosper together. We invite you to be part of this inspiring event.\n\n\nJoin us on Thursday\, March 26in the Gryphon Theatre\nDoors at 6:30\, films at 7:00 p.m.\n\n\nFree and open to the public.\n\n\nLearn more at https://www.uwyo.edu/haub/events/film-festival/index.html
URL:https://laramieevents.com/event/the-wild-and-working-lands-film-festival/
ATTACH;FMTTYPE=image/jpeg:https://laramieevents.com/wp-content/uploads/sites/3/2026/02/628187871_1509900777575143_4327805018661370603_n.jpg
END:VEVENT
BEGIN:VEVENT
DTSTART;VALUE=DATE:20260326
DTEND;VALUE=DATE:20260327
DTSTAMP:20260423T172408
CREATED:20260212T143232Z
LAST-MODIFIED:20260212T143232Z
UID:10007887-1774483200-1774569599@laramieevents.com
SUMMARY:Weekly Yoga At The Centennial Public Library
DESCRIPTION:The Centennial Public Library will offer yoga twice a week with two different styles of yoga. Vinyasa flow 9 to 10am Mondays and Restorative/Yoga Nidra Thursdays 6 to 7pm. The classes will take place at the library and the suggested donation is $10 to $15 per class. See the flyer for more info on what each yoga class is.
URL:https://laramieevents.com/event/weekly-yoga-at-the-centennial-public-library/2026-03-26/
ATTACH;FMTTYPE=image/jpeg:https://laramieevents.com/wp-content/uploads/sites/3/2026/02/unnamed-2.jpg
END:VEVENT
END:VCALENDAR