BEGIN:VCALENDAR
VERSION:2.0
PRODID:-//Laramie Events - ECPv6.15.17.1//NONSGML v1.0//EN
CALSCALE:GREGORIAN
METHOD:PUBLISH
X-WR-CALNAME:Laramie Events
X-ORIGINAL-URL:https://laramieevents.com
X-WR-CALDESC:Events for Laramie Events
REFRESH-INTERVAL;VALUE=DURATION:PT1H
X-Robots-Tag:noindex
X-PUBLISHED-TTL:PT1H
BEGIN:VTIMEZONE
TZID:America/Denver
BEGIN:DAYLIGHT
TZOFFSETFROM:-0700
TZOFFSETTO:-0600
TZNAME:MDT
DTSTART:20230312T090000
END:DAYLIGHT
BEGIN:STANDARD
TZOFFSETFROM:-0600
TZOFFSETTO:-0700
TZNAME:MST
DTSTART:20231105T080000
END:STANDARD
BEGIN:DAYLIGHT
TZOFFSETFROM:-0700
TZOFFSETTO:-0600
TZNAME:MDT
DTSTART:20240310T090000
END:DAYLIGHT
BEGIN:STANDARD
TZOFFSETFROM:-0600
TZOFFSETTO:-0700
TZNAME:MST
DTSTART:20241103T080000
END:STANDARD
BEGIN:DAYLIGHT
TZOFFSETFROM:-0700
TZOFFSETTO:-0600
TZNAME:MDT
DTSTART:20250309T090000
END:DAYLIGHT
BEGIN:STANDARD
TZOFFSETFROM:-0600
TZOFFSETTO:-0700
TZNAME:MST
DTSTART:20251102T080000
END:STANDARD
END:VTIMEZONE
BEGIN:VEVENT
DTSTART;VALUE=DATE:20240715
DTEND;VALUE=DATE:20240719
DTSTAMP:20260425T173017
CREATED:20240519T004922Z
LAST-MODIFIED:20240519T004922Z
UID:10002231-1721001600-1721347199@laramieevents.com
SUMMARY:Albany County First Responder Youth Camp!!
DESCRIPTION:From the event organizer: \n\nAlbany County Emergency Management Agency and Albany County Fire District #1 has teamed up to host the first ever Albany County First Responder Youth Camp!!\n\n\nTo learn what it takes to become a first responder in Albany County\, join us July 15th to 18th. Ages 8-18 are invited to participate.\n\n\nRegistration is limited to 100 students. Acceptance will be on a first come first serve basis.\n\n\nRegister here: https://forms.gle/wMpon394FZfyUYPB9\n\n\nEmail acyouthcamp@gmail.com or call/text 307-314-9736 with any questions!
URL:https://laramieevents.com/event/albany-county-first-responder-youth-camp/
ATTACH;FMTTYPE=image/jpeg:https://laramieevents.com/wp-content/uploads/sites/3/2024/05/444753634_122095505684331134_5950249486795728093_n.jpg
END:VEVENT
BEGIN:VEVENT
DTSTART;TZID=America/Denver:20240713T110000
DTEND;TZID=America/Denver:20240713T180000
DTSTAMP:20260425T173017
CREATED:20240705T174136Z
LAST-MODIFIED:20240705T174136Z
UID:10003176-1720868400-1720893600@laramieevents.com
SUMMARY:Laramie Brewfest
DESCRIPTION:From the event organizers: \nWe’d love to see you at Brewfest\, our largest annual fundraiser. You’ll have a great time sipping beers\, listening to music and hanging with friends. Get your tickets ahead of time and be ready to go on July 13th! \nPRESALE PRICING:\nVIP ADMISSION: 11:30 am – 6:00 pm | $55 **almost sold out**\nGENERAL ADMISSION: 1:30 pm – 6:00 pm | $45 \n  \nTickets and more info here at this link
URL:https://laramieevents.com/event/laramie-brewfest/
ATTACH;FMTTYPE=image/png:https://laramieevents.com/wp-content/uploads/sites/3/2024/07/IMG_9189.png
END:VEVENT
BEGIN:VEVENT
DTSTART;TZID=America/Denver:20240709T150000
DTEND;TZID=America/Denver:20240709T190000
DTSTAMP:20260425T173017
CREATED:20240522T014426Z
LAST-MODIFIED:20240522T161253Z
UID:10002236-1720537200-1720551600@laramieevents.com
SUMMARY:Tuesday Farmers Markets
DESCRIPTION:Fresh local produce\, food\, crafts\, music and fun every Tuesday 3 to 7pm at Undine Park\, 7th & Ord in Laramie \nLearn more on their facebook page at this link  \nand check out their website at this link \n 
URL:https://laramieevents.com/event/tuesday-farmers-markets/2024-07-09/
ATTACH;FMTTYPE=image/jpeg:https://laramieevents.com/wp-content/uploads/sites/3/2024/05/tlm-carrot.jpg
END:VEVENT
BEGIN:VEVENT
DTSTART;TZID=America/Denver:20240706T080000
DTEND;TZID=America/Denver:20240706T170000
DTSTAMP:20260425T173017
CREATED:20230928T013442Z
LAST-MODIFIED:20230928T013442Z
UID:10000689-1720252800-1720285200@laramieevents.com
SUMMARY:UW Art Museum Art Buffet
DESCRIPTION:From The Museum: \nJoin us Saturday\, Oct 7 at 10AM at the University of Wyoming Art Museum for Art Buffet – free and open to all ages! For the October session we’ll be viewing and discussing images of the Red Desert in the exhibition The New West and creating a torn paper landscape in the studio. Adults are required to stay with their children for the duration of the program. Email UWArtEd@uwyo.edu with questions. See you in Nov and Dec\, too! (the flier has more details)
URL:https://laramieevents.com/event/uw-art-museum-art-buffet/2024-07-06/
ATTACH;FMTTYPE=image/jpeg:https://laramieevents.com/wp-content/uploads/sites/3/2023/09/383202665_10101414543580642_4805707184644237173_n.jpg
END:VEVENT
BEGIN:VEVENT
DTSTART;TZID=America/Denver:20240704T220000
DTEND;TZID=America/Denver:20240704T223000
DTSTAMP:20260425T173017
CREATED:20240701T041547Z
LAST-MODIFIED:20240701T041547Z
UID:10003175-1720130400-1720132200@laramieevents.com
SUMMARY:Fire in the Sky Presented by WyoTech
DESCRIPTION:This incredible fireworks display consists of over 300 aerial shells\, ranging in diameter from three to eight inches. The show is an Independence Day blast (pun intended) that’s sure to impress. Fireworks begin at approximately 10 p.m. at Harney and 22nd Street. \nTune your radio to Hits 106 to hear the soundtrack that goes with the fireworks show.  Please note that streaming audio is delayed so the best listening experience will be live over the air broadcast. \nThe City of Laramie partners with WyoTech to bring this exciting fireworks show to the community. In addition to sponsorship\, WyoTech students and staff volunteer their time to help make the event big and bright for all. From cleanup after the show to participating in the 4th of July festivities\, it’s a great way for WyoTech students to connect with the Laramie community. \nTo enjoy the 4th of July to the fullest while still respecting residential neighborhoods\, the City reminds eventgoers to follow event parking guidelines. As you plan and prepare for the day\, note where you should park for Freedom Has a Birthday and Fire in the Sky. 22nd Street from Harney to Willet will be closed during the show\, as well as Harney from Television Road to 22nd\, Armory Road from 30th to 22nd\, and Television Road from Harney to Armory. The City recommends Kiowa Park\, Scout Park\, Washington Park\, and LaPrele Park as some of the better viewing areas in town.
URL:https://laramieevents.com/event/fire-in-the-sky-presented-by-wyotech/
ATTACH;FMTTYPE=image/png:https://laramieevents.com/wp-content/uploads/sites/3/2024/06/fireworks.png
END:VEVENT
BEGIN:VEVENT
DTSTART;TZID=America/Denver:20240704T180000
DTEND;TZID=America/Denver:20240705T060000
DTSTAMP:20260425T173017
CREATED:20240630T013526Z
LAST-MODIFIED:20240630T013526Z
UID:10003174-1720116000-1720159200@laramieevents.com
SUMMARY:Free Rides Around Town July 4th
DESCRIPTION:from the organizers: \nSnowy Range Taxi will be providing 100% FREE rides to the community of Laramie all night long on Thursday\, July 4th in honor of Independence Day!\n\nTips are appreciated but in NO way required. No games\, no requirements\, no gimmicks. Our services that night are simply free.\nWe do this multiple times a year for drinking holidays and major events as a way to give back to the community\, and as a way to help keep our streets safe and fun for everyone! This will be our 23rd Free Rides event since 2018.\n\nJust give us a call anytime between 6 P.M. and 6 A.M. at 307-343-2323 on the night of July 4th if you need a lift anywhere\, and we’ll get to you ASAP!\n\nFor more information on why we do this\, as well as a list of past and upcoming events\, visit our website at http://www.snowyrangetaxi.com/free-ride-events.html\n\n-Matthew and Chantelle
URL:https://laramieevents.com/event/free-rides-around-town-july-4th/
ATTACH;FMTTYPE=image/jpeg:https://laramieevents.com/wp-content/uploads/sites/3/2024/06/449084247_852122810269910_1700222605217633840_n-scaled.jpg
END:VEVENT
BEGIN:VEVENT
DTSTART;TZID=America/Denver:20240704T100000
DTEND;TZID=America/Denver:20240704T160000
DTSTAMP:20260425T173017
CREATED:20240627T230509Z
LAST-MODIFIED:20240628T003123Z
UID:10003173-1720087200-1720108800@laramieevents.com
SUMMARY:Freedom Has A Birthday Children's Entertainment Lineup
DESCRIPTION:The Children’s Entertainment lineup has been set for Freedom Has a Birthday 2023! Sponsored by Rocky Mountain Power for 2024\, Freedom Has a Birthday offers many different options for the kids to engage in. Among them: \n1. UniWyo Credit Union Toddler Zone & Washington Park Playground – 10 am to 4 pm \n2. Airbound Inflatable Bungee Tramp – 10 am to 4 pm \n3. Airbound Inflatable Obstacle Course – 10 am to 4 pm \n4. Laramie Police Department Display and Safety City – 10 am to 4 pm \n5. Laramie Parks & Recreation Department Wading Pool – 10 am to 4 pm \n6. Laramie Fire Department Display & Ol’ Fashion Hose Down – Hose Downs at 11 am\, 1 pm\, and 3 pm \n7. FREE Ice Cream Cones by Meadow Gold Dairy and the Masonic Temple – 10 am until gone \nMore information on Freedom Has a Birthday can be found by visiting www.cityoflaramie.org/freedom. Freedom Has a Birthday will take place July 4th in Washington Park.
URL:https://laramieevents.com/event/freedom-has-a-birthday-childrens-entertainment-lineup/
ATTACH;FMTTYPE=image/png:https://laramieevents.com/wp-content/uploads/sites/3/2024/06/Document.png
END:VEVENT
BEGIN:VEVENT
DTSTART;TZID=America/Denver:20240704T100000
DTEND;TZID=America/Denver:20240704T160000
DTSTAMP:20260425T173017
CREATED:20240531T211503Z
LAST-MODIFIED:20240531T211503Z
UID:10002248-1720087200-1720108800@laramieevents.com
SUMMARY:Freedom Has A Birthday Entertainment Schedule
DESCRIPTION:For the full entertainment schedule see the flier below \nThe 2024 Staged Entertainment for Freedom Has a Birthday presented by Rocky Mountain Power is out! There will be three stages this year with 6 different performances in total. Enjoy the return of the Laramie Municipal Band kicking off the day in the Edgar J. Lewis Bandshell. And throughout the day\, enjoy sets from Danno from Wyo and Wolves in Cheap Clothing at the Center Stage\, and performances from the solo artist J Shogren\, the duo Carriages\, and the bluegrass group Box of Rocks at the Ballpark Stage. In addition to the live performances\, attendees will be able to enjoy food\, retail\, and demonstration vendors. The event begins on July 4th at 10 AM in Laramie’s Washington Park and will go until 4 PM. Find out more about 2024’s Freedom Has a Birthday event by visiting www.cityoflaramie.org/1107. \n 
URL:https://laramieevents.com/event/freedom-has-a-birthday-entertainment-schedule/
ATTACH;FMTTYPE=image/png:https://laramieevents.com/wp-content/uploads/sites/3/2024/05/Document.png
END:VEVENT
BEGIN:VEVENT
DTSTART;TZID=America/Denver:20240702T150000
DTEND;TZID=America/Denver:20240702T190000
DTSTAMP:20260425T173017
CREATED:20240522T014426Z
LAST-MODIFIED:20240522T161253Z
UID:10002235-1719932400-1719946800@laramieevents.com
SUMMARY:Tuesday Farmers Markets
DESCRIPTION:Fresh local produce\, food\, crafts\, music and fun every Tuesday 3 to 7pm at Undine Park\, 7th & Ord in Laramie \nLearn more on their facebook page at this link  \nand check out their website at this link \n 
URL:https://laramieevents.com/event/tuesday-farmers-markets/2024-07-02/
ATTACH;FMTTYPE=image/jpeg:https://laramieevents.com/wp-content/uploads/sites/3/2024/05/tlm-carrot.jpg
END:VEVENT
BEGIN:VEVENT
DTSTART;VALUE=DATE:20240628
DTEND;VALUE=DATE:20240701
DTSTAMP:20260425T173017
CREATED:20240229T202054Z
LAST-MODIFIED:20240229T202054Z
UID:10000854-1719532800-1719791999@laramieevents.com
SUMMARY:Gem City Showdown
DESCRIPTION:Save the date for the 4th annual Gem City Showdown.\nMore details to come
URL:https://laramieevents.com/event/gem-city-showdown-2/
ATTACH;FMTTYPE=image/jpeg:https://laramieevents.com/wp-content/uploads/sites/3/2024/02/367682046_601855948786744_5283732231841742376_n.jpg
END:VEVENT
BEGIN:VEVENT
DTSTART;TZID=America/Denver:20240626T180000
DTEND;TZID=America/Denver:20240626T200000
DTSTAMP:20260425T173017
CREATED:20240618T214428Z
LAST-MODIFIED:20240618T214428Z
UID:10002261-1719424800-1719432000@laramieevents.com
SUMMARY:Third Street Public Art Open House
DESCRIPTION:From the event organizers: \nJoin us for an open house on June 26 at 6 PM at the Moose Lodge! Laramie Main Street and Laramie Public Art Coalition in partnership with WYDOT and the City of Laramie invite you to share feedback on the 3rd Street beautification project. WYDOT will present its plans for 2025 work\, and the City will discuss funding sources. Participate in an artwork brainstorm and idea exchange\, (email your slides to director@laramiepublicart.org)\, and learn how to apply to the art selection committee. We’ll end the night with a next steps overview. See you there!
URL:https://laramieevents.com/event/third-street-public-art-open-house/
ATTACH;FMTTYPE=image/jpeg:https://laramieevents.com/wp-content/uploads/sites/3/2024/06/448231989_854387343385033_5821233700485276877_n-1.jpg
END:VEVENT
BEGIN:VEVENT
DTSTART;TZID=America/Denver:20240625T150000
DTEND;TZID=America/Denver:20240625T190000
DTSTAMP:20260425T173017
CREATED:20240522T014426Z
LAST-MODIFIED:20240522T161253Z
UID:10002234-1719327600-1719342000@laramieevents.com
SUMMARY:Tuesday Farmers Markets
DESCRIPTION:Fresh local produce\, food\, crafts\, music and fun every Tuesday 3 to 7pm at Undine Park\, 7th & Ord in Laramie \nLearn more on their facebook page at this link  \nand check out their website at this link \n 
URL:https://laramieevents.com/event/tuesday-farmers-markets/2024-06-25/
ATTACH;FMTTYPE=image/jpeg:https://laramieevents.com/wp-content/uploads/sites/3/2024/05/tlm-carrot.jpg
END:VEVENT
BEGIN:VEVENT
DTSTART;TZID=America/Denver:20240622T100000
DTEND;TZID=America/Denver:20240622T170000
DTSTAMP:20260425T173017
CREATED:20240508T011819Z
LAST-MODIFIED:20240508T011819Z
UID:10001331-1719050400-1719075600@laramieevents.com
SUMMARY:Laramie Mud Sale
DESCRIPTION:June 22nd across form Walmart\, Wyomings First ever live auction mud sale with bidding starting at 10am. There will be a gun raffle\, 50/50\, food trucks and more. Check out laramiemudsale.com for more details \n 
URL:https://laramieevents.com/event/laramie-mud-sale/
ATTACH;FMTTYPE=image/jpeg:https://laramieevents.com/wp-content/uploads/sites/3/2024/05/Capture.jpg
END:VEVENT
BEGIN:VEVENT
DTSTART;TZID=America/Denver:20240622T100000
DTEND;TZID=America/Denver:20240622T130000
DTSTAMP:20260425T173017
CREATED:20240416T050829Z
LAST-MODIFIED:20240416T050829Z
UID:10000885-1719050400-1719061200@laramieevents.com
SUMMARY:UW Art Museum Summer Solstice Celebration
DESCRIPTION:Bask in the sun at UWAM’s annual family-friendly Summer Solstice Celebration. Engage in sun-themed art-making activities\, explore the cosmos with solar telescopes\, and more!\nThis event is free and open to the public
URL:https://laramieevents.com/event/uw-art-museum-summer-solstice-celebration/
ATTACH;FMTTYPE=image/jpeg:https://laramieevents.com/wp-content/uploads/sites/3/2024/04/410517509_919555529844810_4690472655092843234_n.jpg
END:VEVENT
BEGIN:VEVENT
DTSTART;TZID=America/Denver:20240618T150000
DTEND;TZID=America/Denver:20240618T190000
DTSTAMP:20260425T173017
CREATED:20240522T014426Z
LAST-MODIFIED:20240522T161253Z
UID:10002233-1718722800-1718737200@laramieevents.com
SUMMARY:Tuesday Farmers Markets
DESCRIPTION:Fresh local produce\, food\, crafts\, music and fun every Tuesday 3 to 7pm at Undine Park\, 7th & Ord in Laramie \nLearn more on their facebook page at this link  \nand check out their website at this link \n 
URL:https://laramieevents.com/event/tuesday-farmers-markets/2024-06-18/
ATTACH;FMTTYPE=image/jpeg:https://laramieevents.com/wp-content/uploads/sites/3/2024/05/tlm-carrot.jpg
END:VEVENT
BEGIN:VEVENT
DTSTART;TZID=America/Denver:20240615T140000
DTEND;TZID=America/Denver:20240615T190000
DTSTAMP:20260425T173017
CREATED:20240410T020443Z
LAST-MODIFIED:20240410T020443Z
UID:10000882-1718460000-1718478000@laramieevents.com
SUMMARY:Pollinator Festival
DESCRIPTION:From the event organizers: \nCome kick off summer with our Pollinator Festival. You will find food\, garden ideas\, plants\, tons of activities\, art\, local brews\, tons of organic body\, home and art products and recipes using plants\, and of course LIVE MUSIC.\nThis event accomplishes many of our goals. We love connecting with our community through art\, gardens and experiences. We also love supporting local musicians\, businesses\, artists and community.\nThanks to City of Laramie\, Wyoming Arts Council and Albany County for supporting our mission and events!\nScience Loves Art is a 501c3.
URL:https://laramieevents.com/event/pollinator-festival/
ATTACH;FMTTYPE=image/jpeg:https://laramieevents.com/wp-content/uploads/sites/3/2024/04/434926278_826225572867850_1340999484084243506_n.jpg
END:VEVENT
BEGIN:VEVENT
DTSTART;TZID=America/Denver:20240615T100000
DTEND;TZID=America/Denver:20240615T130000
DTSTAMP:20260425T173017
CREATED:20240420T013823Z
LAST-MODIFIED:20240420T013823Z
UID:10000890-1718445600-1718456400@laramieevents.com
SUMMARY:Touch A Truck
DESCRIPTION:A Touch A Truck Event will take place at The Rec Center Sat. June 15th 10am to 1pm. There will be family fun for all ages where you’ll be able to see and touch some trucks\, heavy equipment and emergency vehicles. There will be freebies for kids.
URL:https://laramieevents.com/event/touch-a-truck-2/
ATTACH;FMTTYPE=image/png:https://laramieevents.com/wp-content/uploads/sites/3/2024/04/Capture.png
END:VEVENT
BEGIN:VEVENT
DTSTART;TZID=America/Denver:20240614T163000
DTEND;TZID=America/Denver:20240614T190000
DTSTAMP:20260425T173017
CREATED:20240608T043841Z
LAST-MODIFIED:20240608T043841Z
UID:10002258-1718382600-1718391600@laramieevents.com
SUMMARY:American Legion BBQ (Open To Public)
DESCRIPTION:Friday\,  14 Jun. Barbecue on the patio starting at 4:30pm $10 open to the public. Flag Day ceremony at 6pm. 417 E Ivinson.
URL:https://laramieevents.com/event/american-legion-bbq-open-to-public/
ATTACH;FMTTYPE=image/jpeg:https://laramieevents.com/wp-content/uploads/sites/3/2024/06/bbq-4373644_1280.jpg
END:VEVENT
BEGIN:VEVENT
DTSTART;TZID=America/Denver:20240611T183000
DTEND;TZID=America/Denver:20240611T200000
DTSTAMP:20260425T173017
CREATED:20240607T033608Z
LAST-MODIFIED:20240607T033608Z
UID:10002257-1718130600-1718136000@laramieevents.com
SUMMARY:Community Forum On Snowy Range Rotating Sculpture Finalists
DESCRIPTION:From the organizers: \nIt’s your opportunity to give your feedback on the Snowy Range Rotating Sculpture finalist pieces! In one week\, the Laramie Public Art Coalition will be hosting a community forum at the Gryphon Theatre for the artists to share their pieces and for the public to offer feedback. So\, join them next week on June 11th at 6:00 PM to listen in and voice your opinion! More information can be found at https://www.laramiepublicart.org/events/2024/4/24/snowyrangeforum
URL:https://laramieevents.com/event/community-forum-on-snowy-range-rotating-sculpture-finalists/
ATTACH;FMTTYPE=image/jpeg:https://laramieevents.com/wp-content/uploads/sites/3/2024/06/447775247_849388067218294_5003041123616568882_n.jpg
END:VEVENT
BEGIN:VEVENT
DTSTART;TZID=America/Denver:20240610T113000
DTEND;TZID=America/Denver:20240815T130000
DTSTAMP:20260425T173017
CREATED:20240422T204526Z
LAST-MODIFIED:20240422T204526Z
UID:10000891-1718019000-1723726800@laramieevents.com
SUMMARY:FREE Summer Lunch Program For 18yo & Younger
DESCRIPTION:It’ll take place June 10th to August 15th 1145am to 1pm every Mon-Thu at Slade Elementary & there is no cost
URL:https://laramieevents.com/event/free-summer-lunch-program-for-18yo-younger/
ATTACH;FMTTYPE=image/jpeg:https://laramieevents.com/wp-content/uploads/sites/3/2024/04/438102777_746326730820475_745949211356943797_n.jpg
END:VEVENT
BEGIN:VEVENT
DTSTART;TZID=America/Denver:20240608T110000
DTEND;TZID=America/Denver:20240608T140000
DTSTAMP:20260425T173017
CREATED:20240503T151428Z
LAST-MODIFIED:20240503T151428Z
UID:10001327-1717844400-1717855200@laramieevents.com
SUMMARY:Free Community Shred Day
DESCRIPTION:From the organizers: \nOur community shred day is BACK!! We are partnering up with Toyota of Laramie again this year to hold a FREE shred day for the public! It will be out front of ACPE in the parking lot on June 8th starting at 11AM!
URL:https://laramieevents.com/event/free-community-shred-day/
ATTACH;FMTTYPE=image/jpeg:https://laramieevents.com/wp-content/uploads/sites/3/2024/05/438093891_968208601972083_7280625543360642341_n.jpg
END:VEVENT
BEGIN:VEVENT
DTSTART;TZID=America/Denver:20240606T170000
DTEND;TZID=America/Denver:20240606T203000
DTSTAMP:20260425T173017
CREATED:20240517T163918Z
LAST-MODIFIED:20240517T163918Z
UID:10002230-1717693200-1717705800@laramieevents.com
SUMMARY:Japanese Sake Tasting & Live Traditional Music Fundraiser
DESCRIPTION:See the flyer for more details \n 
URL:https://laramieevents.com/event/japanese-sake-tasting-live-traditional-music-fundraiser/
ATTACH;FMTTYPE=image/jpeg:https://laramieevents.com/wp-content/uploads/sites/3/2024/05/Capture-4.jpg
END:VEVENT
BEGIN:VEVENT
DTSTART;VALUE=DATE:20240604
DTEND;VALUE=DATE:20240605
DTSTAMP:20260425T173017
CREATED:20230523T045754Z
LAST-MODIFIED:20230523T045754Z
UID:10000032-1717459200-1717545599@laramieevents.com
SUMMARY:ACSD1 Last Day of School (1/2 Day)
DESCRIPTION:
URL:https://laramieevents.com/event/acsd1-last-day-of-school-1-2-day/
END:VEVENT
BEGIN:VEVENT
DTSTART;TZID=America/Denver:20240602T090000
DTEND;TZID=America/Denver:20240602T110000
DTSTAMP:20260425T173017
CREATED:20240508T012257Z
LAST-MODIFIED:20240508T012401Z
UID:10001333-1717318800-1717326000@laramieevents.com
SUMMARY:Laramie Multiple Sclerosis Walk
DESCRIPTION:The First Annual Laramie Multiple Sclerosis Walk Will take place June 2 at 9am at the Otto Dahl Shelter at Washington Park. $30 registration fee per person includes a tshirt\, walk and raffle ticket. All proceeds go to the MS Society. Scan the QR Code in the flier to register
URL:https://laramieevents.com/event/laramie-multiple-sclerosis-walk/
ATTACH;FMTTYPE=image/jpeg:https://laramieevents.com/wp-content/uploads/sites/3/2024/05/Capture-2.jpg
END:VEVENT
BEGIN:VEVENT
DTSTART;TZID=America/Denver:20240601T190000
DTEND;TZID=America/Denver:20240601T210000
DTSTAMP:20260425T173017
CREATED:20240425T234950Z
LAST-MODIFIED:20240502T153955Z
UID:10000896-1717268400-1717275600@laramieevents.com
SUMMARY:The USO Show
DESCRIPTION:An evening of dance and comedy. \nDoors Open 7:00pm Show Starts 7:30pm \nTickets $5 in Advance & $7 at the Door
URL:https://laramieevents.com/event/the-uso-show/2024-06-01/
LOCATION:Cooper Center for Creative Arts
ATTACH;FMTTYPE=image/png:https://laramieevents.com/wp-content/uploads/sites/3/2024/04/USO-Propaganda-Postcard-Image.png
END:VEVENT
BEGIN:VEVENT
DTSTART;TZID=America/Denver:20240601T110000
DTEND;TZID=America/Denver:20240601T170000
DTSTAMP:20260425T173017
CREATED:20240215T192557Z
LAST-MODIFIED:20240425T202909Z
UID:10000845-1717239600-1717261200@laramieevents.com
SUMMARY:Putt Putt Pub Crawl
DESCRIPTION:Join us on the most spectacular putt putt course as participating bars each offer a unique putt putt experience. PLUS\, cash prizes will be available for the best team score and best costumes!\n\nGolfers will check-in starting at 11am at Bonds Brewing Company to get scorecards and play the first hole.  Then golfers will proceed through the other locations in any order you want before meeting back up at Bud’s Bar at 5pm for final score tabulations and prize awards for costumes.\n\nProceeds from golfer registrations will be donated to Laramie Connections
URL:https://laramieevents.com/event/putt-putt-pub-crawl-2/
CATEGORIES:Fundraiser
ATTACH;FMTTYPE=image/png:https://laramieevents.com/wp-content/uploads/sites/3/2024/02/Putt-Putt-Pub-Crawl-Logo-8.5-×-4.8-in.png
END:VEVENT
BEGIN:VEVENT
DTSTART;TZID=America/Denver:20240601T090000
DTEND;TZID=America/Denver:20240601T170000
DTSTAMP:20260425T173017
CREATED:20240406T161847Z
LAST-MODIFIED:20240502T154110Z
UID:10000879-1717232400-1717261200@laramieevents.com
SUMMARY:WyoTech Car Show
DESCRIPTION:From the event organizers: \nThe WyoTech Annual Car Show is back June 1st beginning at 9am ay WyoTech on Venture Drive!\n\nCool cars\, food trucks\, bouncy houses\, and more!\nAnd get ready to meet our new class of Hall of Fame Inductees!\nAll are welcome!
URL:https://laramieevents.com/event/wyotech-car-show/
ATTACH;FMTTYPE=image/jpeg:https://laramieevents.com/wp-content/uploads/sites/3/2024/04/434667704_860399742798427_5377204922479781774_n.jpg
END:VEVENT
BEGIN:VEVENT
DTSTART;TZID=America/Denver:20240601T080000
DTEND;TZID=America/Denver:20240601T170000
DTSTAMP:20260425T173017
CREATED:20230928T013442Z
LAST-MODIFIED:20230928T013442Z
UID:10000688-1717228800-1717261200@laramieevents.com
SUMMARY:UW Art Museum Art Buffet
DESCRIPTION:From The Museum: \nJoin us Saturday\, Oct 7 at 10AM at the University of Wyoming Art Museum for Art Buffet – free and open to all ages! For the October session we’ll be viewing and discussing images of the Red Desert in the exhibition The New West and creating a torn paper landscape in the studio. Adults are required to stay with their children for the duration of the program. Email UWArtEd@uwyo.edu with questions. See you in Nov and Dec\, too! (the flier has more details)
URL:https://laramieevents.com/event/uw-art-museum-art-buffet/2024-06-01/
ATTACH;FMTTYPE=image/jpeg:https://laramieevents.com/wp-content/uploads/sites/3/2023/09/383202665_10101414543580642_4805707184644237173_n.jpg
END:VEVENT
BEGIN:VEVENT
DTSTART;TZID=America/Denver:20240601T080000
DTEND;TZID=America/Denver:20240601T100000
DTSTAMP:20260425T173017
CREATED:20240223T160528Z
LAST-MODIFIED:20240223T161711Z
UID:10000852-1717228800-1717236000@laramieevents.com
SUMMARY:Laramie Garden Club Annual Plant Sale
DESCRIPTION:From the organizers: \nProceeds support community gardens\nCome get your locally grown perennials\, shrubs and trees\, veggies\, herb\, etc!\nLine up early for the best selection\, we sell out quickly!\nNow accepting credit cards.\nJune 1\, 2024\nAlbany County FairGrounds\nRabbit Barn\n8am until sold out
URL:https://laramieevents.com/event/laramie-garden-club-annual-plant-sale/
ATTACH;FMTTYPE=image/jpeg:https://laramieevents.com/wp-content/uploads/sites/3/2024/02/428616014_817203597114380_5881481999024324826_n.jpg
END:VEVENT
BEGIN:VEVENT
DTSTART;VALUE=DATE:20240601
DTEND;VALUE=DATE:20240602
DTSTAMP:20260425T173017
CREATED:20240212T215038Z
LAST-MODIFIED:20240217T191113Z
UID:10000838-1717200000-1717286399@laramieevents.com
SUMMARY:Pilot Hill 25k Foot Race (Reg. Deadline Is May 25th\, Event Is June 1st)
DESCRIPTION:From the event organizers:\n\negistration for the 2024 Pilot Hill 25k classic is open!\nJoin us on June 1st for a great day out on Laramie’s backyard trails. You can register on UltraSignup (https://ultrasignup.com/register.aspx?did=113687) until May 25th. Race day registration will not be available this year\, so make sure to register in advance through UltraSignup.\n\nAbout Pilot Hill 25K:\nThe Pilot Hill 25K Classic is the oldest continuously run footrace in Wyoming. The race has its roots back in the 1970’s when a group of local runners and university cross country team members decided to begin their summer training by racing from Laramie to the top of Pilot Hill and back down. At that time\, trail running was a “fringe sport” — the running boom that was sweeping the nation was confined primarily to the roads. Pilot Hill tries to hold true to its roots–by providing a “down home” race that won’t break the bank while celebrating the sport that all of us love.\nThe Pilot Hill Race is run on rugged two-track and single track trails. It crosses sandy flats\, runs over some low grade hills\, and climbs up (and descends down) some pretty gnarly weathered limestone. The top of Pilot Hill (at 8600 ft) is one of the highest points in the Sherman Mountains (Laramie Range) that sits east of the town of Laramie. From the top\, you will be greeted by views of the Laramie Valley and across to the west to the Snowy Range of the Medicine Bow Mountains\, and to the south in Colorado: the Rawahs and Front Range.\nFollowing the race\, relax at the finish line and enjoy food and refreshments – don’t forget a camp chair!\nProceeds from this event will be donated to Pilot Hill Inc.\nSee you in June
URL:https://laramieevents.com/event/pilot-hill-25k-foot-race-reg-deadline-is-may-25th-event-is-june-1st/
ATTACH;FMTTYPE=image/jpeg:https://laramieevents.com/wp-content/uploads/sites/3/2024/02/426304320_904195481715348_4464461880831637834_n.jpg
END:VEVENT
END:VCALENDAR