BEGIN:VCALENDAR
VERSION:2.0
PRODID:-//Laramie Events - ECPv6.15.17.1//NONSGML v1.0//EN
CALSCALE:GREGORIAN
METHOD:PUBLISH
X-WR-CALNAME:Laramie Events
X-ORIGINAL-URL:https://laramieevents.com
X-WR-CALDESC:Events for Laramie Events
REFRESH-INTERVAL;VALUE=DURATION:PT1H
X-Robots-Tag:noindex
X-PUBLISHED-TTL:PT1H
BEGIN:VTIMEZONE
TZID:America/Denver
BEGIN:DAYLIGHT
TZOFFSETFROM:-0700
TZOFFSETTO:-0600
TZNAME:MDT
DTSTART:20250309T090000
END:DAYLIGHT
BEGIN:STANDARD
TZOFFSETFROM:-0600
TZOFFSETTO:-0700
TZNAME:MST
DTSTART:20251102T080000
END:STANDARD
BEGIN:DAYLIGHT
TZOFFSETFROM:-0700
TZOFFSETTO:-0600
TZNAME:MDT
DTSTART:20260308T090000
END:DAYLIGHT
BEGIN:STANDARD
TZOFFSETFROM:-0600
TZOFFSETTO:-0700
TZNAME:MST
DTSTART:20261101T080000
END:STANDARD
BEGIN:DAYLIGHT
TZOFFSETFROM:-0700
TZOFFSETTO:-0600
TZNAME:MDT
DTSTART:20270314T090000
END:DAYLIGHT
BEGIN:STANDARD
TZOFFSETFROM:-0600
TZOFFSETTO:-0700
TZNAME:MST
DTSTART:20271107T080000
END:STANDARD
END:VTIMEZONE
BEGIN:VEVENT
DTSTART;VALUE=DATE:20260928
DTEND;VALUE=DATE:20260929
DTSTAMP:20260424T034826
CREATED:20260212T143232Z
LAST-MODIFIED:20260212T143232Z
UID:10007940-1790553600-1790639999@laramieevents.com
SUMMARY:Weekly Yoga At The Centennial Public Library
DESCRIPTION:The Centennial Public Library will offer yoga twice a week with two different styles of yoga. Vinyasa flow 9 to 10am Mondays and Restorative/Yoga Nidra Thursdays 6 to 7pm. The classes will take place at the library and the suggested donation is $10 to $15 per class. See the flyer for more info on what each yoga class is.
URL:https://laramieevents.com/event/weekly-yoga-at-the-centennial-public-library/2026-09-28/
ATTACH;FMTTYPE=image/jpeg:https://laramieevents.com/wp-content/uploads/sites/3/2026/02/unnamed-2.jpg
END:VEVENT
BEGIN:VEVENT
DTSTART;TZID=America/Denver:20260928T160000
DTEND;TZID=America/Denver:20260928T183000
DTSTAMP:20260424T034826
CREATED:20260407T140520Z
LAST-MODIFIED:20260407T141215Z
UID:10010036-1790611200-1790620200@laramieevents.com
SUMMARY:Cancer: Thriving And Surviving Workshop
DESCRIPTION:If you’re newly diagnosed\, going through treatment\, a friend\, family member or caregiver or someone going through cancer\, this group is for you to learn some ways to stay healthy\, active and positive while dealing with physical and mental challenge of being a cancer patient\, cancer survivor or the family member of someone whos dealt with this disease. See the flyer below for more info. \n \n 
URL:https://laramieevents.com/event/cancer-thriving-and-surviving-workshop/2026-09-28/
ATTACH;FMTTYPE=image/jpeg:https://laramieevents.com/wp-content/uploads/sites/3/2026/04/CANCER-THRIVING_page-0001-1-scaled.jpg
END:VEVENT
BEGIN:VEVENT
DTSTART;TZID=America/Denver:20260928T180000
DTEND;TZID=America/Denver:20260928T200000
DTSTAMP:20260424T034826
CREATED:20260413T134457Z
LAST-MODIFIED:20260413T135407Z
UID:10010156-1790618400-1790625600@laramieevents.com
SUMMARY:Veterans Talking To Veterans
DESCRIPTION:Its a group for veterans by veterans to support mental health and help them in their post military career. They meet Mondays 6 to 8pm at the American Legion in Laramie. They work through trauma\, PTSD and more. All veterans are welcome.  Email dmhljh@gmail.com for more info.
URL:https://laramieevents.com/event/veterans-talking-to-veterans/2026-09-28/
ATTACH;FMTTYPE=image/png:https://laramieevents.com/wp-content/uploads/sites/3/2026/04/IMG_20260413_073321-1.png
END:VEVENT
BEGIN:VEVENT
DTSTART;TZID=America/Denver:20260930T160000
DTEND;TZID=America/Denver:20260930T183000
DTSTAMP:20260424T034826
CREATED:20260407T143135Z
LAST-MODIFIED:20260407T143135Z
UID:10010091-1790784000-1790793000@laramieevents.com
SUMMARY:HealthyU-Support Group For Chronic Health Conditions
DESCRIPTION:If you have a chronic health condition or take care of someone who does\, this 6 week workshop will help you work on problem solving\, healthy eating\, how to say active despite any limitations and more. See the flyer below for more info and email healthy@uwyo.edu to register or for more info
URL:https://laramieevents.com/event/healthyu-support-group-for-chronic-health-conditions/2026-09-30/
ATTACH;FMTTYPE=image/jpeg:https://laramieevents.com/wp-content/uploads/sites/3/2026/04/NOW-IS-THE-TIME-TO-TAKE-CHARGE-OF-YOUR-HEALTH_page-0001-1-scaled.jpg
END:VEVENT
BEGIN:VEVENT
DTSTART;VALUE=DATE:20261001
DTEND;VALUE=DATE:20261002
DTSTAMP:20260424T034826
CREATED:20260212T143232Z
LAST-MODIFIED:20260212T143232Z
UID:10007941-1790812800-1790899199@laramieevents.com
SUMMARY:Weekly Yoga At The Centennial Public Library
DESCRIPTION:The Centennial Public Library will offer yoga twice a week with two different styles of yoga. Vinyasa flow 9 to 10am Mondays and Restorative/Yoga Nidra Thursdays 6 to 7pm. The classes will take place at the library and the suggested donation is $10 to $15 per class. See the flyer for more info on what each yoga class is.
URL:https://laramieevents.com/event/weekly-yoga-at-the-centennial-public-library/2026-10-01/
ATTACH;FMTTYPE=image/jpeg:https://laramieevents.com/wp-content/uploads/sites/3/2026/02/unnamed-2.jpg
END:VEVENT
BEGIN:VEVENT
DTSTART;TZID=America/Denver:20261003T080000
DTEND;TZID=America/Denver:20261003T100000
DTSTAMP:20260424T034826
CREATED:20260212T144025Z
LAST-MODIFIED:20260212T144025Z
UID:10008405-1791014400-1791021600@laramieevents.com
SUMMARY:Centennial Mens Breakfast
DESCRIPTION:The first Saturday of every month— Men’s Breakfast\nOld Corral @ 8 AM.\nAll valley men welcome
URL:https://laramieevents.com/event/centennial-mens-breakfast/2026-10-03/
ATTACH;FMTTYPE=image/jpeg:https://laramieevents.com/wp-content/uploads/sites/3/2026/02/jhenning-breakfast-8200753_1280.jpg
END:VEVENT
BEGIN:VEVENT
DTSTART;TZID=America/Denver:20261003T130000
DTEND;TZID=America/Denver:20261003T140000
DTSTAMP:20260424T034826
CREATED:20260212T203649Z
LAST-MODIFIED:20260212T203649Z
UID:10008492-1791032400-1791036000@laramieevents.com
SUMMARY:Kids Lego Time At Albany Co. Public Library in Laramie
DESCRIPTION:From the event organizer: \nCalling all Lego builders! We provide the Legos\, you provide the imagination. Program for children in grades K-6th. Every Saturday 1-2pm in the Laramie Library’s Wyoming Room
URL:https://laramieevents.com/event/kids-lego-time-at-albany-co-public-library-in-laramie/2026-10-03/
END:VEVENT
BEGIN:VEVENT
DTSTART;TZID=America/Denver:20261004T133000
DTEND;TZID=America/Denver:20261004T143000
DTSTAMP:20260424T034826
CREATED:20260418T055915Z
LAST-MODIFIED:20260418T055915Z
UID:10010407-1791120600-1791124200@laramieevents.com
SUMMARY:Walk With A Doc!
DESCRIPTION:Walk with a Doc is a national organization focused on encouraging healthy physical activity while reversing the consequences of a sedentary lifestyle.  It is coordinated locally in Laramie by Ivinson Memorial Hospital \n\n\n\n\nwhat to expect\nAt each meet-up simply come in and we’ll get you signed-in. Next we’ll hear from a local healthcare provider about a health-related topic\, and then it’s on to walking! (Don’t worry — we’ll do some quick stretches first!) \n\n\n\n\ntime + location\n\n1st and 3rd Sunday of each month\n1:30 PM — 2:30 PM\nUniversity of Wyoming Field House (October-April) + Washington Park (May-September)\nFree to everyone
URL:https://laramieevents.com/event/walk-with-a-doc-2/2026-10-04/
ATTACH;FMTTYPE=image/jpeg:https://laramieevents.com/wp-content/uploads/sites/3/2026/04/44_2017_shutterstock_436609324_dcf7d7dc6df8adc8071fe96b7a378182.jpg
END:VEVENT
BEGIN:VEVENT
DTSTART;TZID=America/Denver:20261004T163000
DTEND;TZID=America/Denver:20261004T180000
DTSTAMP:20260424T034826
CREATED:20250220T010050Z
LAST-MODIFIED:20250220T010050Z
UID:10003395-1791131400-1791136800@laramieevents.com
SUMMARY:Laramie Connections Free Sunday Dinner
DESCRIPTION:From the organizers:\n4:30 pm Sundays @ First Baptist Church\nEveryone is welcome to come and enjoy a hot meal Sunday evenings along with great company.  While regular meal offerings are closed on the weekends we are happy to step in and offer a free meal gathering. \nOur meal is provided by the Laramie Soup Kitchen\, Laramie Interfaith and Eppson Center being closed on the weekends.
URL:https://laramieevents.com/event/laramie-connections-free-sunday-dinner/2026-10-04/
ATTACH;FMTTYPE=image/png:https://laramieevents.com/wp-content/uploads/sites/3/2025/02/family-dinner-3407701_1280.png
END:VEVENT
BEGIN:VEVENT
DTSTART;VALUE=DATE:20261005
DTEND;VALUE=DATE:20261006
DTSTAMP:20260424T034826
CREATED:20260212T143232Z
LAST-MODIFIED:20260212T143232Z
UID:10007942-1791158400-1791244799@laramieevents.com
SUMMARY:Weekly Yoga At The Centennial Public Library
DESCRIPTION:The Centennial Public Library will offer yoga twice a week with two different styles of yoga. Vinyasa flow 9 to 10am Mondays and Restorative/Yoga Nidra Thursdays 6 to 7pm. The classes will take place at the library and the suggested donation is $10 to $15 per class. See the flyer for more info on what each yoga class is.
URL:https://laramieevents.com/event/weekly-yoga-at-the-centennial-public-library/2026-10-05/
ATTACH;FMTTYPE=image/jpeg:https://laramieevents.com/wp-content/uploads/sites/3/2026/02/unnamed-2.jpg
END:VEVENT
BEGIN:VEVENT
DTSTART;TZID=America/Denver:20261005T160000
DTEND;TZID=America/Denver:20261005T183000
DTSTAMP:20260424T034826
CREATED:20260407T140520Z
LAST-MODIFIED:20260407T141215Z
UID:10010037-1791216000-1791225000@laramieevents.com
SUMMARY:Cancer: Thriving And Surviving Workshop
DESCRIPTION:If you’re newly diagnosed\, going through treatment\, a friend\, family member or caregiver or someone going through cancer\, this group is for you to learn some ways to stay healthy\, active and positive while dealing with physical and mental challenge of being a cancer patient\, cancer survivor or the family member of someone whos dealt with this disease. See the flyer below for more info. \n \n 
URL:https://laramieevents.com/event/cancer-thriving-and-surviving-workshop/2026-10-05/
ATTACH;FMTTYPE=image/jpeg:https://laramieevents.com/wp-content/uploads/sites/3/2026/04/CANCER-THRIVING_page-0001-1-scaled.jpg
END:VEVENT
BEGIN:VEVENT
DTSTART;TZID=America/Denver:20261005T180000
DTEND;TZID=America/Denver:20261005T200000
DTSTAMP:20260424T034826
CREATED:20260413T134457Z
LAST-MODIFIED:20260413T135407Z
UID:10010157-1791223200-1791230400@laramieevents.com
SUMMARY:Veterans Talking To Veterans
DESCRIPTION:Its a group for veterans by veterans to support mental health and help them in their post military career. They meet Mondays 6 to 8pm at the American Legion in Laramie. They work through trauma\, PTSD and more. All veterans are welcome.  Email dmhljh@gmail.com for more info.
URL:https://laramieevents.com/event/veterans-talking-to-veterans/2026-10-05/
ATTACH;FMTTYPE=image/png:https://laramieevents.com/wp-content/uploads/sites/3/2026/04/IMG_20260413_073321-1.png
END:VEVENT
BEGIN:VEVENT
DTSTART;TZID=America/Denver:20261007T160000
DTEND;TZID=America/Denver:20261007T183000
DTSTAMP:20260424T034826
CREATED:20260407T143135Z
LAST-MODIFIED:20260407T143135Z
UID:10010092-1791388800-1791397800@laramieevents.com
SUMMARY:HealthyU-Support Group For Chronic Health Conditions
DESCRIPTION:If you have a chronic health condition or take care of someone who does\, this 6 week workshop will help you work on problem solving\, healthy eating\, how to say active despite any limitations and more. See the flyer below for more info and email healthy@uwyo.edu to register or for more info
URL:https://laramieevents.com/event/healthyu-support-group-for-chronic-health-conditions/2026-10-07/
ATTACH;FMTTYPE=image/jpeg:https://laramieevents.com/wp-content/uploads/sites/3/2026/04/NOW-IS-THE-TIME-TO-TAKE-CHARGE-OF-YOUR-HEALTH_page-0001-1-scaled.jpg
END:VEVENT
BEGIN:VEVENT
DTSTART;TZID=America/Denver:20261007T170000
DTEND;TZID=America/Denver:20261007T183000
DTSTAMP:20260424T034826
CREATED:20260211T193640Z
LAST-MODIFIED:20260211T193640Z
UID:10007821-1791392400-1791397800@laramieevents.com
SUMMARY:Cancer Crusaders Club
DESCRIPTION:From Ivinson Memorial Hospital \nWe are tackling cancer together. Anyone whose life has been touched by cancer is invited. We meet the first Wednesday of every month at 5:15 PM. You can join us virtually via Zoom or in person at the Cancer Center Education Room. For directions or Zoom link\, please contact Cindy Garnich: (307) 755-4464
URL:https://laramieevents.com/event/cancer-crusaders-club/2026-10-07/
ATTACH;FMTTYPE=image/png:https://laramieevents.com/wp-content/uploads/sites/3/2026/02/htchnm-awareness-5730258_1280.png
END:VEVENT
BEGIN:VEVENT
DTSTART;VALUE=DATE:20261008
DTEND;VALUE=DATE:20261009
DTSTAMP:20260424T034826
CREATED:20260212T143232Z
LAST-MODIFIED:20260212T143232Z
UID:10007943-1791417600-1791503999@laramieevents.com
SUMMARY:Weekly Yoga At The Centennial Public Library
DESCRIPTION:The Centennial Public Library will offer yoga twice a week with two different styles of yoga. Vinyasa flow 9 to 10am Mondays and Restorative/Yoga Nidra Thursdays 6 to 7pm. The classes will take place at the library and the suggested donation is $10 to $15 per class. See the flyer for more info on what each yoga class is.
URL:https://laramieevents.com/event/weekly-yoga-at-the-centennial-public-library/2026-10-08/
ATTACH;FMTTYPE=image/jpeg:https://laramieevents.com/wp-content/uploads/sites/3/2026/02/unnamed-2.jpg
END:VEVENT
BEGIN:VEVENT
DTSTART;TZID=America/Denver:20261008T140000
DTEND;TZID=America/Denver:20261008T150000
DTSTAMP:20260424T034826
CREATED:20260212T205459Z
LAST-MODIFIED:20260212T205459Z
UID:10009098-1791468000-1791471600@laramieevents.com
SUMMARY:Read With A Ranger
DESCRIPTION:From the library: \n\n\n\n\n\n\nWyoming State Parks\, in partnership with the Albany County Public Library\, presents Read with a Ranger! Stories\, activities\, snacks\, science\, history\, nature. Hosted at ACPL in Laramie. Programs oriented to children in grades K-5 the 2nd and 5th Thursdays of the month 2 to 3pm for kids in grades K through 5
URL:https://laramieevents.com/event/read-with-a-ranger/2026-10-08/
ATTACH;FMTTYPE=image/jpeg:https://laramieevents.com/wp-content/uploads/sites/3/2026/02/communication-76-books-2816681_1280.jpg
END:VEVENT
BEGIN:VEVENT
DTSTART;TZID=America/Denver:20261008T180000
DTEND;TZID=America/Denver:20261008T190000
DTSTAMP:20260424T034826
CREATED:20260212T210608Z
LAST-MODIFIED:20260212T210608Z
UID:10009158-1791482400-1791486000@laramieevents.com
SUMMARY:Murder Club: A True Crime Book Club
DESCRIPTION:From the organizers: \nThe books are available at the circulation desk at the Laramie Library \nMurder Club is meeting in person at the Laramie Branch of the library the 2nd and 4th Thursdays of the month . \nFor more information or if you would like to join us\, email Bailey @ bmurray@acplwy.org \nA book club for fans of Serial\, My Favorite Murder\, and Forensic Files – each month we’ll delve into infamous murders\, serial killers\, and other true crime topics.
URL:https://laramieevents.com/event/murder-club-a-true-crime-book-club/2026-10-08/
ATTACH;FMTTYPE=image/jpeg:https://laramieevents.com/wp-content/uploads/sites/3/2026/02/jarmoluk-old-books-436498_1280.jpg
END:VEVENT
BEGIN:VEVENT
DTSTART;TZID=America/Denver:20261010T130000
DTEND;TZID=America/Denver:20261010T140000
DTSTAMP:20260424T034826
CREATED:20260212T203649Z
LAST-MODIFIED:20260212T203649Z
UID:10008493-1791637200-1791640800@laramieevents.com
SUMMARY:Kids Lego Time At Albany Co. Public Library in Laramie
DESCRIPTION:From the event organizer: \nCalling all Lego builders! We provide the Legos\, you provide the imagination. Program for children in grades K-6th. Every Saturday 1-2pm in the Laramie Library’s Wyoming Room
URL:https://laramieevents.com/event/kids-lego-time-at-albany-co-public-library-in-laramie/2026-10-10/
END:VEVENT
BEGIN:VEVENT
DTSTART;TZID=America/Denver:20261011T163000
DTEND;TZID=America/Denver:20261011T180000
DTSTAMP:20260424T034826
CREATED:20250220T010050Z
LAST-MODIFIED:20250220T010050Z
UID:10003396-1791736200-1791741600@laramieevents.com
SUMMARY:Laramie Connections Free Sunday Dinner
DESCRIPTION:From the organizers:\n4:30 pm Sundays @ First Baptist Church\nEveryone is welcome to come and enjoy a hot meal Sunday evenings along with great company.  While regular meal offerings are closed on the weekends we are happy to step in and offer a free meal gathering. \nOur meal is provided by the Laramie Soup Kitchen\, Laramie Interfaith and Eppson Center being closed on the weekends.
URL:https://laramieevents.com/event/laramie-connections-free-sunday-dinner/2026-10-11/
ATTACH;FMTTYPE=image/png:https://laramieevents.com/wp-content/uploads/sites/3/2025/02/family-dinner-3407701_1280.png
END:VEVENT
BEGIN:VEVENT
DTSTART;VALUE=DATE:20261012
DTEND;VALUE=DATE:20261013
DTSTAMP:20260424T034826
CREATED:20260212T143232Z
LAST-MODIFIED:20260212T143232Z
UID:10007944-1791763200-1791849599@laramieevents.com
SUMMARY:Weekly Yoga At The Centennial Public Library
DESCRIPTION:The Centennial Public Library will offer yoga twice a week with two different styles of yoga. Vinyasa flow 9 to 10am Mondays and Restorative/Yoga Nidra Thursdays 6 to 7pm. The classes will take place at the library and the suggested donation is $10 to $15 per class. See the flyer for more info on what each yoga class is.
URL:https://laramieevents.com/event/weekly-yoga-at-the-centennial-public-library/2026-10-12/
ATTACH;FMTTYPE=image/jpeg:https://laramieevents.com/wp-content/uploads/sites/3/2026/02/unnamed-2.jpg
END:VEVENT
BEGIN:VEVENT
DTSTART;TZID=America/Denver:20261012T160000
DTEND;TZID=America/Denver:20261012T183000
DTSTAMP:20260424T034826
CREATED:20260407T140520Z
LAST-MODIFIED:20260407T141215Z
UID:10010038-1791820800-1791829800@laramieevents.com
SUMMARY:Cancer: Thriving And Surviving Workshop
DESCRIPTION:If you’re newly diagnosed\, going through treatment\, a friend\, family member or caregiver or someone going through cancer\, this group is for you to learn some ways to stay healthy\, active and positive while dealing with physical and mental challenge of being a cancer patient\, cancer survivor or the family member of someone whos dealt with this disease. See the flyer below for more info. \n \n 
URL:https://laramieevents.com/event/cancer-thriving-and-surviving-workshop/2026-10-12/
ATTACH;FMTTYPE=image/jpeg:https://laramieevents.com/wp-content/uploads/sites/3/2026/04/CANCER-THRIVING_page-0001-1-scaled.jpg
END:VEVENT
BEGIN:VEVENT
DTSTART;TZID=America/Denver:20261012T180000
DTEND;TZID=America/Denver:20261012T200000
DTSTAMP:20260424T034826
CREATED:20260413T134457Z
LAST-MODIFIED:20260413T135407Z
UID:10010158-1791828000-1791835200@laramieevents.com
SUMMARY:Veterans Talking To Veterans
DESCRIPTION:Its a group for veterans by veterans to support mental health and help them in their post military career. They meet Mondays 6 to 8pm at the American Legion in Laramie. They work through trauma\, PTSD and more. All veterans are welcome.  Email dmhljh@gmail.com for more info.
URL:https://laramieevents.com/event/veterans-talking-to-veterans/2026-10-12/
ATTACH;FMTTYPE=image/png:https://laramieevents.com/wp-content/uploads/sites/3/2026/04/IMG_20260413_073321-1.png
END:VEVENT
BEGIN:VEVENT
DTSTART;TZID=America/Denver:20261014T160000
DTEND;TZID=America/Denver:20261014T183000
DTSTAMP:20260424T034826
CREATED:20260407T143135Z
LAST-MODIFIED:20260407T143135Z
UID:10010093-1791993600-1792002600@laramieevents.com
SUMMARY:HealthyU-Support Group For Chronic Health Conditions
DESCRIPTION:If you have a chronic health condition or take care of someone who does\, this 6 week workshop will help you work on problem solving\, healthy eating\, how to say active despite any limitations and more. See the flyer below for more info and email healthy@uwyo.edu to register or for more info
URL:https://laramieevents.com/event/healthyu-support-group-for-chronic-health-conditions/2026-10-14/
ATTACH;FMTTYPE=image/jpeg:https://laramieevents.com/wp-content/uploads/sites/3/2026/04/NOW-IS-THE-TIME-TO-TAKE-CHARGE-OF-YOUR-HEALTH_page-0001-1-scaled.jpg
END:VEVENT
BEGIN:VEVENT
DTSTART;VALUE=DATE:20261015
DTEND;VALUE=DATE:20261016
DTSTAMP:20260424T034826
CREATED:20260212T143232Z
LAST-MODIFIED:20260212T143232Z
UID:10007945-1792022400-1792108799@laramieevents.com
SUMMARY:Weekly Yoga At The Centennial Public Library
DESCRIPTION:The Centennial Public Library will offer yoga twice a week with two different styles of yoga. Vinyasa flow 9 to 10am Mondays and Restorative/Yoga Nidra Thursdays 6 to 7pm. The classes will take place at the library and the suggested donation is $10 to $15 per class. See the flyer for more info on what each yoga class is.
URL:https://laramieevents.com/event/weekly-yoga-at-the-centennial-public-library/2026-10-15/
ATTACH;FMTTYPE=image/jpeg:https://laramieevents.com/wp-content/uploads/sites/3/2026/02/unnamed-2.jpg
END:VEVENT
BEGIN:VEVENT
DTSTART;TZID=America/Denver:20261017T130000
DTEND;TZID=America/Denver:20261017T140000
DTSTAMP:20260424T034826
CREATED:20260212T203649Z
LAST-MODIFIED:20260212T203649Z
UID:10008494-1792242000-1792245600@laramieevents.com
SUMMARY:Kids Lego Time At Albany Co. Public Library in Laramie
DESCRIPTION:From the event organizer: \nCalling all Lego builders! We provide the Legos\, you provide the imagination. Program for children in grades K-6th. Every Saturday 1-2pm in the Laramie Library’s Wyoming Room
URL:https://laramieevents.com/event/kids-lego-time-at-albany-co-public-library-in-laramie/2026-10-17/
END:VEVENT
BEGIN:VEVENT
DTSTART;TZID=America/Denver:20261018T133000
DTEND;TZID=America/Denver:20261018T143000
DTSTAMP:20260424T034826
CREATED:20260418T055915Z
LAST-MODIFIED:20260418T055915Z
UID:10010408-1792330200-1792333800@laramieevents.com
SUMMARY:Walk With A Doc!
DESCRIPTION:Walk with a Doc is a national organization focused on encouraging healthy physical activity while reversing the consequences of a sedentary lifestyle.  It is coordinated locally in Laramie by Ivinson Memorial Hospital \n\n\n\n\nwhat to expect\nAt each meet-up simply come in and we’ll get you signed-in. Next we’ll hear from a local healthcare provider about a health-related topic\, and then it’s on to walking! (Don’t worry — we’ll do some quick stretches first!) \n\n\n\n\ntime + location\n\n1st and 3rd Sunday of each month\n1:30 PM — 2:30 PM\nUniversity of Wyoming Field House (October-April) + Washington Park (May-September)\nFree to everyone
URL:https://laramieevents.com/event/walk-with-a-doc-2/2026-10-18/
ATTACH;FMTTYPE=image/jpeg:https://laramieevents.com/wp-content/uploads/sites/3/2026/04/44_2017_shutterstock_436609324_dcf7d7dc6df8adc8071fe96b7a378182.jpg
END:VEVENT
BEGIN:VEVENT
DTSTART;TZID=America/Denver:20261018T163000
DTEND;TZID=America/Denver:20261018T180000
DTSTAMP:20260424T034826
CREATED:20250220T010050Z
LAST-MODIFIED:20250220T010050Z
UID:10003397-1792341000-1792346400@laramieevents.com
SUMMARY:Laramie Connections Free Sunday Dinner
DESCRIPTION:From the organizers:\n4:30 pm Sundays @ First Baptist Church\nEveryone is welcome to come and enjoy a hot meal Sunday evenings along with great company.  While regular meal offerings are closed on the weekends we are happy to step in and offer a free meal gathering. \nOur meal is provided by the Laramie Soup Kitchen\, Laramie Interfaith and Eppson Center being closed on the weekends.
URL:https://laramieevents.com/event/laramie-connections-free-sunday-dinner/2026-10-18/
ATTACH;FMTTYPE=image/png:https://laramieevents.com/wp-content/uploads/sites/3/2025/02/family-dinner-3407701_1280.png
END:VEVENT
BEGIN:VEVENT
DTSTART;VALUE=DATE:20261019
DTEND;VALUE=DATE:20261020
DTSTAMP:20260424T034826
CREATED:20260212T143232Z
LAST-MODIFIED:20260212T143232Z
UID:10007946-1792368000-1792454399@laramieevents.com
SUMMARY:Weekly Yoga At The Centennial Public Library
DESCRIPTION:The Centennial Public Library will offer yoga twice a week with two different styles of yoga. Vinyasa flow 9 to 10am Mondays and Restorative/Yoga Nidra Thursdays 6 to 7pm. The classes will take place at the library and the suggested donation is $10 to $15 per class. See the flyer for more info on what each yoga class is.
URL:https://laramieevents.com/event/weekly-yoga-at-the-centennial-public-library/2026-10-19/
ATTACH;FMTTYPE=image/jpeg:https://laramieevents.com/wp-content/uploads/sites/3/2026/02/unnamed-2.jpg
END:VEVENT
BEGIN:VEVENT
DTSTART;TZID=America/Denver:20261019T160000
DTEND;TZID=America/Denver:20261019T183000
DTSTAMP:20260424T034826
CREATED:20260407T140520Z
LAST-MODIFIED:20260407T141215Z
UID:10010039-1792425600-1792434600@laramieevents.com
SUMMARY:Cancer: Thriving And Surviving Workshop
DESCRIPTION:If you’re newly diagnosed\, going through treatment\, a friend\, family member or caregiver or someone going through cancer\, this group is for you to learn some ways to stay healthy\, active and positive while dealing with physical and mental challenge of being a cancer patient\, cancer survivor or the family member of someone whos dealt with this disease. See the flyer below for more info. \n \n 
URL:https://laramieevents.com/event/cancer-thriving-and-surviving-workshop/2026-10-19/
ATTACH;FMTTYPE=image/jpeg:https://laramieevents.com/wp-content/uploads/sites/3/2026/04/CANCER-THRIVING_page-0001-1-scaled.jpg
END:VEVENT
BEGIN:VEVENT
DTSTART;TZID=America/Denver:20261019T180000
DTEND;TZID=America/Denver:20261019T200000
DTSTAMP:20260424T034826
CREATED:20260413T134457Z
LAST-MODIFIED:20260413T135407Z
UID:10010159-1792432800-1792440000@laramieevents.com
SUMMARY:Veterans Talking To Veterans
DESCRIPTION:Its a group for veterans by veterans to support mental health and help them in their post military career. They meet Mondays 6 to 8pm at the American Legion in Laramie. They work through trauma\, PTSD and more. All veterans are welcome.  Email dmhljh@gmail.com for more info.
URL:https://laramieevents.com/event/veterans-talking-to-veterans/2026-10-19/
ATTACH;FMTTYPE=image/png:https://laramieevents.com/wp-content/uploads/sites/3/2026/04/IMG_20260413_073321-1.png
END:VEVENT
END:VCALENDAR