BEGIN:VCALENDAR
VERSION:2.0
PRODID:-//Laramie Events - ECPv6.15.17.1//NONSGML v1.0//EN
CALSCALE:GREGORIAN
METHOD:PUBLISH
X-ORIGINAL-URL:https://laramieevents.com
X-WR-CALDESC:Events for Laramie Events
REFRESH-INTERVAL;VALUE=DURATION:PT1H
X-Robots-Tag:noindex
X-PUBLISHED-TTL:PT1H
BEGIN:VTIMEZONE
TZID:America/Denver
BEGIN:DAYLIGHT
TZOFFSETFROM:-0700
TZOFFSETTO:-0600
TZNAME:MDT
DTSTART:20250309T090000
END:DAYLIGHT
BEGIN:STANDARD
TZOFFSETFROM:-0600
TZOFFSETTO:-0700
TZNAME:MST
DTSTART:20251102T080000
END:STANDARD
BEGIN:DAYLIGHT
TZOFFSETFROM:-0700
TZOFFSETTO:-0600
TZNAME:MDT
DTSTART:20260308T090000
END:DAYLIGHT
BEGIN:STANDARD
TZOFFSETFROM:-0600
TZOFFSETTO:-0700
TZNAME:MST
DTSTART:20261101T080000
END:STANDARD
BEGIN:DAYLIGHT
TZOFFSETFROM:-0700
TZOFFSETTO:-0600
TZNAME:MDT
DTSTART:20270314T090000
END:DAYLIGHT
BEGIN:STANDARD
TZOFFSETFROM:-0600
TZOFFSETTO:-0700
TZNAME:MST
DTSTART:20271107T080000
END:STANDARD
END:VTIMEZONE
BEGIN:VEVENT
DTSTART;TZID=America/Denver:20260228T200000
DTEND;TZID=America/Denver:20260228T230000
DTSTAMP:20260423T224439
CREATED:20260108T183000Z
LAST-MODIFIED:20260108T183000Z
UID:10007772-1772308800-1772319600@laramieevents.com
SUMMARY:Laradise Music Showcase: Fresh Fruit! / Phryne
DESCRIPTION:Fresh Fruit! has entered their brooding post-apocalyptic era. The whimsical nature of their past releases didn’t do justice to their increasing fears and insecurities regarding the future of the human race. Their declining confidence in the current trajectory of the world has led them to ask bigger questions and approach deeper topics within their music. With their new music\, Fresh Fruit! looks into the future\, but also reminisces on the past as they attempt to navigate the world around them. Their current sound begs the question: what if Marvin Gaye had played more guitar and made music in the midst of a nuclear fallout? \nLaramie’s own\, Phryne\, will be opening up the night for Fresh Fruit! to finish the final installment of the Laradise Music Showcase. \nCome out and support local artists! \nShow: 8:00 pm \nDoors: 7:00 pm
URL:https://laramieevents.com/event/laradise-music-showcase-fresh-fruit-phryne/
LOCATION:Gryphon Theatre\, 710 E Garfield St Studio #333\, Laramie\, WY\, 82070\, United States
CATEGORIES:Live Music
ATTACH;FMTTYPE=image/jpeg:https://laramieevents.com/wp-content/uploads/sites/3/2026/01/FreshFruitPhryne-1-scaled.jpg
END:VEVENT
END:VCALENDAR