BEGIN:VCALENDAR
VERSION:2.0
PRODID:-//Laramie Events - ECPv6.15.17.1//NONSGML v1.0//EN
CALSCALE:GREGORIAN
METHOD:PUBLISH
X-ORIGINAL-URL:https://laramieevents.com
X-WR-CALDESC:Events for Laramie Events
REFRESH-INTERVAL;VALUE=DURATION:PT1H
X-Robots-Tag:noindex
X-PUBLISHED-TTL:PT1H
BEGIN:VTIMEZONE
TZID:America/Denver
BEGIN:DAYLIGHT
TZOFFSETFROM:-0700
TZOFFSETTO:-0600
TZNAME:MDT
DTSTART:20250309T090000
END:DAYLIGHT
BEGIN:STANDARD
TZOFFSETFROM:-0600
TZOFFSETTO:-0700
TZNAME:MST
DTSTART:20251102T080000
END:STANDARD
BEGIN:DAYLIGHT
TZOFFSETFROM:-0700
TZOFFSETTO:-0600
TZNAME:MDT
DTSTART:20260308T090000
END:DAYLIGHT
BEGIN:STANDARD
TZOFFSETFROM:-0600
TZOFFSETTO:-0700
TZNAME:MST
DTSTART:20261101T080000
END:STANDARD
BEGIN:DAYLIGHT
TZOFFSETFROM:-0700
TZOFFSETTO:-0600
TZNAME:MDT
DTSTART:20270314T090000
END:DAYLIGHT
BEGIN:STANDARD
TZOFFSETFROM:-0600
TZOFFSETTO:-0700
TZNAME:MST
DTSTART:20271107T080000
END:STANDARD
END:VTIMEZONE
BEGIN:VEVENT
DTSTART;TZID=America/Denver:20260206T200000
DTEND;TZID=America/Denver:20260206T230000
DTSTAMP:20260423T225443
CREATED:20260108T183001Z
LAST-MODIFIED:20260108T183001Z
UID:10007769-1770408000-1770418800@laramieevents.com
SUMMARY:Laradise Music Showcase: The Athletics / Red Dangit
DESCRIPTION:The Athletics and Red Dangit take the Gryphon Theatre stage\, February 6th\, to kick off the Laradise Music Showcase series. \nCome out and support local artists! \nShow: 8:00 pm \nDoors: 7:00 pm
URL:https://laramieevents.com/event/laradise-music-showcase-the-athletics-red-dangit/
LOCATION:Gryphon Theatre\, 710 E Garfield St Studio #333\, Laramie\, WY\, 82070\, United States
CATEGORIES:Live Music
ATTACH;FMTTYPE=image/jpeg:https://laramieevents.com/wp-content/uploads/sites/3/2026/01/AthleticsRed_Dangit-scaled.jpg
END:VEVENT
END:VCALENDAR