BEGIN:VCALENDAR
VERSION:2.0
PRODID:-//Laramie Events - ECPv6.15.17.1//NONSGML v1.0//EN
CALSCALE:GREGORIAN
METHOD:PUBLISH
X-ORIGINAL-URL:https://laramieevents.com
X-WR-CALDESC:Events for Laramie Events
REFRESH-INTERVAL;VALUE=DURATION:PT1H
X-Robots-Tag:noindex
X-PUBLISHED-TTL:PT1H
BEGIN:VTIMEZONE
TZID:America/Denver
BEGIN:DAYLIGHT
TZOFFSETFROM:-0700
TZOFFSETTO:-0600
TZNAME:MDT
DTSTART:20250309T090000
END:DAYLIGHT
BEGIN:STANDARD
TZOFFSETFROM:-0600
TZOFFSETTO:-0700
TZNAME:MST
DTSTART:20251102T080000
END:STANDARD
BEGIN:DAYLIGHT
TZOFFSETFROM:-0700
TZOFFSETTO:-0600
TZNAME:MDT
DTSTART:20260308T090000
END:DAYLIGHT
BEGIN:STANDARD
TZOFFSETFROM:-0600
TZOFFSETTO:-0700
TZNAME:MST
DTSTART:20261101T080000
END:STANDARD
BEGIN:DAYLIGHT
TZOFFSETFROM:-0700
TZOFFSETTO:-0600
TZNAME:MDT
DTSTART:20270314T090000
END:DAYLIGHT
BEGIN:STANDARD
TZOFFSETFROM:-0600
TZOFFSETTO:-0700
TZNAME:MST
DTSTART:20271107T080000
END:STANDARD
END:VTIMEZONE
BEGIN:VEVENT
DTSTART;TZID=America/Denver:20260130T200000
DTEND;TZID=America/Denver:20260130T230000
DTSTAMP:20260424T004252
CREATED:20260105T004835Z
LAST-MODIFIED:20260105T004835Z
UID:10007765-1769803200-1769814000@laramieevents.com
SUMMARY:The Fretliners with Box of Rocks
DESCRIPTION:The Fretliners are a genuine and powerful bluegrass quartet recognized for their songwriting and undeniable chemistry. Their newfound camaraderie produces an energy that is as infectious on stage as it is on record. So much so that in the summer of 2023\, they won both band competitions at Telluride Bluegrass and Rockygrass Festivals – a feat that had only been accomplished once before. That September\, they released their debut eponymous album to acclaim and adoration. \nThe show will be opened by the incredibly talented\, Laramie local\, Box of Rocks.
URL:https://laramieevents.com/event/the-fretliners-with-box-of-rocks/
LOCATION:Gryphon Theatre\, 710 E Garfield St Studio #333\, Laramie\, WY\, 82070\, United States
CATEGORIES:Live Music
ATTACH;FMTTYPE=image/jpeg:https://laramieevents.com/wp-content/uploads/sites/3/2025/12/FretlinersBoR4x5-1-scaled.jpg
END:VEVENT
END:VCALENDAR