BEGIN:VCALENDAR
VERSION:2.0
PRODID:-//Laramie Events - ECPv6.15.17.1//NONSGML v1.0//EN
CALSCALE:GREGORIAN
METHOD:PUBLISH
X-ORIGINAL-URL:https://laramieevents.com
X-WR-CALDESC:Events for Laramie Events
REFRESH-INTERVAL;VALUE=DURATION:PT1H
X-Robots-Tag:noindex
X-PUBLISHED-TTL:PT1H
BEGIN:VTIMEZONE
TZID:America/Denver
BEGIN:DAYLIGHT
TZOFFSETFROM:-0700
TZOFFSETTO:-0600
TZNAME:MDT
DTSTART:20220313T090000
END:DAYLIGHT
BEGIN:STANDARD
TZOFFSETFROM:-0600
TZOFFSETTO:-0700
TZNAME:MST
DTSTART:20221106T080000
END:STANDARD
BEGIN:DAYLIGHT
TZOFFSETFROM:-0700
TZOFFSETTO:-0600
TZNAME:MDT
DTSTART:20230312T090000
END:DAYLIGHT
BEGIN:STANDARD
TZOFFSETFROM:-0600
TZOFFSETTO:-0700
TZNAME:MST
DTSTART:20231105T080000
END:STANDARD
BEGIN:DAYLIGHT
TZOFFSETFROM:-0700
TZOFFSETTO:-0600
TZNAME:MDT
DTSTART:20240310T090000
END:DAYLIGHT
BEGIN:STANDARD
TZOFFSETFROM:-0600
TZOFFSETTO:-0700
TZNAME:MST
DTSTART:20241103T080000
END:STANDARD
END:VTIMEZONE
BEGIN:VEVENT
DTSTART;TZID=America/Denver:20230810T180000
DTEND;TZID=America/Denver:20230810T200000
DTSTAMP:20260424T001813
CREATED:20230628T160006Z
LAST-MODIFIED:20230628T160006Z
UID:10000092-1691690400-1691697600@laramieevents.com
SUMMARY:Little Pokes Summer Rodeo Series
DESCRIPTION:
URL:https://laramieevents.com/event/little-pokes-summer-rodeo-series/2023-08-10/
CATEGORIES:Kid Friendly
END:VEVENT
BEGIN:VEVENT
DTSTART;TZID=America/Denver:20230729T100000
DTEND;TZID=America/Denver:20230729T120000
DTSTAMP:20260424T001813
CREATED:20230726T020050Z
LAST-MODIFIED:20230726T020050Z
UID:10000105-1690624800-1690632000@laramieevents.com
SUMMARY:Backpack Giveaway
DESCRIPTION:Know a student who needs a backpack and school supplies for the upcoming school year?\n\nVerizon-Cellular Plus in Laramie (located across from the University of WY) is proud to be giving away FREE BACKPACKS filled with school supplies on Saturday\, July 29 from 10am to noon.\n\n No purchase necessary – this is a gift from us\, to our students.\n\nWe are excited to be able to give back to our local community and make it a little easier for families to afford the essential supplies needed to start the school year off right.\n\nIf you would like to help as well\, our store is accepting donations and will distribute everything collected to our local kids.\n\nSee you Saturday\, July 29!\n\nRemember – A child must be present with an adult to claim their free backpack. There are a limited number available and will be distributed while supplies last. One per student.
URL:https://laramieevents.com/event/backpack-giveaway/
CATEGORIES:Kid Friendly
ATTACH;FMTTYPE=image/jpeg:https://laramieevents.com/wp-content/uploads/sites/3/2023/07/355876108_676716757801203_580138751017907353_n.jpg
END:VEVENT
BEGIN:VEVENT
DTSTART;TZID=America/Denver:20230723T130000
DTEND;TZID=America/Denver:20230723T150000
DTSTAMP:20260424T001813
CREATED:20230717T041404Z
LAST-MODIFIED:20230717T041428Z
UID:10000100-1690117200-1690124400@laramieevents.com
SUMMARY:Foam Party at Albany County Public Library
DESCRIPTION:Here’s what to expect:\n Kids will get wet & soapy\, so bring a towel to dry off.\n Participants can wear swimsuits or any comfortable clothing that can get wet & soapy. Dry clothes for after are a good idea.\n Don’t forget to wear shoes!\n Remember sunscreen (water-proof is best).\n You’re welcome to bring a lawn chair.\n The foam is safe. It is bio-degradable\, non-toxic\, non-staining\, unscented and hypoallergenic.\n Snacks provided.
URL:https://laramieevents.com/event/1842/
CATEGORIES:Kid Friendly
ATTACH;FMTTYPE=image/jpeg:https://laramieevents.com/wp-content/uploads/sites/3/2023/07/357779804_572234995121886_951085394684653902_n.jpg
END:VEVENT
BEGIN:VEVENT
DTSTART;TZID=America/Denver:20230720T180000
DTEND;TZID=America/Denver:20230720T200000
DTSTAMP:20260424T001813
CREATED:20230628T160006Z
LAST-MODIFIED:20230628T160006Z
UID:10000091-1689876000-1689883200@laramieevents.com
SUMMARY:Little Pokes Summer Rodeo Series
DESCRIPTION:
URL:https://laramieevents.com/event/little-pokes-summer-rodeo-series/2023-07-20/
CATEGORIES:Kid Friendly
END:VEVENT
BEGIN:VEVENT
DTSTART;TZID=America/Denver:20230715T080000
DTEND;TZID=America/Denver:20230715T120000
DTSTAMP:20260424T001813
CREATED:20230601T185540Z
LAST-MODIFIED:20230609T163041Z
UID:10000038-1689408000-1689422400@laramieevents.com
SUMMARY:Huck Finn Fishing Derby Presented by Toyota of Laramie
DESCRIPTION:Kids ages 13 and under can fish and prizes will be awarded for 4 different age groups: 5 and under\, 6-7\, 8-10\, 11-13. Each group will have a prize for first fish caught\, smallest fish\, largest fish\, and first to reach the limit. \nRegister at the park the morning of the event. \n 
URL:https://laramieevents.com/event/huck-finn-fishing-derby/
CATEGORIES:Kid Friendly
ATTACH;FMTTYPE=image/png:https://laramieevents.com/wp-content/uploads/sites/3/2020/07/huck-finn-fishing-derby-logo.png
END:VEVENT
BEGIN:VEVENT
DTSTART;TZID=America/Denver:20230713T180000
DTEND;TZID=America/Denver:20230713T200000
DTSTAMP:20260424T001813
CREATED:20230628T160006Z
LAST-MODIFIED:20230628T160006Z
UID:10000090-1689271200-1689278400@laramieevents.com
SUMMARY:Little Pokes Summer Rodeo Series
DESCRIPTION:
URL:https://laramieevents.com/event/little-pokes-summer-rodeo-series/2023-07-13/
CATEGORIES:Kid Friendly
END:VEVENT
BEGIN:VEVENT
DTSTART;TZID=America/Denver:20230713T180000
DTEND;TZID=America/Denver:20230713T200000
DTSTAMP:20260424T001813
CREATED:20230615T171947Z
LAST-MODIFIED:20230711T153831Z
UID:10000056-1689271200-1689278400@laramieevents.com
SUMMARY:LHS Football Car Show
DESCRIPTION:Bring your car\, truck\, or motorcycle to showcase at the LHS Parking Lot for a $20 suggested donation. \nAll proceeds benefit the LHS Football Team.
URL:https://laramieevents.com/event/lhs-football-car-show/
LOCATION:Laramie High School
CATEGORIES:Fundraiser,Kid Friendly
ATTACH;FMTTYPE=image/gif:https://laramieevents.com/wp-content/uploads/sites/3/2023/06/car-show.gif
END:VEVENT
BEGIN:VEVENT
DTSTART;TZID=America/Denver:20230704T100000
DTEND;TZID=America/Denver:20230704T160000
DTSTAMP:20260424T001813
CREATED:20230607T014443Z
LAST-MODIFIED:20230607T014443Z
UID:10000046-1688464800-1688486400@laramieevents.com
SUMMARY:Freedom Has A Birthday
DESCRIPTION:Freedom has a Birthday will be held on July 4th\, 2023 from 10am to 4pm. This family friendly\, alcohol-free event has attracted more than 10\,000 visitors in the past and offers so much fun including live music\, activities\, food\, and more!
URL:https://laramieevents.com/event/freedom-has-a-birthday/
LOCATION:Washington Park
CATEGORIES:Kid Friendly
ATTACH;FMTTYPE=image/png:https://laramieevents.com/wp-content/uploads/sites/3/2023/06/freedom-has-a-birthday.png
END:VEVENT
BEGIN:VEVENT
DTSTART;TZID=America/Denver:20230701T200000
DTEND;TZID=America/Denver:20230701T220000
DTSTAMP:20260424T001813
CREATED:20230607T013318Z
LAST-MODIFIED:20230609T020039Z
UID:10000044-1688241600-1688248800@laramieevents.com
SUMMARY:RESCHEDULED - Drive In Movie Night At Laramie Range Ford
DESCRIPTION:This event was originally scheduled for June 10th but was rescheduled due to weather. \nJoin for another drive-in style movie at Laramie Range Ford! \nThis time they’re screening Cars. Doors open at 8:00pm so you can get your spot and grab some FREE popcorn. The movie will start at 8:45 after the sun goes down for optimal viewing. This event is completely free for the community to enjoy! They hope to see you there!
URL:https://laramieevents.com/event/drive-in-movie-night-at-laramie-range-ford/
CATEGORIES:Kid Friendly
ATTACH;FMTTYPE=image/jpeg:https://laramieevents.com/wp-content/uploads/sites/3/2023/06/laramie-range-ford-logo.jpg
END:VEVENT
BEGIN:VEVENT
DTSTART;TZID=America/Denver:20230617T100000
DTEND;TZID=America/Denver:20230617T130000
DTSTAMP:20260424T001813
CREATED:20230612T231152Z
LAST-MODIFIED:20230612T231152Z
UID:10000052-1686996000-1687006800@laramieevents.com
SUMMARY:Touch A Truck
DESCRIPTION:The City of Laramie is pleased to invite you to the 6th annual Touch a Truck event held June 17th at the Laramie Recreation Center and Ice & Event Center parking lots. This is a FREE family-friendly event\, giving children the opportunity to get up close and personal to some of Laramie’s big trucks. The first 250 children attending the event will receive a free t-shirt and many businesses will be handing out toys\, books and goodies for attendees. The City of Laramie Fire Department and Laramie Police Department are just a few to be joining the event with their fire trucks and police vehicles. So be sure to stop by between 10am-1pm to enjoy some family fun.
URL:https://laramieevents.com/event/touch-a-truck/
CATEGORIES:Kid Friendly
ATTACH;FMTTYPE=image/png:https://laramieevents.com/wp-content/uploads/sites/3/2023/06/touch-a-truck.png
END:VEVENT
BEGIN:VEVENT
DTSTART;TZID=America/Denver:20230617T100000
DTEND;TZID=America/Denver:20230617T110000
DTSTAMP:20260424T001813
CREATED:20230612T232133Z
LAST-MODIFIED:20230612T232610Z
UID:10000053-1686996000-1686999600@laramieevents.com
SUMMARY:Sensory Exploration Class at The Nest - Session 1
DESCRIPTION:*Parents are required to attend all classes along with their children at The Nest.* \nCome get messy with us! This three week session will offer different types of sensory play each week with open play at The Nest afterwards included. Best for ages 2+.\n$40 for the public\n$10 off for members with code MEMBER10 at checkout
URL:https://laramieevents.com/event/sensory-exploration-class-at-the-nest/
LOCATION:The Nest
CATEGORIES:Kid Friendly
ATTACH;FMTTYPE=image/jpeg:https://laramieevents.com/wp-content/uploads/sites/3/2023/06/344917850_1949020278829831_706765993449926761_n.jpg
END:VEVENT
BEGIN:VEVENT
DTSTART;TZID=America/Denver:20230607T103000
DTEND;TZID=America/Denver:20230607T110000
DTSTAMP:20260424T001813
CREATED:20230602T022618Z
LAST-MODIFIED:20230602T022618Z
UID:10000043-1686133800-1686135600@laramieevents.com
SUMMARY:Storytime at The Nest
DESCRIPTION:Ms. Jeannine is a retired librarian who is excited to join us for this twice monthly event. We’ll read a few stories\, maybe sing a few songs\, and have plenty of time afterwards to play! FREE for members – $8 entry fee for non-members.
URL:https://laramieevents.com/event/storytime-at-the-nest/
CATEGORIES:Kid Friendly
ATTACH;FMTTYPE=image/jpeg:https://laramieevents.com/wp-content/uploads/sites/3/2023/06/344751012_947939756405016_3062585216698349557_n.jpg
END:VEVENT
END:VCALENDAR