BEGIN:VCALENDAR
VERSION:2.0
PRODID:-//Laramie Events - ECPv6.15.17.1//NONSGML v1.0//EN
CALSCALE:GREGORIAN
METHOD:PUBLISH
X-WR-CALNAME:Laramie Events
X-ORIGINAL-URL:https://laramieevents.com
X-WR-CALDESC:Events for Laramie Events
REFRESH-INTERVAL;VALUE=DURATION:PT1H
X-Robots-Tag:noindex
X-PUBLISHED-TTL:PT1H
BEGIN:VTIMEZONE
TZID:America/Denver
BEGIN:DAYLIGHT
TZOFFSETFROM:-0700
TZOFFSETTO:-0600
TZNAME:MDT
DTSTART:20220313T090000
END:DAYLIGHT
BEGIN:STANDARD
TZOFFSETFROM:-0600
TZOFFSETTO:-0700
TZNAME:MST
DTSTART:20221106T080000
END:STANDARD
BEGIN:DAYLIGHT
TZOFFSETFROM:-0700
TZOFFSETTO:-0600
TZNAME:MDT
DTSTART:20230312T090000
END:DAYLIGHT
BEGIN:STANDARD
TZOFFSETFROM:-0600
TZOFFSETTO:-0700
TZNAME:MST
DTSTART:20231105T080000
END:STANDARD
BEGIN:DAYLIGHT
TZOFFSETFROM:-0700
TZOFFSETTO:-0600
TZNAME:MDT
DTSTART:20240310T090000
END:DAYLIGHT
BEGIN:STANDARD
TZOFFSETFROM:-0600
TZOFFSETTO:-0700
TZNAME:MST
DTSTART:20241103T080000
END:STANDARD
BEGIN:DAYLIGHT
TZOFFSETFROM:-0700
TZOFFSETTO:-0600
TZNAME:MDT
DTSTART:20250309T090000
END:DAYLIGHT
BEGIN:STANDARD
TZOFFSETFROM:-0600
TZOFFSETTO:-0700
TZNAME:MST
DTSTART:20251102T080000
END:STANDARD
END:VTIMEZONE
BEGIN:VEVENT
DTSTART;TZID=America/Denver:20240601T110000
DTEND;TZID=America/Denver:20240601T170000
DTSTAMP:20260423T221635
CREATED:20240215T192557Z
LAST-MODIFIED:20240425T202909Z
UID:10000845-1717239600-1717261200@laramieevents.com
SUMMARY:Putt Putt Pub Crawl
DESCRIPTION:Join us on the most spectacular putt putt course as participating bars each offer a unique putt putt experience. PLUS\, cash prizes will be available for the best team score and best costumes!\n\nGolfers will check-in starting at 11am at Bonds Brewing Company to get scorecards and play the first hole.  Then golfers will proceed through the other locations in any order you want before meeting back up at Bud’s Bar at 5pm for final score tabulations and prize awards for costumes.\n\nProceeds from golfer registrations will be donated to Laramie Connections
URL:https://laramieevents.com/event/putt-putt-pub-crawl-2/
CATEGORIES:Fundraiser
ATTACH;FMTTYPE=image/png:https://laramieevents.com/wp-content/uploads/sites/3/2024/02/Putt-Putt-Pub-Crawl-Logo-8.5-×-4.8-in.png
END:VEVENT
BEGIN:VEVENT
DTSTART;TZID=America/Denver:20240217T180000
DTEND;TZID=America/Denver:20240217T220000
DTSTAMP:20260423T221635
CREATED:20231110T163645Z
LAST-MODIFIED:20240215T225019Z
UID:10000774-1708192800-1708207200@laramieevents.com
SUMMARY:Home Brewers Festival
DESCRIPTION:Food\, live music\, and a silent auction while you taste the creations of local home brewers AND raise money for Laramie Animal Welfare Society!\n\nSaturday February 17th at the Laramie Plains Civic Center South Gym.
URL:https://laramieevents.com/event/home-brewers-festival/
LOCATION:Laramie Plains Civic Center\, 710 E Garfield\, Laramie\, WY\, 82070\, United States
CATEGORIES:Fundraiser,Live Music
ATTACH;FMTTYPE=image/png:https://laramieevents.com/wp-content/uploads/sites/3/2022/12/Home-Brewers-Festival-Logo.png
END:VEVENT
BEGIN:VEVENT
DTSTART;TZID=America/Denver:20231202T080000
DTEND;TZID=America/Denver:20231202T120000
DTSTAMP:20260423T221635
CREATED:20230927T194419Z
LAST-MODIFIED:20231130T185306Z
UID:10000675-1701504000-1701518400@laramieevents.com
SUMMARY:17th Annual Breakfast with Santa
DESCRIPTION:Enjoy eggs\, pancakes\, and sausage for breakfast.   Kids can have their photo taken with Santa and decorate a cookie too! \nTickets will also be available at the door while supplies last. \n  \n 
URL:https://laramieevents.com/event/17th-annual-breakfast-with-santa/
LOCATION:Laramie Plains Civic Center\, 710 E Garfield\, Laramie\, WY\, 82070\, United States
CATEGORIES:Fundraiser,Kid Friendly
ATTACH;FMTTYPE=image/png:https://laramieevents.com/wp-content/uploads/sites/3/2023/09/Breakfast-with-Santa-Facebook-Cover.png
END:VEVENT
BEGIN:VEVENT
DTSTART;TZID=America/Denver:20231126T100000
DTEND;TZID=America/Denver:20231126T160000
DTSTAMP:20260423T221635
CREATED:20231102T161616Z
LAST-MODIFIED:20231102T161616Z
UID:10000765-1700992800-1701014400@laramieevents.com
SUMMARY:Artist Sunday Market
DESCRIPTION:Shop local art and gifts\, enjoy live music\, refreshments and more at the 2nd Artist Sunday Market in the Civic Center’s South Gym! (Enter on Custer Street). Learn more at lpccwy.org/artistmarket.\n\nArtists Sunday is a nationwide art-shopping event held the Sunday after Thanksgiving. LPCC has joined community partners in a city-wide weekend of local shopping opportunities for the kick-off of the holiday shopping season. Join us as we invite Laramie to keep their dollars local and support local artists\, makers\, and performers.\n\nThis year’s event will host 40+ local artists\, live music\, community art project\, and refreshments from Sunshine Coffee! Don’t miss the ornament tree featuring one-of-a-kind ornaments from local artists. A portion of these purchases will support the Laramie Plains Civic Center.
URL:https://laramieevents.com/event/artist-sunday-market/
LOCATION:Laramie Plains Civic Center\, 710 E Garfield\, Laramie\, WY\, 82070\, United States
CATEGORIES:Fundraiser,Live Music
ATTACH;FMTTYPE=image/png:https://laramieevents.com/wp-content/uploads/sites/3/2023/11/1.png
ORGANIZER;CN="Laramie Plains Civic Center":MAILTO:jbrauer@lpccwy.org
END:VEVENT
BEGIN:VEVENT
DTSTART;TZID=America/Denver:20231110T180000
DTEND;TZID=America/Denver:20231110T200000
DTSTAMP:20260423T221635
CREATED:20231016T152411Z
LAST-MODIFIED:20231016T152519Z
UID:10000743-1699639200-1699646400@laramieevents.com
SUMMARY:Pokes Got Talent
DESCRIPTION:The Wyoming Coalition Against Domestic Violence and Sexual Assault welcomes you to our fall talent show! Celebrate Laramie’s local talent and support survivors of domestic violence\, sexual assault and stalking at The Lair (207 S. 3rd). All ages welcome. Vote for performances by donating $2.00. There is no limit to how many times someone can vote so bring your friends! Visit www.wyomingdvsa.org/pokes-got-talent to learn more
URL:https://laramieevents.com/event/pokes-got-talent/
LOCATION:The Lair\, 207 South 3rd Street\, Laramie\, WY\, 82072\, United States
CATEGORIES:Fundraiser,Kid Friendly,Live Music
ATTACH;FMTTYPE=image/png:https://laramieevents.com/wp-content/uploads/sites/3/2023/10/pokes-got-talent-social-media.png
ORGANIZER;CN="Wyoming Coalition Against Domestic Violence and Sexual Assault":MAILTO:info@wyomingdvsa.org
END:VEVENT
BEGIN:VEVENT
DTSTART;TZID=America/Denver:20231004T163000
DTEND;TZID=America/Denver:20231004T183000
DTSTAMP:20260423T221636
CREATED:20230927T215829Z
LAST-MODIFIED:20230927T215829Z
UID:10000673-1696437000-1696444200@laramieevents.com
SUMMARY:Tapas & Tours
DESCRIPTION:The Laramie Soup Kitchen and the United Way of Albany County invite you to join us for Tapas and Tours! For a suggested donation of $7 to United Way of Albany County you’ll get a selection of hot appetizers\, cold appetizers\, and desserts (all you can eat).\nCome support the Laramie Soup Kitchen through the United Way Campaign and enjoy tasty eats from the Laramie Soup Kitchen.
URL:https://laramieevents.com/event/tapas-tours/
LOCATION:Laramie Soup Kitchen\, 104 S 4th St Suite 101\, Laramie\, WY\, 82070\, United States
CATEGORIES:Fundraiser
ATTACH;FMTTYPE=image/png:https://laramieevents.com/wp-content/uploads/sites/3/2023/09/Tapas-and-Tours-2023_PNG.png
ORGANIZER;CN="Laramie Soup Kitchen":MAILTO:outreach@laramiesoupkitchen.org
END:VEVENT
BEGIN:VEVENT
DTSTART;TZID=America/Denver:20230916T101500
DTEND;TZID=America/Denver:20230916T120000
DTSTAMP:20260423T221636
CREATED:20230818T205232Z
LAST-MODIFIED:20230818T205232Z
UID:10000142-1694859300-1694865600@laramieevents.com
SUMMARY:2023 Walk to End Alzheimer's - Albany County\, WY
DESCRIPTION:Registration starts at 9:30 am and opening ceremonies begin at 10:15
URL:https://laramieevents.com/event/2023-walk-to-end-alzheimers-albany-county-wy/
LOCATION:Optimist Park
CATEGORIES:Fundraiser
ATTACH;FMTTYPE=image/gif:https://laramieevents.com/wp-content/uploads/sites/3/2023/08/walk-to-end-alz-2023.gif
END:VEVENT
BEGIN:VEVENT
DTSTART;TZID=America/Denver:20230916T100000
DTEND;TZID=America/Denver:20230916T120000
DTSTAMP:20260423T221636
CREATED:20230810T162817Z
LAST-MODIFIED:20230810T180309Z
UID:10000126-1694858400-1694865600@laramieevents.com
SUMMARY:6th Annual Underachievers Race Presented by Toyota of Laramie
DESCRIPTION:This is not your typical race… \nRacers can run\, walk\, crawl\, or use any form of non-motorized transportation to compete in an untimed .5k – note the decimal… this race is total of about 500 yards. \nThe race begins and ends at the Washington Park basketball court and race start time is 10am-ish \nCostumes are encouraged and there will be prizes for the best costume and best team costume. \nDonuts and coffee will be available for racers to refuel at the halfway point\, and racers receive a beer at the finish line to celebrate completing the race! \nWe have games along the race course as well!  We’ve put our own spin on some classic yard games but we make them very simple as we don’t want our racers to have to work too hard. \nThe best part is it’s all for charity!  Proceeds from racer registrations will be donated to The Downtown Clinic.
URL:https://laramieevents.com/event/6th-annual-underachievers-race-presented-by-toyota-of-laramie/
LOCATION:Washington Park
CATEGORIES:Fundraiser
ATTACH;FMTTYPE=image/png:https://laramieevents.com/wp-content/uploads/sites/3/2023/08/Underachievers-Race-Header.png
END:VEVENT
BEGIN:VEVENT
DTSTART;TZID=America/Denver:20230908T180000
DTEND;TZID=America/Denver:20230908T210000
DTSTAMP:20260423T221636
CREATED:20230726T022345Z
LAST-MODIFIED:20230902T222026Z
UID:10000109-1694196000-1694206800@laramieevents.com
SUMMARY:Hospice of Laramie Wine Gala
DESCRIPTION:Support Hospice with an evening of wine\, food\, a silent auction\, wine pull\, and other fun activities.\nGet ready to sip wine and learn from local and regional wineries while you snack on food from The Grazing Cowboy\, bid on the many silent auction items\, participate in games and activities\, and enjoy time with your friends while raising money for this amazing community resource!\nNot into wine? We will also have a selection of beers and spirits\, as well as non-alcoholic beverages.\nThe funds raised at the Wine Gala allow Hospice to continue their mission of helping those in their last chapter of life to focus on quality of life and dignity.\nYou will need to bring your smart phone to participate in the silent auction. If you don’t have a smart phone we will have a limited number of tablets where you can bid\, and people to help you do so!\nThere are a limited number of VIP Tickets. The VIP Ticket requires a recurring monthly donation of at least $35\, with a one-year commitment. You will purchase the VIP ticket for $35\, and we will reach out to you with instructions on setting up the recurring donation! A recurring donation makes a HUGE impact over the course of the year! VIPs get early entry to the event (5:15)\, silent auction bidding\, and access to the VIP area with special wines and food!\nTickets are transferable through Hospice of Laramie\, but non-refundable. Contact Hospice of Laramie if you need to transfer your tickets to someone else.\nGet dressed up and join us for this fun evening!\n\nGet your tickets here: https://hospiceoflaramie.networkforgood.com/events/55697
URL:https://laramieevents.com/event/hospice-of-laramie-wine-gala/
CATEGORIES:Fundraiser
ATTACH;FMTTYPE=image/jpeg:https://laramieevents.com/wp-content/uploads/sites/3/2023/07/344747851_1055015108806872_6130328813239447929_n.jpg
END:VEVENT
BEGIN:VEVENT
DTSTART;TZID=America/Denver:20230826T170000
DTEND;TZID=America/Denver:20230826T220000
DTSTAMP:20260423T221636
CREATED:20230818T225322Z
LAST-MODIFIED:20230818T225322Z
UID:10000143-1693069200-1693087200@laramieevents.com
SUMMARY:La Grande Fleur
DESCRIPTION:The premier black-tie benefit for the Ivinson Memorial Hospital Foundation\, the La Grande Fleur is our largest Fundraiser each year.\nThe 37th annual La Grande Fleur will be held on Saturday\, August 26\, 2023. Guests who spend an evening with us at the La Grande Fleur will experience social activities\, a premier silent auction\, friendship\, a plated dinner\, and entertainment. Funds raised at the event have made a tremendous impact in providing world-class care to the Laramie community\, including funding cutting edge equipment and improving patient care at Ivinson. We look forward to the 2023 event\, chaired by Kelly and Dylan Milam\, and hope to see you on August 26!\nTo reserve a table or for additional sponsor information please contact the Foundation office at 307-755-4520 or at foundation@ivinsonhospital.org
URL:https://laramieevents.com/event/la-grande-fleur/
LOCATION:Marian H. Rochelle Gateway Center
CATEGORIES:Fundraiser
ATTACH;FMTTYPE=image/jpeg:https://laramieevents.com/wp-content/uploads/sites/3/2023/08/Banner_2x4-skp_2307c9384e959aaf0ab2fa6d88bca144.jpg
END:VEVENT
BEGIN:VEVENT
DTSTART;TZID=America/Denver:20230812T163000
DTEND;TZID=America/Denver:20230812T200000
DTSTAMP:20260423T221636
CREATED:20230817T211336Z
LAST-MODIFIED:20230817T211336Z
UID:10000140-1691857800-1691870400@laramieevents.com
SUMMARY:Evening At The Ivinson's
DESCRIPTION:Please join us for a glamorous night in Hollywood to support the Laramie Plains Museum at the Historic Ivinson Mansion.\nAllow us to sweep you back to the past with this year’s theme:\n“The Golden Age of Hollywood\,1920s-1960s.” Please feel free to come dressed as your favorite Hollywood Star of the era—think dashing leading men\, heroic cowboys\, darling divas\, and beautiful ingenues.\nJoin us for cocktails\, a full dinner\, raffles\, and a silent auction.\n$150 per Individual\, $275 per couple. $1500 for Sponsor Table.\nPlease call 307-742-4448 or email lpmdirector@LaramieMuseum.org to RSVP before August 12th.
URL:https://laramieevents.com/event/evening-at-the-ivinsons/
LOCATION:Laramie Plains Museum
CATEGORIES:Fundraiser
ATTACH;FMTTYPE=image/jpeg:https://laramieevents.com/wp-content/uploads/sites/3/2023/08/366685940_686101903538399_2063163539462879064_n.jpg
END:VEVENT
BEGIN:VEVENT
DTSTART;TZID=America/Denver:20230806T100000
DTEND;TZID=America/Denver:20230806T160000
DTSTAMP:20260423T221636
CREATED:20230726T020526Z
LAST-MODIFIED:20230726T020526Z
UID:10000106-1691316000-1691337600@laramieevents.com
SUMMARY:LAWS Garage/Rummage Sale
DESCRIPTION:LAWS is hosting our 2nd HUGE rummage/garage sale of the summer on Sunday\, August 6th!! We have so many amazing donated items\, from furniture\, to outdoor gear\, to clothing\, books\, shoes\, knick-knacks and everything in between! Come look through all the amazing donated items and help support the 200 animals in our programs with your purchase! \n1050 N 3rd Street
URL:https://laramieevents.com/event/laws-garage-rummage-sale/
CATEGORIES:Fundraiser
ATTACH;FMTTYPE=image/jpeg:https://laramieevents.com/wp-content/uploads/sites/3/2023/07/362283653_662234082604302_8560466639513783647_n.jpg
END:VEVENT
BEGIN:VEVENT
DTSTART;TZID=America/Denver:20230805T120000
DTEND;TZID=America/Denver:20230805T160000
DTSTAMP:20260423T221636
CREATED:20230801T021641Z
LAST-MODIFIED:20230801T021641Z
UID:10000116-1691236800-1691251200@laramieevents.com
SUMMARY:Burnouts and Brews Car Show
DESCRIPTION:Annual Burnouts & Brews car show at Bonds Brewing Company\n$20 entry fee per car/ entry fees will be donated to charity\nYou can sign your vehicle up early at the brewery or start showing up to sign up at 10am morning of\, public will begin showing up at noon and judging will be at 3:30\, awards at 4pm ish.
URL:https://laramieevents.com/event/burnouts-and-brews-car-show/
CATEGORIES:Fundraiser
ATTACH;FMTTYPE=image/jpeg:https://laramieevents.com/wp-content/uploads/sites/3/2023/07/355492295_218630681114247_7328926342343878098_n.jpg
END:VEVENT
BEGIN:VEVENT
DTSTART;TZID=America/Denver:20230729T100000
DTEND;TZID=America/Denver:20230729T130000
DTSTAMP:20260423T221636
CREATED:20230728T224855Z
LAST-MODIFIED:20230728T224855Z
UID:10000115-1690624800-1690635600@laramieevents.com
SUMMARY:LHS Cheer Team Car Wash Fundraiser
DESCRIPTION:The Laramie High School Cheer Team is gearing up for an exciting fundraising event this Saturday\, July 29\, 2023. With the aim of garnering community support and securing funds for their upcoming activities\, the spirited cheerleaders will be hosting a car wash at the Brown and Gold store parking lot from 10 a.m. until 1 p.m.
URL:https://laramieevents.com/event/lhs-cheer-team-car-wash-fundraiser/
CATEGORIES:Fundraiser
ATTACH;FMTTYPE=image/jpeg:https://laramieevents.com/wp-content/uploads/sites/3/2023/07/8134880016047295764.jpg
END:VEVENT
BEGIN:VEVENT
DTSTART;TZID=America/Denver:20230725T080000
DTEND;TZID=America/Denver:20230725T170000
DTSTAMP:20260423T221636
CREATED:20230726T021025Z
LAST-MODIFIED:20230726T021025Z
UID:10000107-1690272000-1690304400@laramieevents.com
SUMMARY:Brewtober
DESCRIPTION:StagePoint Community Foundation will hold its third annual Brewtober on September 16 at Undine Park from Noon – 5 pm. Tickets are limited for Laramie’s fall beer festival and are on sale now! \nhttps://app.promotix.com/events/details/Brewtober-tickets\n\nPaper tickets may be purchased at 365 N. 3rd St. in Laramie\n\nBrewtober is a fundraising event for StagePoint Community Foundation\, a 501c3 non-profit of which 100% of funds are used to support other non-profits that benefit the\ncommunity. https://www.stagepointfcu.com/foundation
URL:https://laramieevents.com/event/brewtober/
CATEGORIES:Fundraiser
ATTACH;FMTTYPE=image/jpeg:https://laramieevents.com/wp-content/uploads/sites/3/2023/07/359435436_766267108833973_3793460302812373313_n.jpg
END:VEVENT
BEGIN:VEVENT
DTSTART;TZID=America/Denver:20230713T180000
DTEND;TZID=America/Denver:20230713T200000
DTSTAMP:20260423T221636
CREATED:20230615T171947Z
LAST-MODIFIED:20230711T153831Z
UID:10000056-1689271200-1689278400@laramieevents.com
SUMMARY:LHS Football Car Show
DESCRIPTION:Bring your car\, truck\, or motorcycle to showcase at the LHS Parking Lot for a $20 suggested donation. \nAll proceeds benefit the LHS Football Team.
URL:https://laramieevents.com/event/lhs-football-car-show/
LOCATION:Laramie High School
CATEGORIES:Fundraiser,Kid Friendly
ATTACH;FMTTYPE=image/gif:https://laramieevents.com/wp-content/uploads/sites/3/2023/06/car-show.gif
END:VEVENT
BEGIN:VEVENT
DTSTART;TZID=America/Denver:20230617T120000
DTEND;TZID=America/Denver:20230617T150000
DTSTAMP:20260423T221636
CREATED:20230615T174142Z
LAST-MODIFIED:20230615T174142Z
UID:10000058-1687003200-1687014000@laramieevents.com
SUMMARY:Centennial Valley Volunteer Fire Department Open House
DESCRIPTION:An afternoon of fun\, raffles\, and a silent auction to benefit CVVFD. \nEnjoy a free roast pig lunch and check out the latest improvements.
URL:https://laramieevents.com/event/centennial-valley-volunteer-fire-department-open-house/
CATEGORIES:Fundraiser
ATTACH;FMTTYPE=image/jpeg:https://laramieevents.com/wp-content/uploads/sites/3/2023/06/cvvfd-truck.jpg
END:VEVENT
BEGIN:VEVENT
DTSTART;TZID=America/Denver:20230617T090000
DTEND;TZID=America/Denver:20230617T120000
DTSTAMP:20260423T221636
CREATED:20230602T002425Z
LAST-MODIFIED:20230602T002702Z
UID:10000039-1686992400-1687003200@laramieevents.com
SUMMARY:Living In Color 5k Fun Run
DESCRIPTION:At the end of life\, we are always reminded of the importance of living each day to its fullest. Hospice of Laramie is excited for the second annual Living in Color 5k to support their mission of promoting dignity and comfort at the end of life.\n\nPurchase Tickets before May 1 to receive a guaranteed T Shirt size. After May 31st\, T shirt sizes are not guaranteed. We will order extras\, but its first come\, first serve. You can wear a white shirt\, or dress up however you like. We cant wait to see the tutus\, Unicorns\, Dinosaurs and other team spirit!\n\nThe race will start and end at Hospice of Laramie- 1754 Centennial Dr. This is off Pierce Street in West Laramie
URL:https://laramieevents.com/event/living-in-color-5k-fun-run/
CATEGORIES:Fundraiser
ATTACH;FMTTYPE=image/jpeg:https://laramieevents.com/wp-content/uploads/sites/3/2023/06/hospice-living-in-color-5k-2023.jpg
END:VEVENT
BEGIN:VEVENT
DTSTART;TZID=America/Denver:20230608T080000
DTEND;TZID=America/Denver:20230610T150000
DTSTAMP:20260423T221636
CREATED:20230531T180213Z
LAST-MODIFIED:20230531T180213Z
UID:10000034-1686211200-1686409200@laramieevents.com
SUMMARY:Albany County Toys For Tots Garage Sale
DESCRIPTION:The Boardwalk Mercado is hosting the Albany County Toys for Tots garage sale. June 8th-10th.\n\n\nJune 8th\, 10:00am – 2:00 pm We will be accepting donations.\n\n\nJune 9th -10th 9:00am – 3:00pm We will have the sale.\n\n\nIt’s going to be HUGE\, lots of collectibles\, precious moments figurines\, dolls\, pictures\, books\, house hold items\, purses\, vases\, ribbon\, there is just too much to list\, but there is something for everyone.\n\n\nWe will NOT be accepting furniture or clothing.\n\n\nCome out and help support Albany County Toys for Tots\, all proceeds will benefit the less fortunate children of Albany County.
URL:https://laramieevents.com/event/albany-county-toys-for-tots-garage-sale/
CATEGORIES:Fundraiser
ATTACH;FMTTYPE=image/jpeg:https://laramieevents.com/wp-content/uploads/sites/3/2023/05/toys-for-tots.jpg
END:VEVENT
BEGIN:VEVENT
DTSTART;TZID=America/Denver:20230604T100000
DTEND;TZID=America/Denver:20230604T140000
DTSTAMP:20260423T221636
CREATED:20230602T003211Z
LAST-MODIFIED:20230602T003211Z
UID:10000040-1685872800-1685887200@laramieevents.com
SUMMARY:BINGO for Laramie Soup Kitchen
DESCRIPTION:The Alibi will be hosting BINGO to benefit the Laramie Soup Kitchen.  From 10-2 10% of all sales will be donated to the Laramie Soup Kitchen.  Stop in for brunch and join in for a game of BINGO for a good cause.
URL:https://laramieevents.com/event/bingo-for-laramie-soup-kitchen/
CATEGORIES:Fundraiser
ATTACH;FMTTYPE=image/jpeg:https://laramieevents.com/wp-content/uploads/sites/3/2023/06/alibi-bingo-for-laramie-soup-kitchen.jpg
END:VEVENT
BEGIN:VEVENT
DTSTART;TZID=America/Denver:20230603T110000
DTEND;TZID=America/Denver:20230603T190000
DTSTAMP:20260423T221636
CREATED:20230601T185106Z
LAST-MODIFIED:20230601T185414Z
UID:10000037-1685790000-1685818800@laramieevents.com
SUMMARY:Putt Putt Pub Crawl
DESCRIPTION:Get ready for the most epic Pub Crawl of the Summer! \nThe Putt Putt Pub Crawl will take over the finest mini-golf courses around town and give you the chance to enjoy an ice cold beverage while you play! Golf courses include Bonds Brewing\, Buckhorn Bar\, Accomplice Brewing Company\, Laramie Lanes\, Mulligans and Buds Bar. \nCash prizes will be available and proceeds from event registration fees will go to Laramie Connections Center.
URL:https://laramieevents.com/event/putt-putt-pub-crawl/
CATEGORIES:Fundraiser
ATTACH;FMTTYPE=image/png:https://laramieevents.com/wp-content/uploads/sites/3/2023/05/Putt-Putt-Pub-Crawl-Logo-wo-website-8.5-×-4.8-in.png
END:VEVENT
END:VCALENDAR