BEGIN:VCALENDAR
VERSION:2.0
PRODID:-//Laramie Events - ECPv6.15.17.1//NONSGML v1.0//EN
CALSCALE:GREGORIAN
METHOD:PUBLISH
X-WR-CALNAME:Laramie Events
X-ORIGINAL-URL:https://laramieevents.com
X-WR-CALDESC:Events for Laramie Events
REFRESH-INTERVAL;VALUE=DURATION:PT1H
X-Robots-Tag:noindex
X-PUBLISHED-TTL:PT1H
BEGIN:VTIMEZONE
TZID:America/Denver
BEGIN:DAYLIGHT
TZOFFSETFROM:-0700
TZOFFSETTO:-0600
TZNAME:MDT
DTSTART:20240310T090000
END:DAYLIGHT
BEGIN:STANDARD
TZOFFSETFROM:-0600
TZOFFSETTO:-0700
TZNAME:MST
DTSTART:20241103T080000
END:STANDARD
BEGIN:DAYLIGHT
TZOFFSETFROM:-0700
TZOFFSETTO:-0600
TZNAME:MDT
DTSTART:20250309T090000
END:DAYLIGHT
BEGIN:STANDARD
TZOFFSETFROM:-0600
TZOFFSETTO:-0700
TZNAME:MST
DTSTART:20251102T080000
END:STANDARD
BEGIN:DAYLIGHT
TZOFFSETFROM:-0700
TZOFFSETTO:-0600
TZNAME:MDT
DTSTART:20260308T090000
END:DAYLIGHT
BEGIN:STANDARD
TZOFFSETFROM:-0600
TZOFFSETTO:-0700
TZNAME:MST
DTSTART:20261101T080000
END:STANDARD
BEGIN:DAYLIGHT
TZOFFSETFROM:-0700
TZOFFSETTO:-0600
TZNAME:MDT
DTSTART:20270314T090000
END:DAYLIGHT
BEGIN:STANDARD
TZOFFSETFROM:-0600
TZOFFSETTO:-0700
TZNAME:MST
DTSTART:20271107T080000
END:STANDARD
END:VTIMEZONE
BEGIN:VEVENT
DTSTART;TZID=America/Denver:20251108T100000
DTEND;TZID=America/Denver:20251108T150000
DTSTAMP:20260425T090303
CREATED:20250404T154232Z
LAST-MODIFIED:20250404T154232Z
UID:10003581-1762596000-1762614000@laramieevents.com
SUMMARY:Country Christmas Bazaar
DESCRIPTION:Start your gift shopping early with crafts from the local area.  Leatherwork\, clothing\, hats\, purses\, food\, art and soaps are a few of the items you will find there.  Door prizes will be drawn hourly\, so check out the new BR Infinity Events Center and support our local vendors.
URL:https://laramieevents.com/event/country-christmas-bazaar/
LOCATION:WY
CATEGORIES:Family,Food,Kid Friendly
ORGANIZER;CN="BR Infiinity Event Center":MAILTO:brinfinityevents@gmail.com
END:VEVENT
BEGIN:VEVENT
DTSTART;TZID=America/Denver:20251109T080000
DTEND;TZID=America/Denver:20251109T110000
DTSTAMP:20260425T090303
CREATED:20251021T143129Z
LAST-MODIFIED:20251021T143129Z
UID:10005884-1762675200-1762686000@laramieevents.com
SUMMARY:Wreaths Across America Benefit Breakfast
DESCRIPTION:VFW Post 2221 and the Jacques Laramie Chapter\, Daughters of the American Revolution are hosting a fundraising breakfast for Wreaths Across America\, Sunday November 9\, 8 am – 11 am at the post\, 2142 E Garfield. Tickets are $10 per person and may be purchased at the door. There will also be a silent auction. All proceeds from the breakfast and auction will be used to purchase wreaths for Veteran graves at Greenhill Cemetery this holiday season. Email: waa.greenhill@gmail.com for more information.
URL:https://laramieevents.com/event/wreaths-across-america-benefit-breakfast/
LOCATION:VFW Post 2221\, 2142 E Garfield\, Laramie\, WY\, 82070\, United States
CATEGORIES:Family,Food,Fundraiser,Kid Friendly
ATTACH;FMTTYPE=image/jpeg:https://laramieevents.com/wp-content/uploads/sites/3/2025/10/VFW-Fundraising-Bkfast-2025.jpg
END:VEVENT
BEGIN:VEVENT
DTSTART;TZID=America/Denver:20251121T190000
DTEND;TZID=America/Denver:20251121T210000
DTSTAMP:20260425T090303
CREATED:20251126T223805Z
LAST-MODIFIED:20251126T223805Z
UID:10007757-1763751600-1763758800@laramieevents.com
SUMMARY:Pirettes of Penzance
DESCRIPTION:Laramie High School Theater is back on stage with “PirEttes of Penzance”!\nOur local students have been working hard\, and they’re ready to put on a fun\, high-energy show for the whole community. Catch their performances November 20–22\, with 7pm showtimes and a Saturday matinee at 2pm. \nCome out\, cheer them on\, and support the incredible young talent we have here in Laramie.\nTickets are just $8 for adults and $5 for children and students\nBuy tickets at the door starting a half hour before showtime or here:\nhttps://lhstg7838.booktix.com/i
URL:https://laramieevents.com/event/pirettes-of-penzance/2025-11-21/
LOCATION:Laramie High School
CATEGORIES:Family,Kid Friendly,Live Music
ATTACH;FMTTYPE=image/jpeg:https://laramieevents.com/wp-content/uploads/sites/3/2025/11/4F0ECE35-DF11-41CF-90DF-26676901E1AE.jpeg
END:VEVENT
BEGIN:VEVENT
DTSTART;TZID=America/Denver:20251122T090000
DTEND;TZID=America/Denver:20251122T150000
DTSTAMP:20260425T090303
CREATED:20251021T143244Z
LAST-MODIFIED:20251021T143244Z
UID:10005887-1763802000-1763823600@laramieevents.com
SUMMARY:4H Holiday Bazaar
DESCRIPTION:We are excited to announce that 4H is doing Holiday Bazaar on Nov 22nd from 9-3 at the fair grounds. There is free entry  and door prizes every 30 minutes. Come see all the goodies that people have for sale!
URL:https://laramieevents.com/event/4h-holiday-bazaar/
LOCATION:Albany County Fairgrounds\, 3510 S 3rd St\, Laramie\, WY\, 82070\, United States
CATEGORIES:Family,Fundraiser,Kid Friendly
ATTACH;FMTTYPE=image/png:https://laramieevents.com/wp-content/uploads/sites/3/2025/10/Vendor.png
END:VEVENT
BEGIN:VEVENT
DTSTART;TZID=America/Denver:20251122T190000
DTEND;TZID=America/Denver:20251122T210000
DTSTAMP:20260425T090303
CREATED:20251126T223805Z
LAST-MODIFIED:20251126T223805Z
UID:10007758-1763838000-1763845200@laramieevents.com
SUMMARY:Pirettes of Penzance
DESCRIPTION:Laramie High School Theater is back on stage with “PirEttes of Penzance”!\nOur local students have been working hard\, and they’re ready to put on a fun\, high-energy show for the whole community. Catch their performances November 20–22\, with 7pm showtimes and a Saturday matinee at 2pm. \nCome out\, cheer them on\, and support the incredible young talent we have here in Laramie.\nTickets are just $8 for adults and $5 for children and students\nBuy tickets at the door starting a half hour before showtime or here:\nhttps://lhstg7838.booktix.com/i
URL:https://laramieevents.com/event/pirettes-of-penzance/2025-11-22/
LOCATION:Laramie High School
CATEGORIES:Family,Kid Friendly,Live Music
ATTACH;FMTTYPE=image/jpeg:https://laramieevents.com/wp-content/uploads/sites/3/2025/11/4F0ECE35-DF11-41CF-90DF-26676901E1AE.jpeg
END:VEVENT
BEGIN:VEVENT
DTSTART;TZID=America/Denver:20251202T190000
DTEND;TZID=America/Denver:20251202T203000
DTSTAMP:20260425T090303
CREATED:20250911T233837Z
LAST-MODIFIED:20250911T233837Z
UID:10004052-1764702000-1764707400@laramieevents.com
SUMMARY:Blue Violin Candlelight Christmas Extravaganza
DESCRIPTION:TICKETS AT: https://blue-violin.com/candlelight-christmas/ \nBack by popular demand\, Blue Violin’s Candlelight Christmas Tour returns for its third spectacular year — bigger\, brighter\, and bolder than ever before. \nOften described as “Trans-Siberian Orchestra meets Lindsey Stirling\,” Blue Violin delivers fiery virtuosity and cinematic flair in every performance. \nFresh from acclaimed tours across Australia\, Asia\, Europe\, and the Americas\, Blue Violin has been earning international accolades for genre-bending performances that blur the line between classical virtuosity and rock energy. With last year’s holiday tour playing to packed houses and sold-out nights\, this year’s Candlelight Christmas is set to be the most unforgettable yet. \nThis one-of-a-kind holiday concert experience blends the beauty of traditional carols with high-octane rock anthems\, cinematic classical reimaginings\, and heartwarming favorites — all brought to life in glowing candlelight\, with a dazzling stage set and immersive light show. \n✨ Guest vocalists and surprise musical collaborators🎤 Live choirs and symphony orchestras in select cities🎻 Blue Violin performing virtuosic\, high-energy arrangements that blur the line between elegance and edge🎄 Holiday classics like Somewhere in my Memory\, Carol of the Bells\, and Holly Jolly Christmas — reinvented with power and soul⚡ Genre-bending takes on Stairway to Heaven\, Bohemian Rhapsody\, Interstellar\, and more \nFrom grand concert halls to intimate candlelit theaters\, this is a concert that transforms every venue into a wonderland of sound and light. \nWhether you’re creating a new holiday tradition or returning for another season\, the Candlelight Christmas Tour is more than a concert — it’s a celebration. \nSetlist for this year’s tour \n\nFreedom – Pharrel Williams\nNewborn – Alex Boye\nCarol of the Bells – Traditional\nGod Rest Ye Merry Gentlemen – Traditional\nChristmas Canon – Transiberian Orchestra\nChristmas Mashup – Traditional\nSomewhere in My Memory (Home Alone) – John Williams\nInterstellar – Hans Zimmer\nStairway to Heaven (Led Zeppelin)\nRewrite the Stars (The Greatest Showman) – Pasek and Paul\nHolly Jolly Christmas – Traditional\nRiver – Joni Mitchell\nGlittery – Kacey Musgraves\nPaganini Christmas – Paganini\nChristmas Shoes – NewSong\nRock Medley\nBohemian Rhapsody – Queen\nCrazy Train – Ozzy Osbourne\nBelieve (Polar Express) – Josh Groban\nWhite Christmas – Irving Berlin
URL:https://laramieevents.com/event/blue-violin-candlelight-christmas-extravaganza/
LOCATION:Gryphon Theatre\, 710 E Garfield St Studio #333\, Laramie\, WY\, 82070\, United States
CATEGORIES:Family,Live Music
ATTACH;FMTTYPE=image/png:https://laramieevents.com/wp-content/uploads/sites/3/2025/09/B-square.png
END:VEVENT
BEGIN:VEVENT
DTSTART;TZID=America/Denver:20260404T100000
DTEND;TZID=America/Denver:20260404T110000
DTSTAMP:20260425T090303
CREATED:20260331T120808Z
LAST-MODIFIED:20260331T120808Z
UID:10009987-1775296800-1775300400@laramieevents.com
SUMMARY:Annual Kiwanis Club Easter Egg Hunt
DESCRIPTION:17th Annual Easter Egg Hunt Saturday\, April 4th.  It will be at Kiwanis Park in West Laramie.  The hunt starts promptly at 10:00 a.m.
URL:https://laramieevents.com/event/annual-kiwanis-club-easter-egg-hunt-2/
LOCATION:Kiwanis Park\, 150 N. Grant Street\, Laramie\, WY\, 82070\, United States
CATEGORIES:Family
ATTACH;FMTTYPE=image/jpeg:https://laramieevents.com/wp-content/uploads/sites/3/2026/03/Easter-Egg-Hunt-Boomerang-Ad-03282026.jpg
ORGANIZER;CN="Laramie Kiwanis Club":MAILTO:buzzard011@hotmail.com
END:VEVENT
BEGIN:VEVENT
DTSTART;TZID=America/Denver:20260407T190000
DTEND;TZID=America/Denver:20260407T200000
DTSTAMP:20260425T090303
CREATED:20260206T223110Z
LAST-MODIFIED:20260206T223110Z
UID:10007804-1775588400-1775592000@laramieevents.com
SUMMARY:Girl Scouts 101 - Caregiver Info Meeting!
DESCRIPTION:Get to Know Girl Scouts at our Info Night!Meet us on Zoom to get all your questions answered!\n\nRight now\, Girl Scouts are meeting furry friends at their local animal shelters\, giggling past lights-out at sleepovers\, and learning how their favorite roller coasters work. Above all else\, they’re having a blast—because they know bringing the fun is all about being their true selves\, trying new things\, and cheering each other on. Get ready to join the crew and bring a bit more happy to your life!\n\nGirl Scouts empowers girls to build confidence\, character\, and leadership through hands-on programs in life skills\, outdoor adventure\, entrepreneurship\, and STEM. Girls also have opportunities for community service\, faith-based growth through the P.R.A.Y. program\, and experiences that prepare them to make a positive impact in the world.\n\nGET THE LINK HERE:https://www.gsmw.org/…/get-the-scoop-on-girl-scouts.html
URL:https://laramieevents.com/event/girl-scouts-101-caregiver-info-meeting/2026-04-07/
LOCATION:WY
CATEGORIES:Family
ATTACH;FMTTYPE=image/png:https://laramieevents.com/wp-content/uploads/sites/3/2026/02/Virtual_April.png
ORGANIZER;CN="Girl Scouts of Montana &amp%3B Wyoming":MAILTO:amyi@gsmw.org
END:VEVENT
BEGIN:VEVENT
DTSTART;TZID=America/Denver:20260414T190000
DTEND;TZID=America/Denver:20260414T200000
DTSTAMP:20260425T090303
CREATED:20260206T223110Z
LAST-MODIFIED:20260206T223110Z
UID:10007805-1776193200-1776196800@laramieevents.com
SUMMARY:Girl Scouts 101 - Caregiver Info Meeting!
DESCRIPTION:Get to Know Girl Scouts at our Info Night!Meet us on Zoom to get all your questions answered!\n\nRight now\, Girl Scouts are meeting furry friends at their local animal shelters\, giggling past lights-out at sleepovers\, and learning how their favorite roller coasters work. Above all else\, they’re having a blast—because they know bringing the fun is all about being their true selves\, trying new things\, and cheering each other on. Get ready to join the crew and bring a bit more happy to your life!\n\nGirl Scouts empowers girls to build confidence\, character\, and leadership through hands-on programs in life skills\, outdoor adventure\, entrepreneurship\, and STEM. Girls also have opportunities for community service\, faith-based growth through the P.R.A.Y. program\, and experiences that prepare them to make a positive impact in the world.\n\nGET THE LINK HERE:https://www.gsmw.org/…/get-the-scoop-on-girl-scouts.html
URL:https://laramieevents.com/event/girl-scouts-101-caregiver-info-meeting/2026-04-14/
LOCATION:WY
CATEGORIES:Family
ATTACH;FMTTYPE=image/png:https://laramieevents.com/wp-content/uploads/sites/3/2026/02/Virtual_April.png
ORGANIZER;CN="Girl Scouts of Montana &amp%3B Wyoming":MAILTO:amyi@gsmw.org
END:VEVENT
BEGIN:VEVENT
DTSTART;TZID=America/Denver:20260421T190000
DTEND;TZID=America/Denver:20260421T200000
DTSTAMP:20260425T090303
CREATED:20260206T223110Z
LAST-MODIFIED:20260206T223110Z
UID:10007806-1776798000-1776801600@laramieevents.com
SUMMARY:Girl Scouts 101 - Caregiver Info Meeting!
DESCRIPTION:Get to Know Girl Scouts at our Info Night!Meet us on Zoom to get all your questions answered!\n\nRight now\, Girl Scouts are meeting furry friends at their local animal shelters\, giggling past lights-out at sleepovers\, and learning how their favorite roller coasters work. Above all else\, they’re having a blast—because they know bringing the fun is all about being their true selves\, trying new things\, and cheering each other on. Get ready to join the crew and bring a bit more happy to your life!\n\nGirl Scouts empowers girls to build confidence\, character\, and leadership through hands-on programs in life skills\, outdoor adventure\, entrepreneurship\, and STEM. Girls also have opportunities for community service\, faith-based growth through the P.R.A.Y. program\, and experiences that prepare them to make a positive impact in the world.\n\nGET THE LINK HERE:https://www.gsmw.org/…/get-the-scoop-on-girl-scouts.html
URL:https://laramieevents.com/event/girl-scouts-101-caregiver-info-meeting/2026-04-21/
LOCATION:WY
CATEGORIES:Family
ATTACH;FMTTYPE=image/png:https://laramieevents.com/wp-content/uploads/sites/3/2026/02/Virtual_April.png
ORGANIZER;CN="Girl Scouts of Montana &amp%3B Wyoming":MAILTO:amyi@gsmw.org
END:VEVENT
BEGIN:VEVENT
DTSTART;TZID=America/Denver:20260428T190000
DTEND;TZID=America/Denver:20260428T200000
DTSTAMP:20260425T090303
CREATED:20260206T223110Z
LAST-MODIFIED:20260206T223110Z
UID:10007807-1777402800-1777406400@laramieevents.com
SUMMARY:Girl Scouts 101 - Caregiver Info Meeting!
DESCRIPTION:Get to Know Girl Scouts at our Info Night!Meet us on Zoom to get all your questions answered!\n\nRight now\, Girl Scouts are meeting furry friends at their local animal shelters\, giggling past lights-out at sleepovers\, and learning how their favorite roller coasters work. Above all else\, they’re having a blast—because they know bringing the fun is all about being their true selves\, trying new things\, and cheering each other on. Get ready to join the crew and bring a bit more happy to your life!\n\nGirl Scouts empowers girls to build confidence\, character\, and leadership through hands-on programs in life skills\, outdoor adventure\, entrepreneurship\, and STEM. Girls also have opportunities for community service\, faith-based growth through the P.R.A.Y. program\, and experiences that prepare them to make a positive impact in the world.\n\nGET THE LINK HERE:https://www.gsmw.org/…/get-the-scoop-on-girl-scouts.html
URL:https://laramieevents.com/event/girl-scouts-101-caregiver-info-meeting/2026-04-28/
LOCATION:WY
CATEGORIES:Family
ATTACH;FMTTYPE=image/png:https://laramieevents.com/wp-content/uploads/sites/3/2026/02/Virtual_April.png
ORGANIZER;CN="Girl Scouts of Montana &amp%3B Wyoming":MAILTO:amyi@gsmw.org
END:VEVENT
BEGIN:VEVENT
DTSTART;TZID=America/Denver:20260613T110000
DTEND;TZID=America/Denver:20260613T170000
DTSTAMP:20260425T090303
CREATED:20260331T120653Z
LAST-MODIFIED:20260331T120653Z
UID:10009986-1781348400-1781370000@laramieevents.com
SUMMARY:Taste of Laradise 2026 – Downtown Laramie Food & Drink Festival
DESCRIPTION:Taste of Laradise returns to downtown Laramie on Saturday\, June 13 from 11:00 AM to 5:00 PM. Enjoy a day of food\, drinks\, and community as local businesses showcase their best offerings throughout downtown. \nParticipants will stroll between locations sampling food and beverages while supporting the Downtown Clinic. This annual event highlights the best of Laramie’s local flavor while giving back to an important local cause. \nCome hungry\, explore downtown\, and enjoy one of Laramie’s favorite summer events.
URL:https://laramieevents.com/event/taste-of-laradise-2026-downtown-laramie-food-drink-festival/
LOCATION:Downtown Laramie
CATEGORIES:Family,Food,Fundraiser,Kid Friendly,Live Music
ATTACH;FMTTYPE=image/png:https://laramieevents.com/wp-content/uploads/sites/3/2026/03/Taste-of-Laradise-logo-brown_backgronud_White.png
ORGANIZER;CN="tasteoflaradise":MAILTO:307-760-8611
END:VEVENT
END:VCALENDAR