BEGIN:VCALENDAR
VERSION:2.0
PRODID:-//Laramie Events - ECPv6.15.17.1//NONSGML v1.0//EN
CALSCALE:GREGORIAN
METHOD:PUBLISH
X-ORIGINAL-URL:https://laramieevents.com
X-WR-CALDESC:Events for Laramie Events
REFRESH-INTERVAL;VALUE=DURATION:PT1H
X-Robots-Tag:noindex
X-PUBLISHED-TTL:PT1H
BEGIN:VTIMEZONE
TZID:America/Denver
BEGIN:DAYLIGHT
TZOFFSETFROM:-0700
TZOFFSETTO:-0600
TZNAME:MDT
DTSTART:20240310T090000
END:DAYLIGHT
BEGIN:STANDARD
TZOFFSETFROM:-0600
TZOFFSETTO:-0700
TZNAME:MST
DTSTART:20241103T080000
END:STANDARD
BEGIN:DAYLIGHT
TZOFFSETFROM:-0700
TZOFFSETTO:-0600
TZNAME:MDT
DTSTART:20250309T090000
END:DAYLIGHT
BEGIN:STANDARD
TZOFFSETFROM:-0600
TZOFFSETTO:-0700
TZNAME:MST
DTSTART:20251102T080000
END:STANDARD
BEGIN:DAYLIGHT
TZOFFSETFROM:-0700
TZOFFSETTO:-0600
TZNAME:MDT
DTSTART:20260308T090000
END:DAYLIGHT
BEGIN:STANDARD
TZOFFSETFROM:-0600
TZOFFSETTO:-0700
TZNAME:MST
DTSTART:20261101T080000
END:STANDARD
END:VTIMEZONE
BEGIN:VEVENT
DTSTART;TZID=America/Denver:20250704T220000
DTEND;TZID=America/Denver:20250704T223000
DTSTAMP:20260424T154030
CREATED:20250612T175418Z
LAST-MODIFIED:20250612T175419Z
UID:10003703-1751666400-1751668200@laramieevents.com
SUMMARY:Fire In The Sky Soundtrack
DESCRIPTION:Tune your radio to Hits 106 on July 4th to hear the soundtrack for the City of Laramie fireworks show at 10 pm presented by Tough Guys Landscaping & Lighting. \nThis incredible fireworks display consists of over 300 aerial shells\, ranging in diameter from three to eight inches. The show is an Independence Day blast (pun intended) that’s sure to impress. Fireworks begin at approximately 10 p.m. at Harney and 22nd Street. \nThe City of Laramie partners with WyoTech to bring this exciting fireworks show to the community. In addition to sponsorship\, WyoTech students and staff volunteer their time to help make the event big and bright for all. From cleanup after the show to participating in the 4th of July festivities\, it’s a great way for WyoTech students to connect with the Laramie community. \nTo enjoy the 4th of July to the fullest while still respecting residential neighborhoods\, the City reminds eventgoers to follow event parking guidelines. As you plan and prepare for the day\, note where you should park for Freedom Has a Birthday and Fire in the Sky. 22nd Street from Harney to Willet will be closed during the show\, as well as Harney from Television Road to 22nd\, Armory Road from 30th to 22nd\, and Television Road from Harney to Armory. The City recommends Kiowa Park\, Scout Park\, Washington Park\, and LaPrele Park as some of the better viewing areas in town.
URL:https://laramieevents.com/event/fire-in-the-sky-soundtrack/
LOCATION:WY
CATEGORIES:Family
ATTACH;FMTTYPE=image/png:https://laramieevents.com/wp-content/uploads/sites/3/2025/06/fire-in-the-sky-soundtrack-1920-x-1005-px.png
END:VEVENT
END:VCALENDAR