BEGIN:VCALENDAR
VERSION:2.0
PRODID:-//Laramie Events - ECPv6.15.17.1//NONSGML v1.0//EN
CALSCALE:GREGORIAN
METHOD:PUBLISH
X-WR-CALNAME:Laramie Events
X-ORIGINAL-URL:https://laramieevents.com
X-WR-CALDESC:Events for Laramie Events
REFRESH-INTERVAL;VALUE=DURATION:PT1H
X-Robots-Tag:noindex
X-PUBLISHED-TTL:PT1H
BEGIN:VTIMEZONE
TZID:America/Denver
BEGIN:DAYLIGHT
TZOFFSETFROM:-0700
TZOFFSETTO:-0600
TZNAME:MDT
DTSTART:20240310T090000
END:DAYLIGHT
BEGIN:STANDARD
TZOFFSETFROM:-0600
TZOFFSETTO:-0700
TZNAME:MST
DTSTART:20241103T080000
END:STANDARD
BEGIN:DAYLIGHT
TZOFFSETFROM:-0700
TZOFFSETTO:-0600
TZNAME:MDT
DTSTART:20250309T090000
END:DAYLIGHT
BEGIN:STANDARD
TZOFFSETFROM:-0600
TZOFFSETTO:-0700
TZNAME:MST
DTSTART:20251102T080000
END:STANDARD
BEGIN:DAYLIGHT
TZOFFSETFROM:-0700
TZOFFSETTO:-0600
TZNAME:MDT
DTSTART:20260308T090000
END:DAYLIGHT
BEGIN:STANDARD
TZOFFSETFROM:-0600
TZOFFSETTO:-0700
TZNAME:MST
DTSTART:20261101T080000
END:STANDARD
END:VTIMEZONE
BEGIN:VEVENT
DTSTART;TZID=America/Denver:20250803T140000
DTEND;TZID=America/Denver:20250803T170000
DTSTAMP:20260424T122551
CREATED:20250723T184659Z
LAST-MODIFIED:20250723T191249Z
UID:10004024-1754229600-1754240400@laramieevents.com
SUMMARY:Acoustic Jam at the Shamrock Saloon
DESCRIPTION:Local musicians and music lovers are invited to a casual outdoor acoustic jam on Sunday\, August 3\, from 2 to 5 PM at the Shamrock Saloon\, 3277 WY-34\, between Wheatland and Laramie. Family-friendly and open to all skill levels—bring your instrument\, your voice\, or just your ears. No RSVP needed. Chili dogs\, fries\, and drinks available for purchase. \nContact: Crile Carvey\, crile@crile.com
URL:https://laramieevents.com/event/acoustic-jam-at-the-shamrock-saloon/
LOCATION:Shamrock Saloon\, 3277 WY-34\, Wheatland\, WY\, 82201\, United States
CATEGORIES:Family,Food,Live Music
END:VEVENT
BEGIN:VEVENT
DTSTART;TZID=America/Denver:20250815T200000
DTEND;TZID=America/Denver:20250815T223000
DTSTAMP:20260424T122551
CREATED:20250723T184521Z
LAST-MODIFIED:20250723T184521Z
UID:10004020-1755288000-1755297000@laramieevents.com
SUMMARY:307 Glow & Go Walk/Run
DESCRIPTION:Light up Laramie with us at the 307 Glow & Go Run/Walk—a glowing 3.07-mile event to bring our community together and kick off the Capital Campaign: Gateway to Progress! Whether you run\, walk\, or jog\, come ready to shine. Participants will move through the course while enjoying music\, lights\, and our signature Glow Zone\, where you’ll be splashed with non-toxic\, washable glow powder colors. Glow supplies will be provided\, but make sure to wear a white or neon-colored shirt to make the most of the effect. After the run\, stick around for refreshments and fun! Black Tooth Brewing will be handing out complimentary beer for participants 21 and older\, and we’ll have other drinks available for those under 21. Let’s glow\, go\, and grow together—this is more than a fun run; it’s a bright step toward building a stronger future for our community.
URL:https://laramieevents.com/event/307-glow-go-walk-run/
LOCATION:2208 E Grand Ave\, 2208 East Grand Avenue\, Laramie\, WY\, 82070\, United States
CATEGORIES:Family,Fundraiser,Kid Friendly
ATTACH;FMTTYPE=image/png:https://laramieevents.com/wp-content/uploads/sites/3/2025/07/3.07-Glow-run-12.png
END:VEVENT
BEGIN:VEVENT
DTSTART;TZID=America/Denver:20250816T130000
DTEND;TZID=America/Denver:20250816T150000
DTSTAMP:20260424T122551
CREATED:20250815T205826Z
LAST-MODIFIED:20250815T205826Z
UID:10004033-1755349200-1755356400@laramieevents.com
SUMMARY:Back2School Giveaway
DESCRIPTION:Join us for a FREE event for the whole community! We have free backpacks\, school supplies\, socks\, tennis shoes and more for all school age children (K-12)\, and free Butcher Block hot dogs and free drinks from Soda Pit for anyone who attends! \nHosted by New Life Church and For the Good of Laramie non-profit and made possible by many generous donors and volunteers. \n*While supplies last.\n*First come first serve.\n*Children must be present at the event
URL:https://laramieevents.com/event/back2school-giveaway/
LOCATION:Foundation Builders Community Center\, 804 Dally Ridge Rd.\, Laramie\, WY\, United States
CATEGORIES:Family,Food,Kid Friendly
ATTACH;FMTTYPE=image/jpeg:https://laramieevents.com/wp-content/uploads/sites/3/2025/08/IMG_5350.jpeg
ORGANIZER;CN="For the Good of Laramie":MAILTO:lisaevansoutreach@gmail.com
END:VEVENT
END:VCALENDAR