BEGIN:VCALENDAR
VERSION:2.0
PRODID:-//Laramie Events - ECPv6.15.17.1//NONSGML v1.0//EN
CALSCALE:GREGORIAN
METHOD:PUBLISH
X-ORIGINAL-URL:https://laramieevents.com
X-WR-CALDESC:Events for Laramie Events
REFRESH-INTERVAL;VALUE=DURATION:PT1H
X-Robots-Tag:noindex
X-PUBLISHED-TTL:PT1H
BEGIN:VTIMEZONE
TZID:America/Denver
BEGIN:DAYLIGHT
TZOFFSETFROM:-0700
TZOFFSETTO:-0600
TZNAME:MDT
DTSTART:20250309T090000
END:DAYLIGHT
BEGIN:STANDARD
TZOFFSETFROM:-0600
TZOFFSETTO:-0700
TZNAME:MST
DTSTART:20251102T080000
END:STANDARD
BEGIN:DAYLIGHT
TZOFFSETFROM:-0700
TZOFFSETTO:-0600
TZNAME:MDT
DTSTART:20260308T090000
END:DAYLIGHT
BEGIN:STANDARD
TZOFFSETFROM:-0600
TZOFFSETTO:-0700
TZNAME:MST
DTSTART:20261101T080000
END:STANDARD
BEGIN:DAYLIGHT
TZOFFSETFROM:-0700
TZOFFSETTO:-0600
TZNAME:MDT
DTSTART:20270314T090000
END:DAYLIGHT
BEGIN:STANDARD
TZOFFSETFROM:-0600
TZOFFSETTO:-0700
TZNAME:MST
DTSTART:20271107T080000
END:STANDARD
END:VTIMEZONE
BEGIN:VEVENT
DTSTART;TZID=America/Denver:20260613T100000
DTEND;TZID=America/Denver:20260613T180000
DTSTAMP:20260423T194945
CREATED:20260212T163305Z
LAST-MODIFIED:20260212T163644Z
UID:10008458-1781344800-1781373600@laramieevents.com
SUMMARY:The Taste Of Laradise
DESCRIPTION:Taste what Laramie has to offer during The Taste Of Laradise June 13th. From 10am to 6pm\, stroll downtown and enjoy all the drink and food options while earning raffle tickets for some awesome prizes. Get tickets in advance or at the event. See this link for more details. The event is brought to you by the Laramie Rotary Clubs and proceeds benefit the Downtown Clinic.
URL:https://laramieevents.com/event/the-taste-of-laradise/
ATTACH;FMTTYPE=image/png:https://laramieevents.com/wp-content/uploads/sites/3/2026/02/Capture-1.png
END:VEVENT
BEGIN:VEVENT
DTSTART;TZID=America/Denver:20260613T110000
DTEND;TZID=America/Denver:20260613T170000
DTSTAMP:20260423T194945
CREATED:20260331T120653Z
LAST-MODIFIED:20260331T120653Z
UID:10009986-1781348400-1781370000@laramieevents.com
SUMMARY:Taste of Laradise 2026 – Downtown Laramie Food & Drink Festival
DESCRIPTION:Taste of Laradise returns to downtown Laramie on Saturday\, June 13 from 11:00 AM to 5:00 PM. Enjoy a day of food\, drinks\, and community as local businesses showcase their best offerings throughout downtown. \nParticipants will stroll between locations sampling food and beverages while supporting the Downtown Clinic. This annual event highlights the best of Laramie’s local flavor while giving back to an important local cause. \nCome hungry\, explore downtown\, and enjoy one of Laramie’s favorite summer events.
URL:https://laramieevents.com/event/taste-of-laradise-2026-downtown-laramie-food-drink-festival/
LOCATION:Downtown Laramie
CATEGORIES:Family,Food,Fundraiser,Kid Friendly,Live Music
ATTACH;FMTTYPE=image/png:https://laramieevents.com/wp-content/uploads/sites/3/2026/03/Taste-of-Laradise-logo-brown_backgronud_White.png
ORGANIZER;CN="tasteoflaradise":MAILTO:307-760-8611
END:VEVENT
BEGIN:VEVENT
DTSTART;TZID=America/Denver:20260613T130000
DTEND;TZID=America/Denver:20260613T140000
DTSTAMP:20260423T194945
CREATED:20260212T203649Z
LAST-MODIFIED:20260212T203649Z
UID:10008476-1781355600-1781359200@laramieevents.com
SUMMARY:Kids Lego Time At Albany Co. Public Library in Laramie
DESCRIPTION:From the event organizer: \nCalling all Lego builders! We provide the Legos\, you provide the imagination. Program for children in grades K-6th. Every Saturday 1-2pm in the Laramie Library’s Wyoming Room
URL:https://laramieevents.com/event/kids-lego-time-at-albany-co-public-library-in-laramie/2026-06-13/
END:VEVENT
BEGIN:VEVENT
DTSTART;TZID=America/Denver:20260613T170000
DTEND;TZID=America/Denver:20260613T220000
DTSTAMP:20260423T194945
CREATED:20260306T161134Z
LAST-MODIFIED:20260306T161134Z
UID:10009972-1781370000-1781388000@laramieevents.com
SUMMARY:La Grande Fleur 2026: A Fundraiser For IMH's Meredith and Jeannie Ray Cancer Center
DESCRIPTION:Mark your calendar and join us beneath a canopy of stars for La Grande Fleur 2026: A Starry Night Ball\, a luminous celebration where art and music intertwine\, and compassion shines brightly in support of the Meredith and Jeannie Ray Cancer Center at Ivinson Memorial Hospital. Under starlight\, we’ll honor the strength of our community and our shared purpose\, lighting the way toward healing\, hope\, and renewal. \nGet tickets at this link
URL:https://laramieevents.com/event/la-grande-fleur-2026-a-fundraiser-for-imhs-meredith-and-jeannie-ray-cancer-center/
ATTACH;FMTTYPE=image/jpeg:https://laramieevents.com/wp-content/uploads/sites/3/2026/03/639973373_122166010046739214_686823972857565768_n.jpg
END:VEVENT
END:VCALENDAR