BEGIN:VCALENDAR
VERSION:2.0
PRODID:-//Laramie Events - ECPv6.15.17.1//NONSGML v1.0//EN
CALSCALE:GREGORIAN
METHOD:PUBLISH
X-ORIGINAL-URL:https://laramieevents.com
X-WR-CALDESC:Events for Laramie Events
REFRESH-INTERVAL;VALUE=DURATION:PT1H
X-Robots-Tag:noindex
X-PUBLISHED-TTL:PT1H
BEGIN:VTIMEZONE
TZID:America/Denver
BEGIN:DAYLIGHT
TZOFFSETFROM:-0700
TZOFFSETTO:-0600
TZNAME:MDT
DTSTART:20250309T090000
END:DAYLIGHT
BEGIN:STANDARD
TZOFFSETFROM:-0600
TZOFFSETTO:-0700
TZNAME:MST
DTSTART:20251102T080000
END:STANDARD
BEGIN:DAYLIGHT
TZOFFSETFROM:-0700
TZOFFSETTO:-0600
TZNAME:MDT
DTSTART:20260308T090000
END:DAYLIGHT
BEGIN:STANDARD
TZOFFSETFROM:-0600
TZOFFSETTO:-0700
TZNAME:MST
DTSTART:20261101T080000
END:STANDARD
BEGIN:DAYLIGHT
TZOFFSETFROM:-0700
TZOFFSETTO:-0600
TZNAME:MDT
DTSTART:20270314T090000
END:DAYLIGHT
BEGIN:STANDARD
TZOFFSETFROM:-0600
TZOFFSETTO:-0700
TZNAME:MST
DTSTART:20271107T080000
END:STANDARD
END:VTIMEZONE
BEGIN:VEVENT
DTSTART;TZID=America/Denver:20260519T130000
DTEND;TZID=America/Denver:20260519T170000
DTSTAMP:20260423T180156
CREATED:20250423T234803Z
LAST-MODIFIED:20250423T234803Z
UID:10003622-1779195600-1779210000@laramieevents.com
SUMMARY:Basic Life Support Certification-CPR/Cardiovascular Care AND Recertification
DESCRIPTION:From the event organizer: \nThe American Heart Association’s BLS Course has been updat­ed to reflect new science in the 2015 AHA Guidelines Update for CPR and Emergency Car­dio­vas­cu­lar Care. This course builds a foundation of lifesaving BLS skills\, emphasizing the importance of continuous\, high-quality CPR.Sign up at ivinsonshopital.org/education \n  \nRegister for certification or re certification at this link \nUpcoming Recurrences For REGISTRATION\nTuesday\, May 20\, 2025 1:00pm – 5:00pm \nSaturday\, June 7\, 2025 1:00pm – 5:00pm \nTuesday\, June 17\, 2025 1:00pm – 5:00pm \nTuesday\, July 22\, 2025 1:00pm – 5:00pm \nTuesday\, August 19\, 2025 1:00pm – 5:00pm \nTuesday\, September 16\, 2025 1:00pm – 5:00pm \nTuesday\, October 21\, 2025 1:00pm – 5:00pm \n  \nSee recertification dates at this link
URL:https://laramieevents.com/event/basic-life-support-certification-cpr-cardiovascular-care-and-recertification/2026-05-19/
ATTACH;FMTTYPE=image/png:https://laramieevents.com/wp-content/uploads/sites/3/2025/04/download-5.png
END:VEVENT
END:VCALENDAR