BEGIN:VCALENDAR
VERSION:2.0
PRODID:-//Laramie Events - ECPv6.15.17.1//NONSGML v1.0//EN
CALSCALE:GREGORIAN
METHOD:PUBLISH
X-ORIGINAL-URL:https://laramieevents.com
X-WR-CALDESC:Events for Laramie Events
REFRESH-INTERVAL;VALUE=DURATION:PT1H
X-Robots-Tag:noindex
X-PUBLISHED-TTL:PT1H
BEGIN:VTIMEZONE
TZID:America/Denver
BEGIN:DAYLIGHT
TZOFFSETFROM:-0700
TZOFFSETTO:-0600
TZNAME:MDT
DTSTART:20250309T090000
END:DAYLIGHT
BEGIN:STANDARD
TZOFFSETFROM:-0600
TZOFFSETTO:-0700
TZNAME:MST
DTSTART:20251102T080000
END:STANDARD
BEGIN:DAYLIGHT
TZOFFSETFROM:-0700
TZOFFSETTO:-0600
TZNAME:MDT
DTSTART:20260308T090000
END:DAYLIGHT
BEGIN:STANDARD
TZOFFSETFROM:-0600
TZOFFSETTO:-0700
TZNAME:MST
DTSTART:20261101T080000
END:STANDARD
BEGIN:DAYLIGHT
TZOFFSETFROM:-0700
TZOFFSETTO:-0600
TZNAME:MDT
DTSTART:20270314T090000
END:DAYLIGHT
BEGIN:STANDARD
TZOFFSETFROM:-0600
TZOFFSETTO:-0700
TZNAME:MST
DTSTART:20271107T080000
END:STANDARD
END:VTIMEZONE
BEGIN:VEVENT
DTSTART;VALUE=DATE:20260518
DTEND;VALUE=DATE:20260519
DTSTAMP:20260423T180155
CREATED:20260212T143232Z
LAST-MODIFIED:20260212T143232Z
UID:10007902-1779062400-1779148799@laramieevents.com
SUMMARY:Weekly Yoga At The Centennial Public Library
DESCRIPTION:The Centennial Public Library will offer yoga twice a week with two different styles of yoga. Vinyasa flow 9 to 10am Mondays and Restorative/Yoga Nidra Thursdays 6 to 7pm. The classes will take place at the library and the suggested donation is $10 to $15 per class. See the flyer for more info on what each yoga class is.
URL:https://laramieevents.com/event/weekly-yoga-at-the-centennial-public-library/2026-05-18/
ATTACH;FMTTYPE=image/jpeg:https://laramieevents.com/wp-content/uploads/sites/3/2026/02/unnamed-2.jpg
END:VEVENT
BEGIN:VEVENT
DTSTART;TZID=America/Denver:20260518T160000
DTEND;TZID=America/Denver:20260518T183000
DTSTAMP:20260423T180155
CREATED:20260407T140520Z
LAST-MODIFIED:20260407T141215Z
UID:10010017-1779120000-1779129000@laramieevents.com
SUMMARY:Cancer: Thriving And Surviving Workshop
DESCRIPTION:If you’re newly diagnosed\, going through treatment\, a friend\, family member or caregiver or someone going through cancer\, this group is for you to learn some ways to stay healthy\, active and positive while dealing with physical and mental challenge of being a cancer patient\, cancer survivor or the family member of someone whos dealt with this disease. See the flyer below for more info. \n \n 
URL:https://laramieevents.com/event/cancer-thriving-and-surviving-workshop/2026-05-18/
ATTACH;FMTTYPE=image/jpeg:https://laramieevents.com/wp-content/uploads/sites/3/2026/04/CANCER-THRIVING_page-0001-1-scaled.jpg
END:VEVENT
BEGIN:VEVENT
DTSTART;TZID=America/Denver:20260518T180000
DTEND;TZID=America/Denver:20260518T200000
DTSTAMP:20260423T180155
CREATED:20260413T134457Z
LAST-MODIFIED:20260413T135407Z
UID:10010137-1779127200-1779134400@laramieevents.com
SUMMARY:Veterans Talking To Veterans
DESCRIPTION:Its a group for veterans by veterans to support mental health and help them in their post military career. They meet Mondays 6 to 8pm at the American Legion in Laramie. They work through trauma\, PTSD and more. All veterans are welcome.  Email dmhljh@gmail.com for more info.
URL:https://laramieevents.com/event/veterans-talking-to-veterans/2026-05-18/
ATTACH;FMTTYPE=image/png:https://laramieevents.com/wp-content/uploads/sites/3/2026/04/IMG_20260413_073321-1.png
END:VEVENT
END:VCALENDAR