BEGIN:VCALENDAR
VERSION:2.0
PRODID:-//Laramie Events - ECPv6.15.17.1//NONSGML v1.0//EN
CALSCALE:GREGORIAN
METHOD:PUBLISH
X-ORIGINAL-URL:https://laramieevents.com
X-WR-CALDESC:Events for Laramie Events
REFRESH-INTERVAL;VALUE=DURATION:PT1H
X-Robots-Tag:noindex
X-PUBLISHED-TTL:PT1H
BEGIN:VTIMEZONE
TZID:America/Denver
BEGIN:DAYLIGHT
TZOFFSETFROM:-0700
TZOFFSETTO:-0600
TZNAME:MDT
DTSTART:20250309T090000
END:DAYLIGHT
BEGIN:STANDARD
TZOFFSETFROM:-0600
TZOFFSETTO:-0700
TZNAME:MST
DTSTART:20251102T080000
END:STANDARD
BEGIN:DAYLIGHT
TZOFFSETFROM:-0700
TZOFFSETTO:-0600
TZNAME:MDT
DTSTART:20260308T090000
END:DAYLIGHT
BEGIN:STANDARD
TZOFFSETFROM:-0600
TZOFFSETTO:-0700
TZNAME:MST
DTSTART:20261101T080000
END:STANDARD
BEGIN:DAYLIGHT
TZOFFSETFROM:-0700
TZOFFSETTO:-0600
TZNAME:MDT
DTSTART:20270314T090000
END:DAYLIGHT
BEGIN:STANDARD
TZOFFSETFROM:-0600
TZOFFSETTO:-0700
TZNAME:MST
DTSTART:20271107T080000
END:STANDARD
END:VTIMEZONE
BEGIN:VEVENT
DTSTART;TZID=America/Denver:20260517T133000
DTEND;TZID=America/Denver:20260517T143000
DTSTAMP:20260423T180133
CREATED:20260418T055915Z
LAST-MODIFIED:20260418T055915Z
UID:10010397-1779024600-1779028200@laramieevents.com
SUMMARY:Walk With A Doc!
DESCRIPTION:Walk with a Doc is a national organization focused on encouraging healthy physical activity while reversing the consequences of a sedentary lifestyle.  It is coordinated locally in Laramie by Ivinson Memorial Hospital \n\n\n\n\nwhat to expect\nAt each meet-up simply come in and we’ll get you signed-in. Next we’ll hear from a local healthcare provider about a health-related topic\, and then it’s on to walking! (Don’t worry — we’ll do some quick stretches first!) \n\n\n\n\ntime + location\n\n1st and 3rd Sunday of each month\n1:30 PM — 2:30 PM\nUniversity of Wyoming Field House (October-April) + Washington Park (May-September)\nFree to everyone
URL:https://laramieevents.com/event/walk-with-a-doc-2/2026-05-17/
ATTACH;FMTTYPE=image/jpeg:https://laramieevents.com/wp-content/uploads/sites/3/2026/04/44_2017_shutterstock_436609324_dcf7d7dc6df8adc8071fe96b7a378182.jpg
END:VEVENT
BEGIN:VEVENT
DTSTART;TZID=America/Denver:20260517T163000
DTEND;TZID=America/Denver:20260517T180000
DTSTAMP:20260423T180133
CREATED:20250220T010050Z
LAST-MODIFIED:20250220T010050Z
UID:10003375-1779035400-1779040800@laramieevents.com
SUMMARY:Laramie Connections Free Sunday Dinner
DESCRIPTION:From the organizers:\n4:30 pm Sundays @ First Baptist Church\nEveryone is welcome to come and enjoy a hot meal Sunday evenings along with great company.  While regular meal offerings are closed on the weekends we are happy to step in and offer a free meal gathering. \nOur meal is provided by the Laramie Soup Kitchen\, Laramie Interfaith and Eppson Center being closed on the weekends.
URL:https://laramieevents.com/event/laramie-connections-free-sunday-dinner/2026-05-17/
ATTACH;FMTTYPE=image/png:https://laramieevents.com/wp-content/uploads/sites/3/2025/02/family-dinner-3407701_1280.png
END:VEVENT
END:VCALENDAR