BEGIN:VCALENDAR
VERSION:2.0
PRODID:-//Laramie Events - ECPv6.15.17.1//NONSGML v1.0//EN
CALSCALE:GREGORIAN
METHOD:PUBLISH
X-WR-CALNAME:Laramie Events
X-ORIGINAL-URL:https://laramieevents.com
X-WR-CALDESC:Events for Laramie Events
REFRESH-INTERVAL;VALUE=DURATION:PT1H
X-Robots-Tag:noindex
X-PUBLISHED-TTL:PT1H
BEGIN:VTIMEZONE
TZID:America/Denver
BEGIN:DAYLIGHT
TZOFFSETFROM:-0700
TZOFFSETTO:-0600
TZNAME:MDT
DTSTART:20250309T090000
END:DAYLIGHT
BEGIN:STANDARD
TZOFFSETFROM:-0600
TZOFFSETTO:-0700
TZNAME:MST
DTSTART:20251102T080000
END:STANDARD
BEGIN:DAYLIGHT
TZOFFSETFROM:-0700
TZOFFSETTO:-0600
TZNAME:MDT
DTSTART:20260308T090000
END:DAYLIGHT
BEGIN:STANDARD
TZOFFSETFROM:-0600
TZOFFSETTO:-0700
TZNAME:MST
DTSTART:20261101T080000
END:STANDARD
BEGIN:DAYLIGHT
TZOFFSETFROM:-0700
TZOFFSETTO:-0600
TZNAME:MDT
DTSTART:20270314T090000
END:DAYLIGHT
BEGIN:STANDARD
TZOFFSETFROM:-0600
TZOFFSETTO:-0700
TZNAME:MST
DTSTART:20271107T080000
END:STANDARD
END:VTIMEZONE
BEGIN:VEVENT
DTSTART;VALUE=DATE:20260507
DTEND;VALUE=DATE:20260508
DTSTAMP:20260423T180010
CREATED:20260212T143232Z
LAST-MODIFIED:20260212T143232Z
UID:10007899-1778112000-1778198399@laramieevents.com
SUMMARY:Weekly Yoga At The Centennial Public Library
DESCRIPTION:The Centennial Public Library will offer yoga twice a week with two different styles of yoga. Vinyasa flow 9 to 10am Mondays and Restorative/Yoga Nidra Thursdays 6 to 7pm. The classes will take place at the library and the suggested donation is $10 to $15 per class. See the flyer for more info on what each yoga class is.
URL:https://laramieevents.com/event/weekly-yoga-at-the-centennial-public-library/2026-05-07/
ATTACH;FMTTYPE=image/jpeg:https://laramieevents.com/wp-content/uploads/sites/3/2026/02/unnamed-2.jpg
END:VEVENT
BEGIN:VEVENT
DTSTART;TZID=America/Denver:20260507T190000
DTEND;TZID=America/Denver:20260507T210000
DTSTAMP:20260423T180010
CREATED:20260130T014954Z
LAST-MODIFIED:20260130T014954Z
UID:10007793-1778180400-1778187600@laramieevents.com
SUMMARY:Open Jam Night at the Gryphon Theatre
DESCRIPTION:Calling all musicians for open jams at the Gryphon Theatre. \nBring an instrument. Full stage lights and sound. Drums and amps provided. \nIn partnership with UWYO Music Production Club. \n7:00 pm on the first Thursday of the month.
URL:https://laramieevents.com/event/open-jam-night-at-the-gryphon-theatre/2026-05-07/
LOCATION:Gryphon Theatre\, 710 E Garfield St Studio #333\, Laramie\, WY\, 82070\, United States
CATEGORIES:Live Music
ATTACH;FMTTYPE=image/png:https://laramieevents.com/wp-content/uploads/sites/3/2026/01/Open-Jams-Poster-OFF-CAMPUS-NO-QR.png
END:VEVENT
END:VCALENDAR