BEGIN:VCALENDAR
VERSION:2.0
PRODID:-//Laramie Events - ECPv6.15.17.1//NONSGML v1.0//EN
CALSCALE:GREGORIAN
METHOD:PUBLISH
X-ORIGINAL-URL:https://laramieevents.com
X-WR-CALDESC:Events for Laramie Events
REFRESH-INTERVAL;VALUE=DURATION:PT1H
X-Robots-Tag:noindex
X-PUBLISHED-TTL:PT1H
BEGIN:VTIMEZONE
TZID:America/Denver
BEGIN:DAYLIGHT
TZOFFSETFROM:-0700
TZOFFSETTO:-0600
TZNAME:MDT
DTSTART:20250309T090000
END:DAYLIGHT
BEGIN:STANDARD
TZOFFSETFROM:-0600
TZOFFSETTO:-0700
TZNAME:MST
DTSTART:20251102T080000
END:STANDARD
BEGIN:DAYLIGHT
TZOFFSETFROM:-0700
TZOFFSETTO:-0600
TZNAME:MDT
DTSTART:20260308T090000
END:DAYLIGHT
BEGIN:STANDARD
TZOFFSETFROM:-0600
TZOFFSETTO:-0700
TZNAME:MST
DTSTART:20261101T080000
END:STANDARD
BEGIN:DAYLIGHT
TZOFFSETFROM:-0700
TZOFFSETTO:-0600
TZNAME:MDT
DTSTART:20270314T090000
END:DAYLIGHT
BEGIN:STANDARD
TZOFFSETFROM:-0600
TZOFFSETTO:-0700
TZNAME:MST
DTSTART:20271107T080000
END:STANDARD
END:VTIMEZONE
BEGIN:VEVENT
DTSTART;TZID=America/Denver:20260321T110000
DTEND;TZID=America/Denver:20260321T160000
DTSTAMP:20260423T180157
CREATED:20260313T160300Z
LAST-MODIFIED:20260313T160300Z
UID:10009977-1774090800-1774108800@laramieevents.com
SUMMARY:Black Tooth Brewing Chili Cook Off
DESCRIPTION:Black Tooth Brewing\, 108 Grand in Laramie is holding a red and green chilli cook off March 21st. It’s $10 to enter or taste the entries. To sign up\, email andy@btbrew.com or stop by the bar. See the flier below for more details
URL:https://laramieevents.com/event/black-tooth-brewing-chili-cook-off/
ATTACH;FMTTYPE=image/jpeg:https://laramieevents.com/wp-content/uploads/sites/3/2026/03/Image.jpeg
END:VEVENT
BEGIN:VEVENT
DTSTART;TZID=America/Denver:20260321T130000
DTEND;TZID=America/Denver:20260321T140000
DTSTAMP:20260423T180157
CREATED:20260212T203649Z
LAST-MODIFIED:20260212T203649Z
UID:10008464-1774098000-1774101600@laramieevents.com
SUMMARY:Kids Lego Time At Albany Co. Public Library in Laramie
DESCRIPTION:From the event organizer: \nCalling all Lego builders! We provide the Legos\, you provide the imagination. Program for children in grades K-6th. Every Saturday 1-2pm in the Laramie Library’s Wyoming Room
URL:https://laramieevents.com/event/kids-lego-time-at-albany-co-public-library-in-laramie/2026-03-21/
END:VEVENT
BEGIN:VEVENT
DTSTART;TZID=America/Denver:20260321T190000
DTEND;TZID=America/Denver:20260321T213000
DTSTAMP:20260423T180157
CREATED:20260312T021829Z
LAST-MODIFIED:20260312T021829Z
UID:10009976-1774119600-1774128600@laramieevents.com
SUMMARY:Comedy The Cares: Matt Bergman
DESCRIPTION:Date: March 21\nTime: Doors at 7\, show at 7:30\nLocation: The Collective\nTickets required – see this link \nBeverages (adult and non-adult) will be available for purchase \nAll proceeds support Laramie Main Street Alliance and a thriving downtown!
URL:https://laramieevents.com/event/comedy-the-cares-matt-bergman/
ATTACH;FMTTYPE=image/png:https://laramieevents.com/wp-content/uploads/sites/3/2026/03/Capture.png
END:VEVENT
END:VCALENDAR