BEGIN:VCALENDAR
VERSION:2.0
PRODID:-//Laramie Events - ECPv6.15.17.1//NONSGML v1.0//EN
CALSCALE:GREGORIAN
METHOD:PUBLISH
X-ORIGINAL-URL:https://laramieevents.com
X-WR-CALDESC:Events for Laramie Events
REFRESH-INTERVAL;VALUE=DURATION:PT1H
X-Robots-Tag:noindex
X-PUBLISHED-TTL:PT1H
BEGIN:VTIMEZONE
TZID:America/Denver
BEGIN:DAYLIGHT
TZOFFSETFROM:-0700
TZOFFSETTO:-0600
TZNAME:MDT
DTSTART:20250309T090000
END:DAYLIGHT
BEGIN:STANDARD
TZOFFSETFROM:-0600
TZOFFSETTO:-0700
TZNAME:MST
DTSTART:20251102T080000
END:STANDARD
BEGIN:DAYLIGHT
TZOFFSETFROM:-0700
TZOFFSETTO:-0600
TZNAME:MDT
DTSTART:20260308T090000
END:DAYLIGHT
BEGIN:STANDARD
TZOFFSETFROM:-0600
TZOFFSETTO:-0700
TZNAME:MST
DTSTART:20261101T080000
END:STANDARD
BEGIN:DAYLIGHT
TZOFFSETFROM:-0700
TZOFFSETTO:-0600
TZNAME:MDT
DTSTART:20270314T090000
END:DAYLIGHT
BEGIN:STANDARD
TZOFFSETFROM:-0600
TZOFFSETTO:-0700
TZNAME:MST
DTSTART:20271107T080000
END:STANDARD
END:VTIMEZONE
BEGIN:VEVENT
DTSTART;TZID=America/Denver:20260306T023000
DTEND;TZID=America/Denver:20260306T173000
DTSTAMP:20260423T175626
CREATED:20260212T204325Z
LAST-MODIFIED:20260303T174817Z
UID:10008720-1772764200-1772818200@laramieevents.com
SUMMARY:Friends Of Albany Co. Public Library Book Sale
DESCRIPTION:From the organizers:\nMARK YOUR CALENDARS! The Friends of the Albany County Public Library SPRING BOOK SALE is blowing in soon – Friday\, March 6-Monday\, March 9\, 2026! Members only\, March 6; Open to the Public\, March 7-9. Hunt for bargains like a lion; take home some sweet as a lamb deals! Get ready for your spring reading! \nSee the flier below for more info
URL:https://laramieevents.com/event/friends-of-albany-co-public-library-book-sale/2026-03-06/
END:VEVENT
BEGIN:VEVENT
DTSTART;TZID=America/Denver:20260306T120000
DTEND;TZID=America/Denver:20260306T133000
DTSTAMP:20260423T175626
CREATED:20260220T163603Z
LAST-MODIFIED:20260220T181816Z
UID:10009218-1772798400-1772803800@laramieevents.com
SUMMARY:Laramie Young Professionals: Pathways to Board Service
DESCRIPTION:Curious about nonprofit board service? Join us for a lunchtime session featuring a training on board fundamentals led by Jody Shields of the Wyoming Nonprofit Network\, followed by a panel discussion with local nonprofit professionals and board members. \nWhether you’re exploring the idea or ready to take the next step\, this session will demystify what it really means to serve and help you discover your path to community impact. \nLunch will be provided • Register at this link to reserve your spot.
URL:https://laramieevents.com/event/laramie-young-professionals-pathways-to-board-service/
ATTACH;FMTTYPE=image/jpeg:https://laramieevents.com/wp-content/uploads/sites/3/2026/02/519051688_1162366129252031_6446733396957762795_n.jpg
END:VEVENT
BEGIN:VEVENT
DTSTART;TZID=America/Denver:20260306T173000
DTEND;TZID=America/Denver:20260306T190000
DTSTAMP:20260423T175626
CREATED:20260202T001905Z
LAST-MODIFIED:20260202T033202Z
UID:10007798-1772818200-1772823600@laramieevents.com
SUMMARY:Luau In Laradise
DESCRIPTION:Luau in Laradise 2026 is back! Join us at the Laramie Rec Center March 6th from 5:30pm-7:30pm for a Luau in Laradise. Activities include a bounce house\, bingo\, water corn hole\, hula hoop contest\, a scavenger hunt\, and more!\n*Luau/beach attire is encouraged.\n*Swimwear is required to enter the pools.\nLaramie Rec Center membership OR day-pass purchase required for entry.
URL:https://laramieevents.com/event/luau-in-laradise-2/
ATTACH;FMTTYPE=image/jpeg:https://laramieevents.com/wp-content/uploads/sites/3/2026/02/623380668_1313384594163352_3473576739833669889_n.jpg
END:VEVENT
END:VCALENDAR